Workbook

Sheet Drainagen
A1: Lista Reparasaun e Conservasaun de Drainagen Iha Municipio Lautem
A2: No. | B2: Naran Projetu | C2: Lokal Atividade | F2: Planu Total (KM/M) | H2: Rezultadu atinjidu Trimestral (KM/M) | N2: Progresu fiziku ( %) | S2: Observasaun
C3: Posto | D3: Suco | E3: Aldeia
F4: Drainagen | H4: Drainazen | L4: Pontes | N4: Drainagen
H5: 1T | I5: 2T | J5: 3T | K5: 4T | N5: 1T | O5: 2T | P5: 3T | Q5: 4T
A6: Postu Lospalos
A7: 1 | B7: Lospalos - Souro | C7: Lospalos | D7: Soru | F7: 1345 | H7: 1345 | I7: 1345 | J7: 1345 | K7: =J7 -> 1345 | N7: =H7/F7 -> 1 | O7: =I7/F7 -> 1 | P7: =J7/F7 -> 1 | Q7: =K7/F7 -> 1
A8: =A7+1 -> 2 | B8: Leuro - Sorulua | C8: Lospalos | D8: Soru | F8: 799 | H8: 799 | I8: 799 | J8: 799 | K8: =J8 -> 799 | N8: =H8/F8 -> 1 | O8: =I8/F8 -> 1 | P8: =J8/F8 -> 1 | Q8: =K8/F8 -> 1
A9: =A8+1 -> 3 | B9: Fuiloro - Home | C9: Lospalos | D9: Home | F9: 1709.844 | H9: 1709.844 | I9: 1709.844 | J9: 1709.844 | K9: =J9 -> 1709.844 | N9: =H9/F9 -> 1 | O9: =I9/F9 -> 1 | P9: =J9/F9 -> 1 | Q9: =K9/F9 -> 1
A10: =A9+1 -> 4 | B10: Fuiloro - Home | C10: Lospalos | D10: Home | F10: 2090 | H10: 2090 | I10: 2090 | J10: 2090 | K10: =J10 -> 2090 | N10: =H10/F10 -> 1 | O10: =I10/F10 -> 1 | P10: =J10/F10 -> 1 | Q10: =K10/F10 -> 1
A11: =A10+1 -> 5 | B11: Fuiloro - Home | C11: Lospalos | D11: Home | F11: 114 | H11: 114 | I11: 114 | J11: 114 | K11: 114 | N11: =H11/F11 -> 1 | O11: =I11/F11 -> 1 | P11: =J11/F11 -> 1 | Q11: =K11/F11 -> 1 | S11: Ongoing
A12: =A11+1 -> 6 | B12: Fuiloro - Muapitin | C12: Lospalos | D12: Muapitin | F12: 1800 | H12: 1704 | I12: 1703.6 | J12: 1703.6 | K12: 1750 | N12: =H12/F12 -> 0.94666667 | O12: =I12/F12 -> 0.94644444 | P12: =J12/F12 -> 0.94644444 | Q12: =K12/F12 -> 0.97222222 | S12: Ongoing
A13: =A12+1 -> 7 | B13: Fuiloro - Muapitin | C13: Lospalos | D13: Muapitin | F13: 940 | H13: 940 | I13: 940 | J13: 940 | K13: 940 | N13: =H13/F13 -> 1 | O13: =I13/F13 -> 1 | P13: =J13/F13 -> 1 | Q13: =K13/F13 -> 1 | S13: Final Complation
A14: =A13+1 -> 8 | B14: Fuiloro - Muapitin | C14: Lospalos | D14: Muapitin | F14: 200 | H14: 200 | I14: 200 | J14: 200 | K14: 200 | N14: =H14/F14 -> 1 | O14: =I14/F14 -> 1 | P14: =J14/F14 -> 1 | Q14: =K14/F14 -> 1 | S14: Final Complation
A15: =A14+1 -> 9 | B15: Leuro - Sorulua | C15: Lospalos | D15: Soru | F15: =1663.4+60 -> 1723.4 | H15: 1723.4 | I15: 1723.4 | J15: 1723.4 | K15: =J15 -> 1723.4 | N15: =H15/F15 -> 1 | O15: =I15/F15 -> 1 | P15: =J15/F15 -> 1 | Q15: =K15/F15 -> 1
A16: =A15+1 -> 10 | B16: Souro - Luturula | C16: Lospalos | D16: Soru | F16: 2400 | H16: 2400 | I16: 2400 | J16: 2400 | K16: =J16 -> 2400 | N16: =H16/F16 -> 1 | O16: =I16/F16 -> 1 | P16: =J16/F16 -> 1 | Q16: =K16/F16 -> 1
A17: =A16+1 -> 11 | B17: Souro - Nairete | C17: Lospalos | D17: Soru | F17: 3400 | H17: 3400 | I17: 3400 | J17: 3400 | K17: =J17 -> 3400 | N17: =H17/F17 -> 1 | O17: =I17/F17 -> 1 | P17: =J17/F17 -> 1 | Q17: =K17/F17 -> 1
A18: =A17+1 -> 12 | B18: Trisula - KaIcavamoko | C18: Lospalos | D18: Fuiloro | F18: =1663.4+106 -> 1769.4 | H18: 1769.4 | I18: 1769.4 | J18: 1769.4 | K18: =J18 -> 1769.4 | N18: =H18/F18 -> 1 | O18: =I18/F18 -> 1 | P18: =J18/F18 -> 1 | Q18: =K18/F18 -> 1
A19: Sub Total A | F19: =SUM(F7:F18) -> 18290.644 | H19: =SUM(H7:H18) -> 18194.644 | I19: =SUM(I7:I18) -> 18194.244 | J19: =SUM(J7:J18) -> 18194.244 | K19: =J19 -> 18194.244 | N19: =SUM(N7:N18)/12 -> 0.99555556 | O19: =SUM(O7:O18)/12 -> 0.99553704 | P19: =SUM(P7:P18)/12 -> 0.99553704 | Q19: =SUM(Q7:Q18)/12 -> 0.99768519
A20: Postu Lautem
A21: =A18+1 -> 13 | B21: Dasidara - Lequidiga | C21: Lautem | D21: Ililai | F21: 1205 | H21: 1205 | I21: 1205 | J21: 1205 | K21: =J21 -> 1205 | N21: =H21/F21 -> 1 | O21: =I21/F21 -> 1 | P21: =J21/F21 -> 1 | Q21: =K21/F21 -> 1 | S21: Final Complation
A22: =A21+1 -> 14 | B22: Dasidara - Lequidiga | C22: Lautem | D22: Ililai | F22: 1132.9 | H22: 1133 | I22: 1133 | J22: 1133 | K22: 1133 | N22: =H22/F22 -> 1.0000883 | O22: =I22/F22 -> 1.0000883 | P22: =J22/F22 -> 1.0000883 | Q22: =K22/F22 -> 1.0000883 | S22: Final Complation
A23: =A22+1 -> 15 | B23: Maina I - Parlamentu | C23: Lautem | D23: Parlamentu | F23: =5264+168 -> 5432 | H23: 5432 | I23: =5264+168 -> 5432 | J23: 5432 | K23: =J23 -> 5432 | N23: =H23/F23 -> 1 | O23: =I23/F23 -> 1 | P23: =J23/F23 -> 1 | Q23: =K23/F23 -> 1
A24: =A23+1 -> 16 | B24: Laivai - Wairoke | C24: Lautem | D24: Laivai | F24: =4568+356 -> 4924 | H24: 4924 | I24: =4568+356 -> 4924 | J24: 4924 | K24: =J24 -> 4924 | N24: =H24/F24 -> 1 | O24: =I24/F24 -> 1 | P24: =J24/F24 -> 1 | Q24: =K24/F24 -> 1
A25: =A24+1 -> 17 | B25: Caicawamoko - Com | C25: Lautem | D25: Com | F25: =1116+601 -> 1717 | H25: 1717 | I25: =1116+601 -> 1717 | J25: 1717 | K25: =J25 -> 1717 | N25: =H25/F25 -> 1 | O25: =I25/F25 -> 1 | P25: =J25/F25 -> 1 | Q25: =K25/F25 -> 1
A26: =A25+1 -> 18 | B26: Laleno - Soruwaku | C26: Lautem | D26: Maina II | F26: 9725 | H26: 9725 | I26: =F26 -> 9725 | J26: =F26 -> 9725 | K26: =F26 -> 9725 | N26: =H26/F26 -> 1 | O26: =I26/F26 -> 1 | P26: =J26/F26 -> 1 | Q26: =K26/F26 -> 1
A27: Sub Total B | F27: =SUM(F21:F26) -> 24135.9 | H27: =SUM(H21:H26) -> 24136 | I27: =SUM(I21:I26) -> 24136 | J27: =SUM(J21:J26) -> 24136 | K27: =SUM(K21:K26) -> 24136 | N27: =SUM(N21:N26)/6 -> 1.0000147 | O27: =SUM(O21:O26)/6 -> 1.0000147 | P27: =SUM(P21:P26)/6 -> 1.0000147 | Q27: =SUM(Q21:Q26)/6 -> 1.0000147
A28: Postu Tutuala
A29: =A26+1 -> 19 | B29: Tutuala - Walu | C29: Tutuala | D29: Tutuala | F29: 3953.5 | H29: 3953.5 | I29: =H29 -> 3953.5 | J29: =I29 -> 3953.5 | K29: =J29 -> 3953.5 | N29: =H29/F29 -> 1 | O29: =I29/F29 -> 1 | P29: =J29/F29 -> 1 | Q29: =K29/F29 -> 1
A30: =A29+1 -> 20 | B30: Tutuala - Walu | C30: Tutuala | D30: Tutuala | F30: =1451+448 -> 1899 | H30: 1899 | I30: 1899 | J30: 1899 | K30: =J30 -> 1899 | N30: =H30/F30 -> 1 | O30: =I30/F30 -> 1 | P30: =J30/F30 -> 1 | Q30: =K30/F30 -> 1
A31: Sub Total C | F31: =SUM(F29:F30) -> 5852.5 | H31: =SUM(H29:H30) -> 5852.5 | I31: =SUM(I29:I30) -> 5852.5 | J31: =SUM(J29:J30) -> 5852.5 | K31: =SUM(K29:K30) -> 5852.5 | N31: =SUM(N29:N30)/2 -> 1 | O31: =SUM(O29:O30)/2 -> 1 | P31: =SUM(P29:P30)/2 -> 1 | Q31: =SUM(Q29:Q30)/2 -> 1
A32: Postu Luro
A33: =A30+1 -> 21 | B33: Luro - Barikafa | C33: Luro | D33: Barikafa | F33: 6261 | H33: 6261 | I33: 6261 | J33: 6261 | K33: =J33 -> 6261 | N33: =H33/F33 -> 1 | O33: =I33/F33 -> 1 | P33: =J33/F33 -> 1 | Q33: =K33/F33 -> 1
A34: =A33+1 -> 22 | B34: Luro - Barikafa | C34: Luro | D34: Barikafa | F34: 2786 | H34: 2786 | I34: 2786 | J34: 2786 | K34: =J34 -> 2786 | N34: =H34/F34 -> 1 | O34: =I34/F34 -> 1 | P34: =J34/F34 -> 1 | Q34: =K34/F34 -> 1
A35: =A34+1 -> 23 | B35: Luro - Barikafa | C35: Luro | D35: Barikafa | F35: 275 | H35: 275 | I35: =F35 -> 275 | J35: =F35 -> 275 | K35: =J35 -> 275 | N35: =H35/F35 -> 1 | O35: =I35/F35 -> 1 | P35: =J35/F35 -> 1 | Q35: =K35/F35 -> 1
A36: =A35+1 -> 24 | B36: Luro - Lakawa | C36: Luro | D36: Lakawa | F36: 2783 | H36: 2783 | I36: 2783 | J36: 2783 | K36: =J36 -> 2783 | N36: =H36/F36 -> 1 | O36: =I36/F36 -> 1 | P36: =J36/F36 -> 1 | Q36: =K36/F36 -> 1
A37: =A36+1 -> 25 | B37: Luro- Lakawa | C37: Luro | D37: Lakawa | F37: 182 | H37: 182 | I37: =F37 -> 182 | J37: =F37 -> 182 | K37: =J37 -> 182 | N37: =H37/F37 -> 1 | O37: =I37/F37 -> 1 | P37: =J37/F37 -> 1 | Q37: =K37/F37 -> 1
A38: =A37+1 -> 26 | B38: Lakawa - Wairoke | C38: Luro | D38: Lakawa | F38: 2300 | H38: 1004 | I38: 1300 | J38: 1310 | K38: 1310 | N38: =H38/F38 -> 0.43652174 | O38: =I38/F38 -> 0.56521739 | P38: =J38/F38 -> 0.56956522 | Q38: =K38/F38 -> 0.56956522 | S38: Ongoing
A39: Sub Total D | F39: =SUM(F33:F38) -> 14587 | H39: =SUM(H33:H38) -> 13291 | I39: =SUM(I33:I38) -> 13587 | J39: =SUM(J33:J38) -> 13597 | K39: =SUM(K33:K38) -> 13597 | N39: =SUM(N33:N38)/6 -> 0.90608696 | O39: =SUM(O33:O38)/6 -> 0.92753623 | P39: =SUM(P33:P38)/6 -> 0.92826087 | Q39: =SUM(Q33:Q38)/6 -> 0.92826087
A40: Postu Iliomar
A41: 27 | B41: Apatmutu - Larimi - Kanfuru | C41: Iliomar | D41: Cainleu | F41: 1650 | H41: 1650 | I41: 1650 | J41: 1650 | K41: =J41 -> 1650 | N41: =H41/F41 -> 1 | O41: =I41/F41 -> 1 | P41: =J41/F41 -> 1 | Q41: =K41/F41 -> 1
A42: =A41+1 -> 28 | B42: Apatmutu - Larimi - Kanfuru | C42: Iliomar | D42: Cainleu | F42: 1495 | H42: 1495 | I42: 1495 | J42: 1495 | K42: =J42 -> 1495 | N42: =H42/F42 -> 1 | O42: =I42/F42 -> 1 | P42: =J42/F42 -> 1 | Q42: =K42/F42 -> 1
A43: =A42+1 -> 29 | B43: Apatmutu - Larimi - Kanfuru | C43: Iliomar | D43: Cainleu | F43: 1225 | H43: 1225 | I43: 1225 | J43: 1225 | K43: =J43 -> 1225 | N43: =H43/F43 -> 1 | O43: =I43/F43 -> 1 | P43: =J43/F43 -> 1 | Q43: =K43/F43 -> 1
A44: =A43+1 -> 30 | B44: Apatmutu - Larimi - Kanfuru | C44: Iliomar | D44: Cainleu | F44: 1532 | H44: 1532 | I44: 1532 | J44: 1532 | K44: =J44 -> 1532 | N44: =H44/F44 -> 1 | O44: =I44/F44 -> 1 | P44: =J44/F44 -> 1 | Q44: =K44/F44 -> 1
A45: =A44+1 -> 31 | B45: Caidawalarin - Liafalun | C45: Iliomar | D45: Cainleu | F45: 1725 | H45: 1725 | I45: 1725 | J45: 1725 | K45: =J45 -> 1725 | N45: =H45/F45 -> 1 | O45: =I45/F45 -> 1 | P45: =J45/F45 -> 1 | Q45: =K45/F45 -> 1
A46: =A45+1 -> 32 | B46: Cainleu - Larisula | C46: Iliomar | D46: Cainleu | F46: 1190 | H46: 1190 | I46: 1190 | J46: 1190 | K46: 1190 | N46: =H46/F46 -> 1 | O46: =I46/F46 -> 1 | P46: =J46/F46 -> 1 | Q46: =K46/F46 -> 1 | S46: Oingoing
A47: =A46+1 -> 33 | B47: Cainleu - Larisula | C47: Iliomar | D47: Cainleu | F47: 2100 | H47: 1188 | I47: 1644 | J47: 1650 | K47: 1655 | N47: =H47/F47 -> 0.56571429 | O47: =I47/F47 -> 0.78285714 | P47: =J47/F47 -> 0.78571429 | Q47: =K47/F47 -> 0.78809524 | S47: Oingoing
A48: =A47+1 -> 34 | B48: Cainleu - Larisula | C48: Iliomar | D48: Cainleu | F48: 1350 | H48: 765.67 | I48: 1350 | J48: 1350 | K48: 1350 | N48: =H48/F48 -> 0.56716296 | O48: =I48/F48 -> 1 | P48: =J48/F48 -> 1 | Q48: =K48/F48 -> 1 | S48: Oingoing
A49: =A48+1 -> 35 | B49: Cainleu - Larisula | C49: Iliomar | D49: Cainleu | F49: 1377 | H49: 1190 | I49: 1377 | J49: 1377 | K49: 1377 | N49: =H49/F49 -> 0.86419753 | O49: =I49/F49 -> 1 | P49: =J49/F49 -> 1 | Q49: =K49/F49 -> 1 | S49: Oingoing
A50: Sub Total E | F50: =SUM(F41:F49) -> 13644 | H50: =SUM(H41:H49) -> 11960.67 | I50: =SUM(I41:I49) -> 13188 | J50: =SUM(J41:J49) -> 13194 | K50: =SUM(K41:K49) -> 13199 | N50: =SUM(N41:N49)/9 -> 0.88856386 | O50: =SUM(O41:O49)/9 -> 0.97587302 | P50: =SUM(P41:P49)/9 -> 0.97619048 | Q50: =SUM(Q41:Q49)/9 -> 0.97645503
A51: Posto Lore
A52: =A49+1 -> 36 | B52: Lore I - Chai | C52: Lore | D52: Chai | F52: 2500 | H52: 755 | I52: 832 | J52: 898 | K52: 950 | N52: =H52/F52 -> 0.302 | O52: =I52/F52 -> 0.3328 | P52: =J52/F52 -> 0.3592 | Q52: =K52/F52 -> 0.38 | S52: Ongoing
A53: =A52+1 -> 37 | B53: Lore I - Chai | C53: Lore | D53: Chai | F53: 1430 | H53: 465 | I53: 1000 | J53: 1000 | K53: 1223 | N53: =H53/F53 -> 0.32517483 | O53: =I53/F53 -> 0.6993007 | P53: =J53/F53 -> 0.6993007 | Q53: =K53/F53 -> 0.85524476 | S53: Ongoing
A54: Sub Total F | F54: =SUM(F52:F53) -> 3930 | H54: =SUM(H52:H53) -> 1220 | I54: =SUM(I52:I53) -> 1832 | J54: =SUM(J52:J53) -> 1898 | K54: =SUM(K52:K53) -> 2173 | N54: =SUM(N52:N53)/2 -> 0.31358741 | O54: =SUM(O52:O53)/2 -> 0.51605035 | P54: =SUM(P52:P53)/2 -> 0.52925035 | Q54: =SUM(Q52:Q53)/2 -> 0.61762238
B55: Total I | F55: =SUM(F54+F50+F39+F31+F27+F19) -> 80440.044 | H55: =SUM(H54+H50+H39+H31+H27+H19) -> 74654.814 | I55: =SUM(I54+I50+I39+I31+I27+I19) -> 76789.744 | J55: =SUM(J54+J50+J39+J31+J27+J19) -> 76871.744 | K55: =K54+K50+K39+K31+K27+K19 -> 77151.744 | N55: =SUM(N54+N50+N39+N31+N27+N19)/6 -> 0.85063475 | O55: =SUM(O54+O50+O39+O31+O27+O19)/6 -> 0.90250189 | P55: =SUM(P54+P50+P39+P31+P27+P19)/6 -> 0.90487557 | Q55: =SUM(Q54+Q50+Q39+Q31+Q27+Q19)/6 -> 0.92000636
B56: Total II | F56: =F55/1000 -> 80.440044 | H56: =H55/1000 -> 74.654814 | I56: =I55/1000 -> 76.789744 | J56: =J55/1000 -> 76.871744 | K56: =K55/1000 -> 77.151744 | N56: =N55 -> 0.85063475 | O56: =O55 -> 0.90250189 | P56: =P55 -> 0.90487557 | Q56: =Q55 -> 0.92000636

Sheet SUMARIU
A1: SUMARIU DRAINAGEN MUNICIPIO LAUTEM IHA PROSESU REHABILITASAUN
A3: Postu Administrativo | B3: Ttl Length | D3: Progress Length | F3: Balance Length
B4: (M) | C4: (KM) | D4: (M) | E4: (KM) | F4: (M) | G4: (KM)
A5: Lospalos | B5: =Drainagen!F19 -> 18290.644 | C5: =B5/1000 -> 18.290644 | D5: =Drainagen!K19 -> 18194.244 | E5: =D5/1000 -> 18.194244 | F5: =B5-D5 -> 96.4 | G5: =C5-E5 -> 0.0964
A6: Lautem | B6: =D6 -> 24136 | C6: =B6/1000 -> 24.136 | D6: =Drainagen!K27 -> 24136 | E6: =D6/1000 -> 24.136 | F6: =B6-D6 -> 0 | G6: =C6-E6 -> 0
A7: Tutuala | B7: =Drainagen!F31 -> 5852.5 | C7: =B7/1000 -> 5.8525 | D7: =Drainagen!K31 -> 5852.5 | E7: =D7/1000 -> 5.8525 | F7: =B7-D7 -> 0 | G7: =C7-E7 -> 0
A8: Luro | B8: =Drainagen!F39 -> 14587 | C8: =B8/1000 -> 14.587 | D8: =Drainagen!K39 -> 13597 | E8: =D8/1000 -> 13.597 | F8: =B8-D8 -> 990 | G8: =C8-E8 -> 0.99
A9: Iliomar | B9: =Drainagen!F50 -> 13644 | C9: =B9/1000 -> 13.644 | D9: =Drainagen!K50 -> 13199 | E9: =D9/1000 -> 13.199 | F9: =B9-D9 -> 445 | G9: =C9-E9 -> 0.445
A10: Lore | B10: =Drainagen!F54 -> 3930 | C10: =B10/1000 -> 3.93 | D10: =Drainagen!K54 -> 2173 | E10: =D10/1000 -> 2.173 | F10: =B10-D10 -> 1757 | G10: =C10-E10 -> 1.757
A11: Grand total | B11: =SUM(B5:B10) -> 80440.144 | C11: =SUM(C5:C10) -> 80.440144 | D11: =SUM(D5:D10) -> 77151.744 | E11: =SUM(E5:E10) -> 77.151744 | F11: =SUM(F5:F10) -> 3288.4 | G11: =SUM(G5:G10) -> 3.2884
