Workbook

Sheet SUM
B2: Municipality | C2: Total Length (Km) | D2: Good Asphalt (Km) | E2: Bad Asphalt (Km) | F2: Good Concrete (Km) | G2: Bad Concrete (Km) | H2: Gravel
B3: Lautem | C3: =LAUTEM!D66 -> 40.719579 | D3: - | E3: =LAUTEM!D67 -> 14.947949 | F3: - | G3: - | H3: =LAUTEM!D68 -> 25.77163
B4: Viqueque | C4: =VIQUEQUE!D39 -> 16.853224 | D4: =VIQUEQUE!D40 -> 9.0058514 | E4: - | F4: - | G4: - | H4: =VIQUEQUE!D41 -> 7.847373
B5: Covalima | C5: =COVALIMA!D53 -> 45.897042 | D5: =COVALIMA!D54 -> 22.907164 | E5: =COVALIMA!D55 -> 5.7233114 | F5: - | G5: - | H5: =COVALIMA!D56 -> 17.266567
B6: Dili | C6: =DILI!D907 -> 324.27601 | D6: =DILI!D908 -> 171.12708 | E6: =DILI!D910 -> 6.0776053 | F6: =DILI!D909 -> 2.1490303 | G6: - | H6: =DILI!D911 -> 144.9223 | M6: =0.2*1*213 -> 42.6
B7: Baucau | C7: =BAUCAU!D67 -> 59.440702 | D7: =BAUCAU!D69 -> 14.337341 | E7: =BAUCAU!D68 -> 1.5151335 | F7: =BAUCAU!D70 -> 1.0990685 | G7: - | H7: =BAUCAU!D71 -> 42.489159 | M7: =0.25*0.8*213*2 -> 85.2
B8: Aileu | C8: =AILEU!D57 -> 20.639372 | D8: - | E8: =AILEU!D58 -> 4.0117541 | F8: - | G8: - | H8: =AILEU!D59 -> 16.627618 | M8: 124
B9: Manatuto | C9: =MANATUTO!D47 -> 30.407874 | D9: =MANATUTO!D48 -> 21.454867 | F9: =MANATUTO!D49 -> 0.188659 | G9: - | H9: =MANATUTO!D50 -> 8.7643489 | M9: 194 | N9: 213
B10: Ainaro | C10: =AINARO!D53 -> 31.015264 | D10: =AINARO!D55 -> 1.2448191 | E10: =AINARO!D54 -> 12.749069 | F10: =AINARO!D56 -> 1.9036354 | G10: - | H10: =AINARO!D57 -> 15.117741
B11: Atauro | C11: =ATAURO!D35 -> 12.394108 | D11: - | E11: - | F11: - | G11: - | H11: =ATAURO!D37 -> 12.394108
B12: Ermera | C12: =ERMERA!D74 -> 29.021092 | D12: =ERMERA!D75 -> 6.5427283 | E12: - | F12: - | G12: - | H12: =ERMERA!D76 -> 22.478363
B13: Liquica | C13: =LIQUICA!D90 -> 41.51269 | D13: =LIQUICA!D91 -> 6.0967648 | E13: =LIQUICA!D92 -> 2.3939435 | F13: - | G13: - | H13: =LIQUICA!D93 -> 33.021981
B14: Bobonaro | C14: =BOBONARO!D88 -> 47.082807 | D14: =BOBONARO!D89 -> 1.8708079 | E14: =BOBONARO!D90 -> 4.0614429 | F14: - | G14: - | H14: =BOBONARO!D91 -> 41.150556
B15: Manufahi | C15: =MANUFAHI!D65 -> 59.78175 | D15: =MANUFAHI!D66 -> 29.639994 | F15: =MANUFAHI!D67 -> 0.2709496 | G15: - | H15: =MANUFAHI!D68 -> 29.870806
B16: Total | C16: =SUM(C3:C15) -> 759.04152 | D16: =SUM(D3:D15) -> 284.22742 | E16: =SUM(E3:E15) -> 51.480208 | F16: =SUM(F3:F15) -> 5.6113428 | G16: =SUM(G3:G15) -> 0 | H16: =SUM(H3:H15) -> 417.72255

Sheet LAUTEM
B2: DADUS ESTRADA URBANA MUNICIPIO LAUTEM
B3: No. & Waypoint | C3: Link Name | D3: Link | E3: Post. Admin | F3: Municipality | G3: Coordinate Location (Decimal Degree) | K3: Existing Link | O3: Code Class | P3: Status | Q3: DESCRIPTION
G4: Start Point | I4: End Point | K4: Surface Type | L4: Condition | M4: Length (km) | N4: Width (m)
G5: Latitude | H5: Longitude | I5: Latitude | J5: Longitude
B6: 1 | C6: Rua Pato | D6: Urban Road | F6: Lautem | G6: -8.4922151 | H6: 126.99262 | I6: -8.5035514 | J6: 127.0075 | K6: Gravel | L6: Poor | M6: 2.9616479 | N6: 6 | Q6: -
B7: 2 | C7: Rua Tronsus 1979 | D7: Urban Road | F7: Lautem | G7: -8.5035525 | H7: 127.0075 | I7: -8.5215248 | J7: 126.99923 | K7: Existing Asphalt | L7: Poor | M7: 2.3214896 | N7: 9 | Q7: -
B8: 3 | C8: Rua Heler | D8: Urban Road | F8: Lautem | G8: -8.5226287 | H8: 126.99606 | I8: -8.5161486 | J8: 127.00737 | K8: Existing Asphalt | L8: Poor | M8: 1.476817 | N8: 5.3 | Q8: Existing Side Walk & Drainage LR/S
B9: 4 | C9: Bemoris II | D9: Urban Road | F9: Lautem | G9: -8.5150874 | H9: 127.00183 | I9: -8.5175384 | J9: 127.00599 | K9: Existing Asphalt | L9: Poor | M9: 0.53317031 | N9: 3.5 | Q9: -
B10: 5 | C10: Rua Bemoris I | D10: Urban Road | F10: Lautem | G10: -8.5167884 | H10: 126.99986 | I10: -8.5156023 | J10: 127.00285 | K10: Gravel | L10: Poor | M10: 0.44832359 | N10: 3 | Q10: -
B11: 6 | C11: Travessa Bemoris | D11: Urban Road | F11: Lautem | G11: -8.5153707 | H11: 127.00237 | I11: -8.517217 | J11: 127.00023 | K11: Gravel | L11: Poor | M11: 0.31234841 | N11: 3 | Q11: -
B12: 7 | C12: Rua Belta Tres | D12: Urban Road | F12: Lautem | G12: -8.518131 | H12: 126.99936 | I12: -8.5282478 | J12: 127.01341 | K12: Existing Asphalt | L12: Poor | M12: 1.9658316 | N12: 5 | Q12: -
B13: 8 | C13: Rua Herois Lereloho | D13: Urban Road | F13: Lautem | G13: -8.5247523 | H13: 126.99919 | I13: -8.5255629 | J13: 127.00651 | K13: Gravel | L13: Poor | M13: 1.0120175 | N13: 5 | Q13: -
B14: 9 | C14: Bairo Cina I | D14: Urban Road | F14: Lautem | G14: -8.5247539 | H14: 126.99919 | I14: -8.5245704 | J14: 126.99728 | K14: Existing Asphalt | L14: Poor | M14: 0.26022221 | N14: 5 | Q14: -
B15: 10 | C15: Bairo Cina II | D15: Urban Road | F15: Lautem | G15: -8.5245732 | H15: 126.99728 | I15: -8.5247536 | J15: 126.99919 | K15: Existing Asphalt | L15: Poor | M15: 0.30035595 | N15: 5 | Q15: -
B16: 11 | C16: Rua Iliperekai | D16: Urban Road | F16: Lautem | G16: -8.524754 | H16: 126.99919 | I16: -8.521522 | J16: 126.99923 | K16: Existing Asphalt | L16: Poor | M16: 0.42030163 | N16: 4.2 | Q16: -
B17: 12 | C17: Travessa Liurai Veressimo | D17: Urban Road | F17: Lautem | G17: -8.5235022 | H17: 126.9972 | I17: -8.5218027 | J17: 126.99929 | K17: Existing Asphalt | L17: Poor | M17: 0.29718646 | N17: 4 | Q17: -
... B63: 58 | C63: P. Unnamed Road | D63: Urban Road | F63: Lautem | G63: -8.517687 | H63: 126.9909 | I63: -8.5135978 | J63: 126.99267 | K63: Gravel | L63: Poor | M63: 0.49413907 | N63: 3 | Q63: -
E65: RASIO (%)
C66: TOTAL Link (km) | D66: =SUM(M6:M63) -> 40.719579 | E66: =SUM(E67:E68) -> 1
C67: Bad Asphalt (km) | D67: =SUM(M7:M9,M12,M14:M26,M40:M41,M50,M62,M55:M56) -> 14.947949 | E67: =D67/D66 -> 0.36709487
C68: Gravel (km) | D68: =D66-D67 -> 25.77163 | E68: =D68/D66 -> 0.63290513

Sheet VIQUEQUE
B2: GENERAL DESCRIPTION OF ROAD
B3: No. & Waypoint | C3: Link Name | D3: Link | E3: Post. Admin | F3: Municipality | G3: Coordinate Location (Decimal Degree) | K3: Existing Link | O3: Code Class | P3: Status | Q3: DESCRIPTION
G4: Start Point | I4: End Point | K4: Surface Type | L4: Condition | M4: Length (km) | N4: Width (m)
G5: Latitude | H5: Longitude | I5: Latitude | J5: Longitude
B6: 1 | C6: A1 Rua Lamac Laran | D6: Urban Road | F6: Viqueque | G6: -8.8683334 | H6: 126.37028 | I6: -8.8570038 | J6: 126.36807 | K6: Asphalt | L6: Good | M6: 1.475975 | N6: 5 | P6: Completed ( Urukai II, Unip. Lda 2017 )
B7: 2 | C7: A2 Rua Lamac Laran | D7: Urban Road | F7: Viqueque | G7: -8.8570056 | H7: 126.36807 | I7: -8.8513315 | J7: 126.37022 | K7: Gravel | L7: Poor | M7: 0.78182189 | N7: 4.2
B8: 3 | C8: A3 Beco Akadiru Lulik | D8: Urban Road | F8: Viqueque | G8: -8.8716221 | H8: 126.37436 | I8: -8.8715576 | J8: 126.37713 | K8: Gravel | L8: Poor | M8: 0.30937462 | N8: 3.8
B9: 4 | C9: A4 Rua Audian Matan | D9: Urban Road | F9: Viqueque | G9: -8.8716217 | H9: 126.37436 | I9: -8.8707247 | J9: 126.37049 | K9: Asphalt | L9: Good | M9: 0.5096566 | N9: 4.8 | P9: Completed ( Urukai II, Unip. Lda 2017 )
B10: 5 | C10: A5 Rua Luholaka | D10: Urban Road | F10: Viqueque | G10: -8.8821574 | H10: 126.37576 | I10: -8.8836537 | J10: 126.37392 | K10: Asphalt | L10: Good | M10: 0.26467041 | N10: 4.8 | P10: Completed ( Urukai II, Unip. Lda 2017 )
B11: 6 | C11: A6 Unnamed Road | D11: Urban Road | F11: Viqueque | G11: -8.8492896 | H11: 126.36621 | I11: -8.8607514 | J11: 126.36419 | K11: Asphalt | L11: Good | M11: 1.4510048 | N11: 5
B12: 7 | C12: A7 Unnamed Road | D12: Urban Road | F12: Viqueque | G12: -8.8584295 | H12: 126.36526 | I12: -8.857645 | J12: 126.36326 | K12: Asphalt | L12: Good | M12: 0.23623078 | N12: 5 | P12: Completed ( Urukai II, Unip. Lda 2017 )
B13: 8 | C13: A8 Unnamed Road | D13: Urban Road | F13: Viqueque | G13: -8.8565134 | H13: 126.36596 | I13: -8.8559441 | J13: 126.36359 | K13: Asphalt | L13: Good | M13: 0.26866301 | N13: 5
B14: 9 | C14: A9 Unnamed Road | D14: Urban Road | F14: Viqueque | G14: -8.8565577 | H14: 126.36348 | I14: -8.8549612 | J14: 126.3623 | K14: Asphalt | L14: Good | M14: 0.30782944 | N14: 5 | P14: Completed ( Urukai II, Unip. Lda 2017 )
B15: 10 | C15: B1 Unnamed Road | D15: Urban Road | F15: Viqueque | G15: -8.8552962 | H15: 126.36373 | I15: -8.8533517 | J15: 126.35548 | K15: Asphalt | L15: Good | M15: 0.98656845 | N15: 4.2 | P15: Completed ( Urukai II, Unip. Lda 2017 )
B16: 11 | C16: B2 Rua Lulik tuna | D16: Urban Road | F16: Viqueque | G16: -8.8534509 | H16: 126.35533 | I16: -8.8629879 | J16: 126.36259 | K16: Gravel | L16: Poor | M16: 1.9679774 | N16: 6
B17: 12 | C17: B3 Rua Mahuma | D17: Urban Road | F17: Viqueque | G17: -8.849765 | H17: 126.36553 | I17: -8.854161 | J17: 126.36077 | K17: Gravel | L17: Poor | M17: 1.0998825 | N17: 4
B18: 13 | C18: B4 Unnamed Road | D18: Urban Road | F18: Viqueque | G18: -8.8667748 | H18: 126.36548 | I18: -8.8672314 | J18: 126.3649 | K18: Asphalt | L18: Good | M18: 0.081412389 | N18: 5.5
B19: 14 | C19: B5 Unnamed Road | D19: Urban Road | F19: Viqueque | G19: -8.8668114 | H19: 126.3656 | I19: -8.8673194 | J19: 126.36498 | K19: Asphalt | L19: Good | M19: 0.088420115 | N19: 5.5
B20: 15 | C20: B6 Rua Ba'i Metak | D20: Urban Road | F20: Viqueque | G20: -8.8694302 | H20: 126.36671 | I20: -8.8663557 | J20: 126.36418 | K20: Asphalt | L20: Good | M20: 0.44014272 | N20: 6
B21: 16 | C21: B7 Rua Borracha Laran I | D21: Urban Road | F21: Viqueque | G21: -8.8695539 | H21: 126.36682 | I21: -8.8712022 | J21: 126.36875 | K21: Gravel | L21: Poor | M21: 0.28692009 | N21: 4.5
B22: 17 | C22: B8 Rua Borracha Laran II | D22: Urban Road | F22: Viqueque | G22: -8.870127 | H22: 126.36724 | I22: -8.8698301 | J22: 126.36785 | K22: Gravel | L22: Poor | M22: 0.07476106 | N22: 3.4
B23: 18 | C23: B9 Travessa Ai Nora Mahan | D23: Urban Road | F23: Viqueque | G23: -8.8708126 | H23: 126.36821 | I23: -8.8691525 | J23: 126.36724 | K23: Gravel | L23: Poor | M23: 0.26034669 | N23: 3.4
B24: 19 | C24: C1 Unnamed Road | D24: Urban Road | F24: Viqueque | G24: -8.86756 | H24: 126.36777 | I24: -8.8704272 | J24: 126.3656 | K24: Asphalt | L24: Good | M24: 0.41321581 | N24: 5 | P24: Completed ( Urukai II, Unip. Lda 2017 )
B25: 20 | C25: C2 Rua Kasa Bada | D25: Urban Road | F25: Viqueque | G25: -8.8730456 | H25: 126.36443 | I25: -8.8700663 | J25: 126.36718 | K25: Asphalt | L25: Good | M25: 0.48851705 | N25: 5 | P25: Completed ( Urukai II, Unip. Lda 2017 )
B26: 21 | C26: C3 Rua Kabira Oan | D26: Urban Road | F26: Viqueque | G26: -8.8709439 | H26: 126.36597 | I26: -8.8673404 | J26: 126.36493 | K26: Asphalt | L26: Good | M26: 0.47641397 | N26: 5 | P26: Completed ( Urukai II, Unip. Lda 2017 )
B27: 22 | C27: C4 Rua We Auhanek | D27: Urban Road | F27: Viqueque | G27: -8.8687207 | H27: 126.36435 | I27: -8.8712908 | J27: 126.36534 | K27: Asphalt | L27: Good | M27: 0.39591952 | N27: 5 | P27: Completed ( Urukai II, Unip. Lda 2017 )
B28: 23 | C28: C5 Travessa Bora Matan | D28: Urban Road | F28: Viqueque | G28: -8.8697139 | H28: 126.36498 | I28: -8.8707088 | J28: 126.36374 | K28: Asphalt | L28: Good | M28: 0.1751431 | N28: 5 | P28: Completed ( Urukai II, Unip. Lda 2017 )
B29: 24 | C29: C6 Travessa Raihun | D29: Urban Road | F29: Viqueque | G29: -8.8730453 | H29: 126.36434 | I29: -8.8701632 | J29: 126.36361 | K29: Asphalt | L29: Good | M29: 0.33674452 | N29: 5 | P29: Completed ( Urukai II, Unip. Lda 2017 )
B30: 25 | C30: C7 Rua Beobe | D30: Urban Road | F30: Viqueque | G30: -8.8748584 | H30: 126.36406 | I30: -8.880185 | J30: 126.36888 | K30: Gravel | L30: Poor | M30: 0.91332359 | N30: 5.1
B31: 26 | C31: C8 Rua LucaHun | D31: Urban Road | F31: Viqueque | G31: -8.8761272 | H31: 126.36492 | I31: -8.8780793 | J31: 126.36854 | K31: Gravel | L31: Poor | M31: 0.63910424 | N31: 3.8
B32: 27 | C32: C9 Travessa Teka Laran | D32: Urban Road | F32: Viqueque | G32: -8.8769253 | H32: 126.36688 | I32: -8.8759365 | J32: 126.36805 | K32: Gravel | L32: Poor | M32: 0.16962889 | N32: 3.4
B33: 28 | C33: D1 Travessa Betu Hun | D33: Urban Road | F33: Viqueque | G33: -8.8799014 | H33: 126.36621 | I33: -8.8766197 | J33: 126.36613 | K33: Gravel | L33: Poor | M33: 0.37008978 | N33: 4.1
B34: 29 | C34: D2 Rua We Kloha | D34: Urban Road | F34: Viqueque | G34: -8.876196 | H34: 126.36512 | I34: -8.8803542 | J34: 126.36843 | K34: Gravel | L34: Poor | M34: 0.97414232 | N34: 5.2
B35: 30 | C35: D3 Rua Boromata Raihun | D35: Urban Road | F35: Viqueque | G35: -8.8731163 | H35: 126.36432 | I35: -8.8692683 | J35: 126.36459 | K35: Asphalt | L35: Good | M35: 0.60932374 | N35: 4.5 | P35: Completed ( Urukai II, Unip. Lda 2017 )
B36: Total | M36: =SUM(M6:M35) -> 16.853224
E38: RASIO (%)
C39: TOTAL Link (km) | D39: =SUM(M6:M35) -> 16.853224 | E39: =SUM(E40:E41) -> 1
C40: Good Asphalt (km) | D40: =SUM(M6,M9,M10,M11,M12:M15,M18:M20,M24:M29,M35) -> 9.0058514 | E40: =D40/D39 -> 0.53436964
C41: Gravel (km) | D41: =SUM(M7:M8,M16:M17,M21:M23,M30:M34) -> 7.847373 | E41: =D41/D39 -> 0.46563036

Sheet COVALIMA
B2: GENERAL DESCRIPTION OF ROAD
B3: No. & Waypoint | C3: Link Name | D3: Link | E3: Post. Admin | F3: Municipality | G3: Coordinate Location (Decimal Degree) | K3: Existing Link | O3: Code Class | P3: Status | Q3: DESCRIPTION
G4: Start Point | I4: End Point | K4: Surface Type | L4: Condition | M4: Length (km) | N4: Width (m)
G5: Latitude | H5: Longitude | I5: Latitude | J5: Longitude
B6: 1 | C6: A1 Rua Santa Rosa | D6: Urban Road | F6: Covalima | G6: -9.3068596 | H6: 125.24979 | I6: -9.3081751 | J6: 125.25344 | K6: Gravel | L6: Poor | M6: 0.93917433 | N6: 4.5
B7: 2 | C7: A2 Rua Karin Wa 2 | D7: Urban Road | F7: Covalima | G7: -9.3044763 | H7: 125.25229 | I7: -9.3081092 | J7: 125.25295 | K7: Existing Asphalt | L7: Poor | M7: 0.4174657 | N7: 4.8
B8: 3 | C8: A3 Travessa Barout Mil | D8: Urban Road | F8: Covalima | G8: -9.3044763 | H8: 125.25227 | I8: -9.3012209 | J8: 125.2518 | K8: Gravel | L8: Poor | M8: 0.37776796 | N8: 3.5
B9: 4 | C9: A4 Travesa Foho Taroman | D9: Urban Road | F9: Covalima | G9: -9.3079385 | H9: 125.25128 | I9: -9.3059246 | J9: 125.25287 | K9: Existing Asphalt | L9: Poor | M9: 0.28563121 | N9: 5.4
B10: 5 | C10: A5 Rua Sukaer Laran | D10: Urban Road | F10: Covalima | G10: -9.3147932 | H10: 125.25697 | I10: -9.3100001 | J10: 125.25422 | K10: Existing Asphalt | L10: Poor | M10: 0.94777708 | N10: 4.7
B11: 6 | C11: A6 Rua Karin Wa 1 | D11: Urban Road | F11: Covalima | G11: -9.3095832 | H11: 125.25393 | I11: -9.3095383 | J11: 125.25517 | K11: Existing Asphalt | L11: Poor | M11: 0.18016317 | N11: 3.6
B12: 7 | C12: A7 Travessa Sukaer Ren | D12: Urban Road | F12: Covalima | G12: -9.3115628 | H12: 125.25512 | I12: -9.3110938 | J12: 125.25629 | K12: Gravel | L12: Poor | M12: 0.15678708 | N12: 4.2
B13: 8 | C13: A8 Travessa Hospital Referal Suai | D13: Urban Road | F13: Covalima | G13: -9.3142957 | H13: 125.25536 | I13: -9.3132281 | J13: 125.25656 | K13: Existing Asphalt | L13: Poor | M13: 0.23918443 | N13: 4.3
B14: 9 | C14: A9 Rua Jose de Araujo | D14: Urban Road | F14: Covalima | G14: -9.313551 | H14: 125.25354 | I14: -9.3110235 | J14: 125.24984 | K14: Existing Asphalt | L14: Poor | M14: 0.5471309 | N14: 5.3
B15: 10 | C15: A10 Beco We Ulun | D15: Urban Road | F15: Covalima | G15: -9.3127594 | H15: 125.25095 | I15: -9.3154625 | J15: 125.25078 | K15: Gravel | L15: Poor | M15: 0.30929538 | N15: 3.8
B16: 11 | C16: A11 Travessa We Marouk | D16: Urban Road | F16: Covalima | G16: -9.312175 | H16: 125.24752 | I16: -9.3122019 | J16: 125.24874 | K16: Existing Asphalt | L16: Poor | M16: 0.13516739 | N16: 4
B17: 12 | C17: A12 Travessa Tragedia de Lactos | D17: Urban Road | F17: Covalima | G17: -9.3099513 | H17: 125.25212 | I17: -9.310958 | J17: 125.25477 | K17: Existing Asphalt | L17: Poor | M17: 0.3840286 | N17: 5.2
... B50: 45 | C50: B22 Holbelis | D50: Urban Road | F50: Covalima | G50: -9.3109119 | H50: 125.29009 | I50: -9.3038183 | J50: 125.28852 | K50: Asphalt | L50: Good | M50: 0.80485842 | N50: 5
E52: RASIO (%)
C53: TOTAL Link (km) | D53: =SUM(M6:M50) -> 45.897042 | E53: =SUM(E54:E56) -> 1
C54: Good Asphalt (km) | D54: =SUM(M32:M50) -> 22.907164 | E54: =D54/D53 -> 0.49909892
C55: Bad Asphalt (Km) | D55: =SUM(M7,M9,M10,M11,M13,M14,M16,M17,M18,M19) -> 5.7233114 | E55: =D55/D53 -> 0.12469892
C56: Gravel (km) | D56: =D53-D54-D55 -> 17.266567 | E56: =D56/D53 -> 0.37620216

Sheet DILI
C1: MINISTÉRIO DAS OBRAS PÚBLICAS
C2: DIRECÇÃO GERAL DE ESTRADAS, PONTES, PREVENÇÃO E CONTROLO DE CHEIAS
C3: DIRECÇÃO NACIONAL DE PLANEAMENTO PESQUISA E DESENVOLVIMENTO
B4: DILI URBAN ROAD
A5: GENERAL DESCRIPTION OF ROAD
A6: No. | B6: Waypoint | C6: Link Name | D6: Link | E6: Municipality | F6: Adm. Post | G6: Coordinate Location (Decimal Degree) | K6: Existing Link | O6: Code Class | P6: Status | Q6: Description
G7: Start Point | I7: End Point | K7: Surface Type | L7: Condition | M7: Length (km) | N7: Width (m)
G8: Latitude | H8: Longitude | I8: Latitude | J8: Longitude
A9: 1 | B9: Qa | C9: Rua de Aidak Nurak | D9: Urban Road | E9: Dili | G9: -8.5619808 | H9: 125.52861 | I9: -8.5597123 | J9: 125.52632 | K9: Hotmix | L9: Good | M9: 0.49109232 | N9: 8
A10: 2 | B10: Qb | C10: Rua Travessa de Fatuk Laletek | D10: Urban Road | E10: Dili | G10: -8.5607013 | H10: 125.52622 | I10: -8.5609358 | J10: 125.52868 | K10: Hotmix | L10: Good | M10: 0.27189826 | N10: 7
A11: 3 | B11: Qc | C11: Travessa de Ai-Pau Tahan | D11: Urban Road | E11: Dili | G11: -8.5599304 | H11: 125.52807 | I11: -8.5618033 | J11: 125.52797 | K11: Hotmix | L11: Good | M11: 0.20763319 | N11: 5.4
A12: 4 | B12: Qd | C12: Qd. Unnamed Road | D12: Urban Road | E12: Dili | G12: -8.5599581 | H12: 125.52842 | I12: -8.5620135 | J12: 125.52828 | K12: Hotmix | L12: Good | M12: 0.22802599 | N12: 5.4
A13: 5 | B13: Qe | C13: Rua de Bilimbi Laran | D13: Urban Road | E13: Dili | G13: -8.5617065 | H13: 125.53044 | I13: -8.5574569 | J13: 125.5309 | K13: Hotmix & Gravel | L13: Good | M13: 0.47316405 | N13: 7.8
A14: 6 | B14: Qf | C14: Rua de Fatuk Lulik | D14: Urban Road | E14: Dili | G14: -8.5587783 | H14: 125.52639 | I14: -8.5613771 | J14: 125.53231 | K14: Hotmix & Gravel | L14: Good | M14: 0.93037868 | N14: 8
A15: 7 | B15: Qg | C15: Rua de Ai-Kakeu Laran | D15: Urban Road | E15: Dili | G15: -8.559385 | H15: 125.53232 | I15: -8.5539009 | J15: 125.53286 | K15: Hotmix & Gravel | L15: Good | M15: 0.61680237 | N15: 8
A16: 8 | B16: Qh | C16: Travessa da Mota Hare | D16: Urban Road | E16: Dili | G16: -8.5578545 | H16: 125.53173 | I16: -8.5579309 | J16: 125.53243 | K16: Gravel | L16: Bad | M16: 0.077084991 | N16: 5
A17: 9 | B17: Qi | C17: Travessa da Mota Klo'ot | D17: Urban Road | E17: Dili | G17: -8.5574541 | H17: 125.53177 | I17: -8.5575115 | J17: 125.53247 | K17: Gravel | L17: Bad | M17: 0.077364676 | N17: 5
A18: 10 | B18: Qj | C18: Travessa da Mota Masin | D18: Urban Road | E18: Dili | G18: -8.557033 | H18: 125.53182 | I18: -8.5571102 | J18: 125.53253 | K18: Gravel | L18: Bad | M18: 0.078563183 | N18: 4
A19: 11 | B19: Qk | C19: Rua de Fatuk Monu | D19: Urban Road | E19: Dili | G19: -8.5593091 | H19: 125.53148 | I19: -8.5566075 | J19: 125.53185 | K19: Gravel | L19: Bad | M19: 0.30173086 | N19: 5.5
A20: 12 | B20: Ql | C20: Ql. Unnamed Road | D20: Urban Road | E20: Dili | G20: -8.559268 | H20: 125.53104 | I20: -8.5575285 | J20: 125.5313 | K20: Gravel | L20: Bad | M20: 0.19718002 | N20: 4.5
... A148: 140 | B148: 5n | C148: Rua De Santa Cruz | D148: Urban Road | E148: Dili | G148: -8.567511 | H148: 125.58804 | I148: -8.5559401 | J148: 125.58287 | K148: Hotmix | L148: Good | M148: 1.4389155 | N148: 6
A149: 141 | B149: 5o | C149: Rua Da Resistencia | D149: Urban Road | E149: Dili | G149: -8.564708 | H149: 125.59427 | I149: -8.5590261 | J149: 125.59414 | K149: Gravel | L149: Bad | M149: 0.66673113 | N149: 4 | P149: Onggoing Construction (Star king Unip., Lda.)
A150: 142 | B150: 5p | C150: 5p. Unnamed Road | D150: Urban Road | E150: Dili | G150: -8.5692266 | H150: 125.58439 | I150: -8.5712123 | J150: 125.58435 | K150: Gravel | L150: Bad | M150: 0.22260393 | N150: 4
A151: 143 | B151: 5q | C151: 5q. Unnamed Road | D151: Urban Road | E151: Dili | G151: -8.5653166 | H151: 125.5904 | I151: -8.5627431 | J151: 125.58866 | K151: Gravel | L151: Bad | M151: 0.35752551 | N151: 2.5
A152: 144 | B152: 5r | C152: Rua Ponte Meira | D152: Urban Road | E152: Dili | G152: -8.5580148 | H152: 125.59203 | I152: -8.5643173 | J152: 125.58696 | K152: Hotmix | L152: Good | M152: 0.90299905 | N152: 5.4
A153: 145 | B153: 5s | C153: 5s. Unnamed Road | D153: Urban Road | E153: Dili | G153: -8.5677557 | H153: 125.58342 | I153: -8.5653999 | J153: 125.58595 | K153: Gravel | L153: Bad | M153: 0.38174672 | N153: 5.4
A154: 146 | B154: 5t | C154: Rua Dom Jose Ribeiro | D154: Urban Road | E154: Dili | G154: -8.5579221 | H154: 125.5918 | I154: -8.5676259 | J154: 125.58328 | K154: Hotmix | L154: Good | M154: 1.4387002 | N154: 6
A155: 147 | B155: 5u | C155: Rua De Be-Mori | D155: Urban Road | E155: Dili | G155: -8.561767 | H155: 125.58927 | I155: -8.5504259 | J155: 125.58414 | K155: Hotmix | L155: Good | M155: 1.3777688 | N155: 6
A156: 148 | B156: 5v | C156: Rua Revolusaun | D156: Urban Road | E156: Dili | G156: -8.5628769 | H156: 125.58508 | I156: -8.560691 | J156: 125.58885 | K156: Hotmix | L156: Good | M156: 0.48739329 | N156: 5
A157: 149 | B157: 5x | C157: Rua De Audian | D157: Urban Road | E157: Dili | G157: -8.5621349 | H157: 125.58673 | I157: -8.5557725 | J157: 125.58398 | K157: Hotmix | L157: Good | M157: 0.7832592 | N157: 5.2
A158: 150 | B158: 5y | C158: Rua De Quintal Boot | D158: Urban Road | E158: Dili | G158: -8.5651973 | H158: 125.58286 | I158: -8.5607453 | J158: 125.58381 | K158: Hotmix | L158: Good | M158: 0.78198917 | N158: 4.5
A159: 151 | B159: 5w | C159: Rua D Quintal Ki'ik | D159: Urban Road | E159: Dili | G159: -8.5607311 | H159: 125.58253 | I159: -8.5583274 | J159: 125.58209 | K159: Hotmix | L159: Good | M159: 0.27165552 | N159: 5
A160: 152 | B160: 5z | C160: 5z. Unnamed Road | D160: Urban Road | E160: Dili | G160: -8.5590209 | H160: 125.58224 | I160: -8.5600123 | J160: 125.57986 | K160: Hotmix | L160: Good | M160: 0.28437155 | N160: 5
A161: 153 | B161: 6a | C161: Travessa Wee Horis | D161: Urban Road | E161: Dili | G161: -8.5606903 | H161: 125.58002 | I161: -8.5595297 | J161: 125.58106 | K161: Hotmix | L161: Good | M161: 0.22431894 | N161: 5
... A168: 160 | B168: 6h | C168: Rua Mate Restu | D168: Urban Road | E168: Dili | G168: -8.5601573 | H168: 125.59695 | I168: -8.5541357 | J168: 125.59471 | K168: Hotmix & Hotmix | L168: Good | M168: 0.74773677 | N168: 4
A169: 161 | B169: 6i | C169: Travessa Sabraka Tadak | D169: Urban Road | E169: Dili | G169: -8.5560407 | H169: 125.54103 | I169: -8.5560113 | J169: 125.54174 | K169: Hotmix & Hotmix | L169: Good | M169: 0.079246726 | N169: 11 | P169: Onggoing Construction (Zonize Unip., Lda.)
A170: 162 | B170: 6j | C170: Rua Sabraka Fuan I | D170: Urban Road | E170: Dili | G170: -8.5552153 | H170: 125.54175 | I170: -8.5580231 | J170: 125.54187 | K170: Hotmix & Hotmix | L170: Good | M170: 0.31097232 | N170: 7 | P170: Onggoing Construction (Zonize Unip., Lda.)
A171: 163 | B171: 6k | C171: Rua Sabraka Laran II | D171: Urban Road | E171: Dili | G171: -8.5551801 | H171: 125.54177 | I171: -8.5563226 | J171: 125.54267 | K171: Hotmix & Hotmix | L171: Good | M171: 0.22544638 | N171: 6 | P171: Onggoing Construction (Zonize Unip., Lda.)
A172: 164 | B172: 6l | C172: Travessa Sabraka Tahan | D172: Urban Road | E172: Dili | G172: -8.5551867 | H172: 125.54221 | I172: -8.5567113 | J172: 125.54228 | K172: Hotmix & Hotmix | L172: Good | M172: 0.1689082 | N172: 6 | P172: Onggoing Construction (Zonize Unip., Lda.)
A173: 165 | B173: 6m | C173: 6m. Unnamed Road | D173: Urban Road | E173: Dili | G173: -8.5575474 | H173: 125.54188 | I173: -8.5556534 | J173: 125.54309 | K173: Hotmix | L173: Good | M173: 0.26445694 | N173: 6 | P173: Onggoing Construction (Star King Unip., Lda.)
...

Sheet BAUCAU
B2: GENERAL DESCRIPTION OF ROAD
B3: No. & Waypoint | C3: Link Name | D3: Link | E3: Post. Admin | F3: Municipality | G3: Coordinate Location (Decimal Degree) | K3: Existing Link | O3: Code Class | P3: Status | Q3: DESCRIPTION
G4: Start Point | I4: End Point | K4: Surface Type | L4: Condition | M4: Length (km) | N4: Width (m)
G5: Latitude | H5: Longitude | I5: Latitude | J5: Longitude
B6: 1 | C6: Lemen | D6: Urban Road | E6: Vemasse | F6: Baucau | G6: -8.515344 | H6: 126.22037 | I6: -8.5135741 | J6: 126.20842 | K6: Gravel | L6: Poor | M6: 1.7605499 | N6: 4 | Q6: Existing Road
B7: 2 | C7: Caicua - Cimiterio Vemasse | D7: Urban Road | E7: Vemasse | F7: Baucau | G7: -8.5062729 | H7: 126.23139 | I7: -8.5112694 | J7: 126.21323 | K7: Gravel | L7: Poor | M7: 2.816867 | N7: 5 | Q7: Existing Road
B8: 3 | C8: Pertigaan EDTL- Rotunda Mercado Vila Nova | D8: Urban Road | E8: Baucau Villa | F8: Baucau | G8: -8.4836757 | H8: 126.45711 | I8: -8.4788887 | J8: 126.45272 | K8: Concrete | L8: Good | M8: 1.0990685 | N8: 6 | Q8: Existing Road
B9: 4 | C9: Rua Watulete Knua | D9: Urban Road | E9: Baucau Villa | F9: Baucau | G9: -8.4788893 | H9: 126.45272 | I9: -8.470171 | J9: 126.45638 | K9: Gravel | L9: Poor | M9: 1.1467391 | N9: 7 | Q9: Existing Road
B10: 5 | C10: Rua Gomi Isi | D10: Urban Road | E10: Baucau Villa | F10: Baucau | G10: -8.4681702 | H10: 126.45919 | I10: -8.4667853 | J10: 126.45996 | K10: Hot Mix | L10: Good | M10: 0.17812486 | N10: 6.3 | Q10: Existing Road
B11: 6 | C11: Rua Uma 5 | D11: Urban Road | E11: Baucau Villa | F11: Baucau | G11: -8.4652145 | H11: 126.46083 | I11: -8.4624295 | J11: 126.45872 | K11: Hot Mix | L11: Good | M11: 0.41498877 | N11: 6 | Q11: Existing Road
B12: 7 | C12: Rua lamegua | D12: Urban Road | E12: Baucau Villa | F12: Baucau | G12: -8.4680151 | H12: 126.45923 | I12: -8.4630912 | J12: 126.4515 | K12: Gravel | L12: Poor | M12: 1.1798903 | N12: 4.6 | Q12: Existing Road
B13: 8 | C13: Rua WatuleteKnua (Office MOP oin) | D13: Urban Road | E13: Baucau Villa | F13: Baucau | G13: -8.4706978 | H13: 126.45878 | I13: -8.4701704 | J13: 126.45639 | K13: Hot Mix | L13: Good | M13: 0.27037051 | N13: 4.6 | Q13: Existing Road
B14: 9 | C14: Travessa Watulete | D14: Urban Road | E14: Baucau Villa | F14: Baucau | G14: -8.4703438 | H14: 126.45713 | I14: -8.4733925 | J14: 126.45701 | K14: Hot Mix | L14: Poor | M14: 0.33771294 | N14: 4.6 | Q14: Existing Road
B15: 10 | C15: Travessa Direitus Humanus | D15: Urban Road | E15: Baucau Villa | F15: Baucau | G15: -8.4734188 | H15: 126.45605 | I15: -8.4733791 | J15: 126.45819 | K15: Hot Mix | L15: Good | M15: 0.23594119 | N15: 5 | Q15: Existing Road
B16: 11 | C16: Rua Uma Mean | D16: Urban Road | E16: Baucau Villa | F16: Baucau | G16: -8.4762413 | H16: 126.4558 | I16: -8.476162 | J16: 126.45834 | K16: Hot Mix | L16: Good | M16: 0.27972031 | N16: 7 | Q16: Existing Road
B17: 12 | C17: Rua Samalacoliba | D17: Urban Road | E17: Baucau Villa | F17: Baucau | G17: -8.4839109 | H17: 126.45229 | I17: -8.4931126 | J17: 126.45509 | K17: Hot Mix | L17: Poor | M17: 1.1774206 | N17: 5.5 | Q17: Existing Road
... B57: 52 | C57: Venilale Jct - Fatulia | D57: Urban Road | E57: Venilale | F57: Baucau | G57: -8.643826 | H57: 126.37606 | I57: -8.6559684 | J57: 126.36207 | K57: Gravel | L57: Poor | M57: 2.3248577 | N57: 4.5 | Q57: Existing Road
B58: 53 | C58: Pertigaan Estrada Nasional-Areana | D58: Urban Road | E58: Venilale | F58: Baucau | G58: -8.6437994 | H58: 126.37608 | I58: -8.6394842 | J58: 126.40695 | K58: Hotmix & Gravel | L58: Good | M58: 4.0859477 | N58: 6 | P58: Completed 0.93 Km | R58: 0.93
B59: 54 | C59: Batu Falu - Merkadu Laga | D59: Urban Road | E59: Laga | F59: Baucau | G59: -8.4766364 | H59: 126.60096 | I59: -8.4740499 | J59: 126.59607 | K59: Gravel | L59: Poor | M59: 0.85532634 | N59: 5 | Q59: Existing Road
B60: 55 | C60: Watalae-Sawatisi | D60: Urban Road | E60: Laga | F60: Baucau | G60: -8.4744295 | H60: 126.59567 | I60: -8.4724793 | J60: 126.59899 | K60: Gravel | L60: Poor | M60: 1.1451442 | N60: 4 | Q60: Existing Road
B61: 56 | C61: Ataku sawatesi-Centro Saude Laga | D61: Urban Road | E61: Laga | F61: Baucau | G61: -8.4725437 | H61: 126.59879 | I61: -8.4745482 | J61: 126.59633 | K61: Gravel | L61: Poor | M61: 0.35219308 | N61: 3 | Q61: Existing Road
B62: 57 | C62: Administrasaun Oin-Teluwai Weli Weli | D62: Urban Road | E62: Laga | F62: Baucau | G62: -8.4734607 | H62: 126.59954 | I62: -8.4717061 | J62: 126.60155 | K62: Gravel | L62: Poor | M62: 0.31113053 | N62: 3 | Q62: Existing Road
B63: 58 | C63: Tobau | D63: Urban Road | E63: Laga | F63: Baucau | G63: -8.4704715 | H63: 126.59792 | I63: -8.4698662 | J63: 126.59878 | K63: Gravel | L63: Poor | M63: 0.11646444 | N63: 3 | Q63: Existing Road
B64: 59 | C64: Dailari-China Rate | D64: Urban Road | E64: Laga | F64: Baucau | G64: -8.4772259 | H64: 126.59246 | I64: -8.4757185 | J64: 126.59092 | K64: Gravel | L64: Poor | M64: 0.24565849 | N64: 3 | Q64: Existing Road
E66: RASIO (%)
C67: TOTAL Link (km) | D67: =SUM(M6:M64) -> 59.440702 | E67: =SUM(E68:E71) -> 1
C68: Poor Asphalt (km) | D68: =SUM(M14,M17) -> 1.5151335 | E68: =D68/D67 -> 0.025489832
C69: Good Asphalt (km) | D69: =SUM(M10,M11,M13,M15,M16,M21,M22,M23,M24,M25,M26,R58) -> 14.337341 | E69: =D69/D67 -> 0.2412041
C70: Good Concrete (Km) | D70: =M8 -> 1.0990685 | E70: =D70/D67 -> 0.018490166
C71: Gravel (km) | D71: =D67-D68-D69-D70 -> 42.489159 | E71: =D71/D67 -> 0.7148159

Sheet AILEU
B2: GENERAL DESCRIPTION OF ROAD
B3: No. & Waypoint | C3: Link Name | D3: Link | E3: Post. Admin | F3: Municipality | G3: Coordinate Location (Degree, Minute, Second) | K3: Existing Link | O3: Code Class | P3: Status | Q3: DESCRIPTION
G4: Start Point | I4: End Point | K4: Surface Type | L4: Condition | M4: Length (km) | N4: Width (m)
G5: Latitude | H5: Longitude | I5: Latitude | J5: Longitude
B6: 1 | C6: Beco Aitoin | D6: Urban Road | F6: Aileu | G6: -8.7503127 | H6: 125.56803 | I6: -8.7515979 | J6: 125.55702 | K6: Gravel | L6: Poor | M6: 1.4398906 | N6: 3.6
B7: 2 | C7: Beco Fnaarlelo | D7: Urban Road | F7: Aileu | G7: -8.7492233 | H7: 125.56749 | I7: -8.7469316 | J7: 125.56503 | K7: Gravel | L7: Poor | M7: 0.63481875 | N7: 3.3
B8: 3 | C8: Unnamed Road 5 | D8: Urban Road | F8: Aileu | G8: -8.7484565 | H8: 125.5651 | I8: -8.7502132 | J8: 125.56487 | K8: Gravel | L8: Poor | M8: 0.30102881 | N8: 3
B9: 4 | C9: Beco Riamori | D9: Urban Road | F9: Aileu | G9: -8.7405937 | H9: 125.56486 | I9: -8.7402865 | J9: 125.56362 | K9: Gravel | L9: Poor | M9: 0.22482621 | N9: 3.3
B10: 5 | C10: Rua Kabas Fatin | D10: Urban Road | F10: Aileu | G10: -8.7385229 | H10: 125.56453 | I10: -8.7213105 | J10: 125.55811 | K10: Gravel | L10: Poor | M10: 2.5292584 | N10: 0
B11: 6 | C11: Rua St. Pedro St. Paulo | D11: Urban Road | F11: Aileu | G11: -8.7376558 | H11: 125.56166 | I11: -8.7309992 | J11: 125.5669 | K11: Gravel | L11: Poor | M11: 1.0227659 | N11: 4
B12: 7 | C12: Travessa Aifunan Rosa | D12: Urban Road | F12: Aileu | G12: -8.7340156 | H12: 125.56394 | I12: -8.7349156 | J12: 125.56584 | K12: Existing Asphalt | L12: Poor | M12: 0.23190683 | N12: 4
B13: 8 | C13: Travessa Modo Laran | D13: Urban Road | F13: Aileu | G13: -8.7332175 | H13: 125.56434 | I13: -8.7332085 | J13: 125.56664 | K13: Existing Asphalt | L13: Poor | M13: 0.2533931 | N13: 3.6
B14: 9 | C14: Beco Pe. Felix Merino | D14: Urban Road | F14: Aileu | G14: -8.7325742 | H14: 125.56464 | I14: -8.7326885 | J14: 125.56437 | K14: Gravel | L14: Poor | M14: 0.032327667 | N14: 3
B15: 10 | C15: Rua Dom Alberto Ricardo da Silva | D15: Urban Road | F15: Aileu | G15: -8.7325723 | H15: 125.56464 | I15: -8.7321902 | J15: 125.56706 | K15: Gravel | L15: Poor | M15: 0.27069477 | N15: 4
B16: 11 | C16: Travessa Buititi | D16: Urban Road | F16: Aileu | G16: -8.7316772 | H16: 125.567 | I16: -8.7317781 | J16: 125.56631 | K16: Gravel | L16: Poor | M16: 0.077004904 | N16: 4.2
B17: 12 | C17: Travessa Makikit | D17: Urban Road | F17: Aileu | G17: -8.7305817 | H17: 125.56684 | I17: -8.7307242 | J17: 125.56613 | K17: Gravel | L17: Poor | M17: 0.080195846 | N17: 3.5
... B32: 27 | C32: Beco Quinta Portugal | D32: Urban Road | F32: Aileu | G32: -8.7110567 | H32: 125.56437 | I32: -8.7104518 | J32: 125.56522 | K32: Gravel | L32: Poor | M32: 0.1196752 | N32: 4
B33: 28 | C33: Rua Aisirimou 1 | D33: Urban Road | F33: Aileu | G33: -8.7145811 | H33: 125.56543 | I33: -8.7237833 | J33: 125.57506 | K33: Existing Asphalt | L33: Poor | M33: 2.267156 | N33: 5 | Q33: (Proposed for two lanes)
B34: 29 | C34: Rua Aisirimou 2 | D34: Urban Road | F34: Aileu | G34: -8.7239007 | H34: 125.57135 | I34: -8.7259975 | J34: 125.57138 | K34: Existing Asphalt | L34: Poor | M34: 0.23304241 | N34: 5 | Q34: (Proposed for two lanes)
B35: 30 | C35: Rua Lurlefa | D35: Urban Road | F35: Aileu | G35: -8.7220651 | H35: 125.57132 | I35: -8.720837 | J35: 125.57844 | K35: Gravel/Concrete | L35: Poor | M35: 0.88852875 | N35: 3
B36: 31 | C36: Rua Aituhu Laran | D36: Urban Road | F36: Aileu | G36: -8.7220022 | H36: 125.57236 | I36: -8.721582 | J36: 125.57492 | K36: Gravel | L36: Poor | M36: 0.40163282 | N36: 3.7
B37: 32 | C37: Travessa Mosek | D37: Urban Road | F37: Aileu | G37: -8.7222671 | H37: 125.57268 | I37: -8.7207586 | J37: 125.5739 | K37: Gravel | L37: Poor | M37: 0.21402373 | N37: 3
B38: 33 | C38: Travessa Goiava Laran | D38: Urban Road | F38: Aileu | G38: -8.7224412 | H38: 125.57311 | I38: -8.7210464 | J38: 125.57425 | K38: Gravel | L38: Poor | M38: 0.19893334 | N38: 3.5
B39: 34 | C39: Travessa Arame Rin | D39: Urban Road | F39: Aileu | G39: -8.724026 | H39: 125.57135 | I39: -8.7261729 | J39: 125.57057 | K39: Gravel | L39: Poor | M39: 0.33079495 | N39: 3.6
B40: 35 | C40: Travesa Aisirimou | D40: Urban Road | F40: Aileu | G40: -8.7248746 | H40: 125.57405 | I40: -8.7240266 | J40: 125.57138 | K40: Gravel | L40: Poor | M40: 0.34280573 | N40: 4
B41: 36 | C41: Beco Hudi Laran | D41: Urban Road | F41: Aileu | G41: -8.7228804 | H41: 125.57613 | I41: -8.7230628 | J41: 125.57737 | K41: Gravel | L41: Poor | M41: 0.15630014 | N41: 3
B42: 37 | C42: Rua Dom Baumeta | D42: Urban Road | F42: Aileu | G42: -8.7260495 | H42: 125.57141 | I42: -8.7253594 | J42: 125.56611 | K42: Existing Asphalt | L42: Poor | M42: 0.59816254 | N42: 5
B43: 38 | C43: Rua Fahilaku 1 | D43: Urban Road | F43: Aileu | G43: -8.7260606 | H43: 125.57136 | I43: -8.7273183 | J43: 125.56937 | K43: Gravel | L43: Poor | M43: 0.30116084 | N43: 3
B44: 39 | C44: Rua Fahilaco 2 | D44: Urban Road | F44: Aileu | G44: -8.7285107 | H44: 125.56725 | I44: -8.728444 | J44: 125.56773 | K44: Gravel | L44: Poor | M44: 0.052794283 | N44: 3
B45: 40 | C45: Beco Jambua Hun | D45: Urban Road | F45: Aileu | G45: -8.7263711 | H45: 125.57137 | I45: -8.725057 | J45: 125.57372 | K45: Gravel | L45: Poor | M45: 0.52736173 | N45: 2.3
B46: 49 | C46: Beco Daurlala | D46: Urban Road | F46: Aileu | G46: -8.7213115 | H46: 125.55813 | I46: -8.7203907 | J46: 125.55723 | K46: Gravel | L46: Poor | M46: 0.1460281 | N46: 3
... B54: 48 | C54: Rua Rua Martires da Patria | D54: Urban Road | F54: Aileu | G54: -8.7237808 | H54: 125.57505 | I54: -8.7205252 | J54: 125.5802 | K54: Gravel | L54: Poor | M54: 0.71594373 | N54: 5
E56: RASIO (%)
C57: TOTAL Link (km) | D57: =SUM(M6:M54) -> 20.639372 | E57: =SUM(E58:E59) -> 1
C58: Poor Asphalt (km) | D58: =SUM(M12,M13,M26,M33,M34,M42,M53) -> 4.0117541 | E58: =D58/D57 -> 0.19437384
C59: Gravel (km) | D59: =D57-D58 -> 16.627618 | E59: =D59/D57 -> 0.80562616

Sheet MANATUTO
B2: GENERAL DESCRIPTION OF ROAD
B3: No. & Waypoint | C3: Link Name | D3: Link | E3: Post. Admin | F3: Municipality | G3: Coordinate Location (Degree, Minute, Second) | K3: Existing Link | O3: Code Class | P3: Status | Q3: DESCRIPTION
G4: Start Point | I4: End Point | K4: Surface Type | L4: Condition | M4: Length (km) | N4: Width (m)
G5: Latitude | H5: Longitude | I5: Latitude | J5: Longitude
B6: 1 | C6: 1. Unnamed Road | D6: Urban Road | F6: Manatuto | G6: -8.5391362 | H6: 126.17587 | I6: -8.5664312 | J6: 126.16944 | K6: Asphalt | L6: Good | M6: 3.3362378 | N6: 4
B7: 2 | C7: 2. Unnamed Road | D7: Urban Road | F7: Manatuto | G7: -8.5381556 | H7: 126.16422 | I7: -8.5372967 | J7: 126.16362 | K7: Asphalt | L7: Good | M7: 0.1369361 | N7: 4
B8: 3 | C8: 3. Unnamed Road | D8: Urban Road | F8: Manatuto | G8: -8.5382182 | H8: 126.16322 | I8: -8.5004283 | J8: 126.15709 | K8: Asphalt | L8: Good | M8: 4.6598559 | N8: 5
B9: 4 | C9: 4. Unnamed Road | D9: Urban Road | F9: Manatuto | G9: -8.5237361 | H9: 126.1622 | I9: -8.5204996 | J9: 126.1639 | K9: Asphalt | L9: Good | M9: 0.4132691 | N9: 5
B10: 5 | C10: 5. Unnamed Road | D10: Urban Road | F10: Manatuto | G10: -8.5328852 | H10: 126.16445 | I10: -8.533631 | J10: 126.15767 | K10: Asphalt | L10: Good | M10: 0.8739059 | N10: 5
B11: 6 | C11: 6. Unnamed Road | D11: Urban Road | F11: Manatuto | G11: -8.5382385 | H11: 126.16451 | I11: -8.5423048 | J11: 126.16149 | K11: Asphalt | L11: Good | M11: 0.698903 | N11: 5
B12: 7 | C12: Avenida D. Martinho Lopes | D12: Urban Road | F12: Manatuto | G12: -8.5188128 | H12: 126.04179 | I12: -8.509601 | J12: 126.01298 | K12: Gravel | L12: Poor | M12: 4.2143331 | N12: 4.2
B13: 8 | C13: Avenida Coronel Santo Antonio | D13: Urban Road | F13: Manatuto | G13: -8.5187845 | H13: 126.0416 | I13: -8.5181892 | J13: 126.00731 | K13: Asphalt | L13: Good | M13: 4.5357666 | N13: 5.9
B14: 9 | C14: Rua We-En Hulau | D14: Urban Road | F14: Manatuto | G14: -8.5138476 | H14: 126.02885 | I14: -8.5127002 | J14: 126.03684 | K14: Gravel | L14: Poor | M14: 0.8959515 | N14: 6
B15: 10 | C15: Travessa Aitehen | D15: Urban Road | F15: Manatuto | G15: -8.5137617 | H15: 126.02897 | I15: -8.5127908 | J15: 126.02933 | K15: Gravel | L15: Poor | M15: 0.1160965 | N15: 6
B16: 11 | C16: Rua Hatu Sadan | D16: Urban Road | F16: Manatuto | G16: -8.5138541 | H16: 126.02886 | I16: -8.5191488 | J16: 126.02488 | K16: Gravel | L16: Poor | M16: 0.8096901 | N16: 6
B17: 12 | C17: 8. Unnamed Road | D17: Urban Road | F17: Manatuto | G17: -8.5126163 | H17: 126.02372 | I17: -8.5147505 | J17: 126.02226 | K17: Gravel | L17: Poor | M17: 0.2948331 | N17: 3
... B28: 23 | C28: Travessa Ileen-Ralan | D28: Urban Road | F28: Manatuto | G28: -8.5112159 | H28: 126.01367 | I28: -8.5100677 | J28: 126.0141 | K28: Asphalt | L28: Good | M28: 0.1356221 | N28: 6.5
B29: 24 | C29: Travessa Roo Ilin | D29: Urban Road | F29: Manatuto | G29: -8.5098002 | H29: 126.01343 | I29: -8.5087279 | J29: 126.01402 | K29: Asphalt | L29: Good | M29: 0.1353087 | N29: 5 | Q29: Base camp Company there
B30: 25 | C30: Travessa Aiata-Ralan | D30: Urban Road | F30: Manatuto | G30: -8.5098 | H30: 126.01343 | I30: -8.5106847 | J30: 126.01293 | K30: Asphalt | L30: Good | M30: 0.1127072 | N30: 5
B31: 26 | C31: 13. Unnamed Road | D31: Urban Road | F31: Manatuto | G31: -8.5085985 | H31: 126.01385 | I31: -8.5053044 | J31: 126.01143 | K31: Gravel | L31: Poor | M31: 0.4570584 | N31: 5
B32: 27 | C32: Rua Martires da Patria | D32: Urban Road | F32: Manatuto | G32: -8.510307 | H32: 126.0124 | I32: -8.5143478 | J32: 126.01961 | K32: Asphalt | L32: Good | M32: 0.9222259 | N32: 7
B33: 28 | C33: Travessa Sau-Huhun | D33: Urban Road | F33: Manatuto | G33: -8.5107082 | H33: 126.01295 | I33: -8.5121755 | J33: 126.01215 | K33: Asphalt | L33: Good | M33: 0.185068 | N33: 6.5
B34: 29 | C34: Travessa Dolak En Naholesu | D34: Urban Road | F34: Manatuto | G34: -8.5112175 | H34: 126.01367 | I34: -8.5127415 | J34: 126.013 | K34: Asphalt | L34: Good | M34: 0.1849028 | N34: 5.5
B35: 30 | C35: Rua Hahi Rain | D35: Urban Road | F35: Manatuto | G35: -8.5117365 | H35: 126.01492 | I35: -8.5134663 | J35: 126.01472 | K35: Asphalt | L35: Good | M35: 0.2463478 | N35: 6.5
B36: 31 | C36: Rua Leten Birak | D36: Urban Road | F36: Manatuto | G36: -8.5120339 | H36: 126.01549 | I36: -8.5141705 | J36: 126.0143 | K36: Asphalt | L36: Good | M36: 0.2706026 | N36: 7
B37: 32 | C37: Beco Mate Raten | D37: Urban Road | F37: Manatuto | G37: -8.5103935 | H37: 126.01131 | I37: -8.5095659 | J37: 126.01206 | K37: Gravel | L37: Poor | M37: 0.1242148 | N37: 4
B38: 33 | C38: Travessa Wereman | D38: Urban Road | F38: Manatuto | G38: -8.5107971 | H38: 126.01201 | I38: -8.511657 | J38: 126.01131 | K38: Asphalt | L38: Good | M38: 0.2856325 | N38: 5
B39: 34 | C39: Rua 14 de Maio de 2002 | D39: Urban Road | F39: Manatuto | G39: -8.5116437 | H39: 126.01132 | I39: -8.5183228 | J39: 126.02111 | K39: Asphalt | L39: Good | M39: 1.3252356 | N39: 7
B40: 35 | C40: 19. Unnamed Road | D40: Urban Road | F40: Manatuto | G40: -8.5170085 | H40: 126.01895 | I40: -8.5193333 | J40: 126.01834 | K40: Asphalt | L40: Good | M40: 0.2659085 | N40: 5.5
B41: 36 | C41: Rua Hatunesun | D41: Urban Road | F41: Manatuto | G41: -8.5141688 | H41: 126.0143 | I41: -8.5163016 | J41: 126.00777 | K41: Asphalt | L41: Good | M41: 1.0114892 | N41: 7
... B44: 39 | C44: 18. Unnamed Road | D44: Urban Road | F44: Manatuto | G44: -8.5171728 | H44: 126.00371 | I44: -8.5148325 | J44: 126.00814 | K44: Asphalt | L44: Good | M44: 0.571603 | N44: 7.2
E46: RASIO (%)
C47: TOTAL Link (km) | D47: =SUM(M6:M44) -> 30.407874 | E47: =SUM(E48:E50) -> 1
C48: Good Asphalt (km) | D48: =SUM(M6,M7,M8,M9,M10,M11,M13,M21,M22,M24,M25,M26,M27,M28,M29,M30,M32,M33,M34,M35,M36,M38,M39,M40,M41,M44) -> 21.454867 | E48: =D48/D47 -> 0.70556943
C49: Good Concrete (Km) | D49: =M23 -> 0.188659 | E49: =D49/D47 -> 0.0062042811
C50: Gravel (km) | D50: =D47-D48-D49 -> 8.7643489 | E50: =D50/D47 -> 0.28822629

Sheet AINARO
B2: GENERAL DESCRIPTION OF ROAD
B3: No. & Waypoint | C3: Link Name | D3: Link | E3: Post. Admin | F3: Municipality | G3: Coordinate Location (Degree, Minute, Second) | K3: Existing Link | O3: Code Class | P3: Status | Q3: DESCRIPTION
G4: Start Point | I4: End Point | K4: Surface Type | L4: Condition | M4: Length (km) | N4: Width (m)
G5: Latitude | H5: Longitude | I5: Latitude | J5: Longitude
B6: 1 | C6: Rua Mal-Buti | D6: Urban Road | F6: Ainaro | G6: -8.9911746 | H6: 125.51091 | I6: -8.9934413 | J6: 125.5101 | K6: Existing Asphalt | L6: Poor | M6: 0.32591127 | N6: 5.2 | P6: Onggoing DED (PT. Yodya Karya jv Aria)
B7: 2 | C7: Travessa Kaduna | D7: Urban Road | F7: Ainaro | G7: -8.9915293 | H7: 125.51106 | I7: -8.9922723 | J7: 125.51021 | K7: Existing Asphalt | L7: Poor | M7: 0.12511637 | N7: 4 | P7: Onggoing DED (PT. Yodya Karya jv Aria)
B8: 3 | C8: Rua Cotpere | D8: Urban Road | F8: Ainaro | G8: -8.9919638 | H8: 125.50997 | I8: -8.992961 | J8: 125.51074 | K8: Existing Asphalt | L8: Poor | M8: 0.13925709 | N8: 5.8 | P8: Onggoing DED (PT. Yodya Karya jv Aria)
B9: 4 | C9: Rua Lesu Mau Mou | D9: Urban Road | F9: Ainaro | G9: -8.9924957 | H9: 125.50932 | I9: -8.9946275 | J9: 125.51279 | K9: Existing Asphalt | L9: Poor | M9: 0.56766337 | N9: 6.8 | P9: Onggoing DED (PT. Yodya Karya jv Aria)
B10: 5 | C10: 8. Unnamed Road | D10: Urban Road | F10: Ainaro | G10: -8.9931097 | H10: 125.50861 | I10: -8.9922724 | J10: 125.51021 | K10: Existing Asphalt | L10: Poor | M10: 0.23430184 | N10: 5.8
B11: 6 | C11: Travessa Orluli | D11: Urban Road | F11: Ainaro | G11: -8.9919093 | H11: 125.50993 | I11: -8.9908654 | J11: 125.50915 | K11: Existing Asphalt | L11: Poor | M11: 0.14415277 | N11: 6.2
B12: 7 | C12: 4. Unnamed Road | D12: Urban Road | F12: Ainaro | G12: -8.990049 | H12: 125.51018 | I12: -8.9918913 | J12: 125.50789 | K12: Existing Asphalt | L12: Poor | M12: 0.32411739 | N12: 5
B13: 8 | C13: Travessa 5 de Maio | D13: Urban Road | F13: Ainaro | G13: -8.9914357 | H13: 125.50846 | I13: -8.9924373 | J13: 125.50928 | K13: Existing Asphalt | L13: Poor | M13: 0.143553 | N13: 7
B14: 9 | C14: Rua Mal-Meta | D14: Urban Road | F14: Ainaro | G14: -8.9927221 | H14: 125.50839 | I14: -8.9906618 | J14: 125.51079 | K14: Gravel | L14: Poor | M14: 0.34922076 | N14: 5.8
B15: 10 | C15: Rua Ai-Teka Laran | D15: Urban Road | F15: Ainaro | G15: -8.9909561 | H15: 125.51107 | I15: -8.9864359 | J15: 125.50648 | K15: Gravel | L15: Poor | M15: 0.71864727 | N15: 6.2 | P15: Onggoing DED (PT. Yodya Karya jv Aria)
B16: 11 | C16: 5. Unnamed Road | D16: Urban Road | F16: Ainaro | G16: -8.9875043 | H16: 125.5052 | I16: -8.9844645 | J16: 125.50915 | K16: Gravel | L16: Poor | M16: 0.63319601 | N16: 4.9 | P16: Onggoing DED PT. Yodya Karya jv Aria (0.181 km)
B17: 12 | C17: Rua Pe. Norberto-Pires | D17: Urban Road | F17: Ainaro | G17: -8.9930441 | H17: 125.50859 | I17: -8.983599 | J17: 125.49705 | K17: Existing Asphalt | L17: Poor | M17: 2.0441446 | N17: 7.2 | P17: Onggoing DED (PT. Yodya Karya jv Aria)
B18: 13 | C18: Travessa Jose Antonio Bonifacio | D18: Urban Road | F18: Ainaro | G18: -8.987505 | H18: 125.5052 | I18: -8.9893384 | J18: 125.50304 | K18: Gravel | L18: Poor | M18: 0.33102745 | N18: 4.9 | P18: Onggoing DED (PT. Yodya Karya jv Aria)
B19: 14 | C19: Travessa Builih | D19: Urban Road | F19: Ainaro | G19: -8.9890378 | H19: 125.50264 | I19: -8.9911056 | J19: 125.50077 | K19: Gravel | L19: Poor | M19: 0.30820899 | N19: 4.6 | P19: Onggoing DED (PT. Yodya Karya jv Aria)
B20: 15 | C20: Rua Venancio Ferras | D20: Urban Road | F20: Ainaro | G20: -8.9966014 | H20: 125.50542 | I20: -8.9801239 | J20: 125.49022 | K20: Gravel | L20: Poor | M20: 2.822796 | N20: 6.9 | P20: Onggoing DED (PT. Yodya Karya jv Aria)
B21: 16 | C21: Travessa Karau Ulun | D21: Urban Road | F21: Ainaro | G21: -8.9847965 | H21: 125.49641 | I21: -8.9836781 | J21: 125.49708 | K21: Gravel | L21: Poor | M21: 0.2240538 | N21: 3.8
B22: 17 | C22: Rua Capita Taiassa | D22: Urban Road | F22: Ainaro | G22: -8.9936889 | H22: 125.50784 | I22: -8.972969 | J22: 125.48778 | K22: Existing Asphalt | L22: Poor | M22: 3.2965322 | N22: 6.3 | P22: Onggoing DED (PT. Yodya Karya jv Aria)
B23: 18 | C23: Beco Riaheu | D23: Urban Road | F23: Ainaro | G23: -8.9853585 | H23: 125.50391 | I23: -8.9841636 | J23: 125.50454 | K23: Gravel | L23: Poor | M23: 0.15208584 | N23: 3.5
B24: 19 | C24: Beco Tlugil | D24: Urban Road | F24: Ainaro | G24: -8.9848484 | H24: 125.5036 | I24: -8.9854815 | J24: 125.502 | K24: Gravel | L24: Poor | M24: 0.22130289 | N24: 3.4
B25: 20 | C25: Beco Darlala | D25: Urban Road | F25: Ainaro | G25: -8.9842274 | H25: 125.50322 | I25: -8.9848748 | J25: 125.50238 | K25: Gravel | L25: Poor | M25: 0.12492822 | N25: 3.4
B26: 21 | C26: Rua Joao Mau Rou | D26: Urban Road | F26: Ainaro | G26: -8.9827831 | H26: 125.50094 | I26: -8.9711669 | J26: 125.50101 | K26: Gravel | L26: Poor | M26: 2.0027948 | N26: 4.5 | P26: Onggoing DED (PT. Yodya Karya jv Aria)
B27: 22 | C27: Rua Siri Loe | D27: Urban Road | F27: Ainaro | G27: -8.9919673 | H27: 125.51296 | I27: -8.9976769 | J27: 125.5157 | K27: Existing Asphalt | L27: Poor | M27: 1.0468859 | N27: 3.2 | P27: Onggoing DED (PT. Yodya Karya jv Aria)
B28: 23 | C28: Rua 3 Janeiro 1999 | D28: Urban Road | F28: Ainaro | G28: -8.9832872 | H28: 125.51949 | I28: -8.9961156 | J28: 125.52153 | K28: Gravel | L28: Poor | M28: 1.8078336 | N28: 3 | P28: Onggoing DED PT. Yodya Karya jv Aria (1.110 Km)
B29: 24 | C29: Rua Valente Maululi | D29: Urban Road | F29: Ainaro | G29: -8.9950486 | H29: 125.50434 | I29: -8.9969854 | J29: 125.50123 | K29: Gravel | L29: Poor | M29: 0.40629911 | N29: 4.2
B30: 25 | C30: Travessa Cafe | D30: Urban Road | F30: Ainaro | G30: -8.9964351 | H30: 125.50205 | I30: -8.9947939 | J30: 125.50135 | K30: Gravel | L30: Poor | M30: 0.19739318 | N30: 4.6
B31: 26 | C31: Travessa Central EDTL Ainaro | D31: Urban Road | F31: Ainaro | G31: -8.9972887 | H31: 125.50434 | I31: -8.9958185 | J31: 125.50314 | K31: Gravel | L31: Poor | M31: 0.27407306 | N31: 4.5
B32: 27 | C32: Rua Rae Gua | D32: Urban Road | F32: Ainaro | G32: -8.9980186 | H32: 125.50352 | I32: -8.994484 | J32: 125.50219 | K32: Gravel | L32: Poor | M32: 0.41889728 | N32: 4.3
B33: 28 | C33: Rua Poe Mau Lore | D33: Urban Road | F33: Ainaro | G33: -8.9891583 | H33: 125.49866 | I33: -8.9992382 | J33: 125.50196 | K33: Gravel | L33: Poor | M33: 1.2426184 | N33: 3.5
B34: 29 | C34: Travessa Manuel Pereira | D34: Urban Road | F34: Ainaro | G34: -8.991106 | H34: 125.50077 | I34: -8.9947297 | J34: 125.50146 | K34: Gravel | L34: Poor | M34: 0.49281329 | N34: 5.6 | P34: Onggoing DED (PT. Yodya Karya jv Aria)
B35: 30 | C35: Rua Gur Ulu | D35: Urban Road | F35: Ainaro | G35: -9.0000525 | H35: 125.5009 | I35: -8.9942364 | J35: 125.49968 | K35: Gravel | L35: Poor | M35: 0.71117884 | N35: 4.2 | P35: Onggoing DED PT. Yodya Karya jv Aria (0.524 km)
B36: 31 | C36: Travessa Mau Lore I | D36: Urban Road | F36: Ainaro | G36: -8.9950989 | H36: 125.50061 | I36: -8.9956314 | J36: 125.49923 | K36: Gravel | L36: Poor | M36: 0.16279709 | N36: 3.5 | P36: Onggoing DED (PT. Yodya Karya jv Aria)
B37: 32 | C37: Travessa Mau Lore II | D37: Urban Road | F37: Ainaro | G37: -8.9957731 | H37: 125.50085 | I37: -8.9962602 | J37: 125.49936 | K37: Gravel | L37: Poor | M37: 0.17193788 | N37: 3
B38: 33 | C38: Travessa Mau Lore III | D38: Urban Road | F38: Ainaro | G38: -8.9965811 | H38: 125.50111 | I38: -8.9971304 | J38: 125.49969 | K38: Gravel | L38: Poor | M38: 0.16757359 | N38: 2.5
B39: 34 | C39: Travessa Hatanalau | D39: Urban Road | F39: Ainaro | G39: -9.0007532 | H39: 125.49981 | I39: -8.9970917 | J39: 125.49967 | K39: Gravel | L39: Poor | M39: 0.42503052 | N39: 2.8 | P39: Onggoing DED (PT. Yodya Karya jv Aria)
B40: 35 | C40: Beco Bubur Laran | D40: Urban Road | F40: Ainaro | G40: -8.9944715 | H40: 125.50221 | I40: -8.9928265 | J40: 125.50028 | K40: Gravel | L40: Poor | M40: 0.34162743 | N40: 2.5
B41: 36 | C41: Rua Rus Gua Poe Buti | D41: Urban Road | F41: Ainaro | G41: -8.9904999 | H41: 125.50702 | I41: -8.9937063 | J41: 125.50333 | K41: Existing Asphalt | L41: Poor | M41: 0.54016844 | N41: 6.8 | P41: Onggoing DED (PT. Yodya Karya jv Aria)
...

Sheet ATAURO
B2: GENERAL DESCRIPTION OF ROAD
B3: No. & Waypoint | C3: Link Name | D3: Link | E3: Post. Admin | F3: Municipality | G3: Coordinate Location (Degree, Minute, Second) | K3: Existing Link | O3: Code Class | P3: Status | Q3: DESCRIPTION
G4: Start Point | I4: End Point | K4: Surface Type | L4: Condition | M4: Length (km) | N4: Width (m)
G5: Latitude | H5: Longitude | I5: Latitude | J5: Longitude
B6: 1 | C6: 1. Unnamed Road | D6: Urban Road | F6: Atauro | G6: -8.2218791 | H6: 125.60962 | I6: -8.2210582 | J6: 125.6068 | K6: Gravel | L6: Poor | M6: 0.32399874 | N6: 7 | Q6: Survey Topografia ona
B7: 2 | C7: 2. Unnamed Road | D7: Urban Road | F7: Atauro | G7: -8.2213994 | H7: 125.60797 | I7: -8.2243543 | J7: 125.60705 | K7: Gravel | L7: Poor | M7: 0.34278427 | N7: 5.3 | Q7: Survey Topografia ona
B8: 3 | C8: 3. Unnamed Road | D8: Urban Road | F8: Atauro | G8: -8.2213981 | H8: 125.60797 | I8: -8.217455 | J8: 125.60915 | K8: Gravel | L8: Poor | M8: 0.45598913 | N8: 4.7 | Q8: Survey Topografia ona
B9: 4 | C9: 4. Unnamed Road | D9: Urban Road | F9: Atauro | G9: -8.2188069 | H9: 125.61055 | I9: -8.2180161 | J9: 125.60901 | K9: Gravel | L9: Poor | M9: 0.19233685 | N9: 3.7 | Q9: Survey Topografia ona
B10: 5 | C10: 5. Unnamed Road | D10: Urban Road | F10: Atauro | G10: -8.2169282 | H10: 125.61109 | I10: -8.2241563 | J10: 125.60599 | K10: Gravel | L10: Poor | M10: 1.1816086 | N10: 5.7 | Q10: Survey Topografia ona
B11: 6 | C11: 6. Unnamed Road | D11: Urban Road | F11: Atauro | G11: -8.2247386 | H11: 125.60876 | I11: -8.2241574 | J11: 125.60599 | K11: Gravel | L11: Poor | M11: 0.31387141 | N11: 4.5 | Q11: Survey Topografia ona
B12: 7 | C12: 7. Unnamed Road | D12: Urban Road | F12: Atauro | G12: -8.2241579 | H12: 125.60599 | I12: -8.2223356 | J12: 125.60511 | K12: Gravel | L12: Poor | M12: 0.44531594 | N12: 5.6 | Q12: Survey Topografia ona
B13: 8 | C13: 16. Unnamed Road | D13: Urban Road | F13: Atauro | G13: -8.2278195 | H13: 125.60792 | I13: -8.2271511 | J13: 125.60427 | K13: Gravel | L13: Poor | M13: 0.41826069 | N13: 4.8
B14: 9 | C14: 8. Unnamed Road | D14: Urban Road | F14: Atauro | G14: -8.1848433 | H14: 125.63345 | I14: -8.1855067 | J14: 125.63325 | K14: Gravel | L14: Poor | M14: 1.243021 | N14: 6.9 | Q14: Survey Topografia ona
B15: 10 | C15: 9. Unnamed Road | D15: Urban Road | F15: Atauro | G15: -8.1839735 | H15: 125.63067 | I15: -8.1812827 | J15: 125.63152 | K15: Gravel | L15: Poor | M15: 0.31297108 | N15: 6.6 | Q15: Survey Topografia ona
B16: 11 | C16: 10. Unnamed Road | D16: Urban Road | F16: Atauro | G16: -8.1840686 | H16: 125.63098 | I16: -8.184797 | J16: 125.6309 | K16: Gravel | L16: Poor | M16: 0.081230221 | N16: 6.4 | Q16: Survey Topografia ona
B17: 12 | C17: 11. Unnamed Road | D17: Urban Road | F17: Atauro | G17: -8.1838786 | H17: 125.63032 | I17: -8.1845519 | J17: 125.63006 | K17: Gravel | L17: Poor | M17: 0.080190239 | N17: 7.1 | Q17: Survey Topografia ona
B18: 13 | C18: 12. Unnamed Road | D18: Urban Road | F18: Atauro | G18: -8.1845235 | H18: 125.63244 | I18: -8.1851905 | J18: 125.63223 | K18: Gravel | L18: Poor | M18: 0.077549841 | N18: 6.7 | Q18: Survey Topografia ona
B19: 14 | C19: 13. Unnamed Road | D19: Urban Road | F19: Atauro | G19: -8.1875235 | H19: 125.63267 | I19: -8.1842666 | J19: 125.6292 | K19: Gravel | L19: Poor | M19: 0.6084685 | N19: 5.3
B20: 15 | C20: 14. Unnamed Road | D20: Urban Road | F20: Atauro | G20: -8.1869943 | H20: 125.63061 | I20: -8.1847939 | J20: 125.6309 | K20: Gravel | L20: Poor | M20: 0.24584191 | N20: 7.8
B21: 16 | C21: 15. Unnamed Road | D21: Urban Road | F21: Atauro | G21: -8.1872686 | H21: 125.63174 | I21: -8.185191 | J21: 125.63223 | K21: Gravel | L21: Poor | M21: 0.23649464 | N21: 4.8
B22: 17 | C22: 17. Unnamed Road | D22: Urban Road | F22: Atauro | G22: -8.2514607 | H22: 125.60688 | I22: -8.2574737 | J22: 125.60141 | K22: Gravel | L22: Poor | M22: 0.93116786 | N22: 6.4
B23: 18 | C23: 18. Unnamed Road | D23: Urban Road | F23: Atauro | G23: -8.2524851 | H23: 125.60493 | I23: -8.2656012 | J23: 125.60214 | K23: Gravel | L23: Poor | M23: 1.5928206 | N23: 6.6
B24: 19 | C24: 19. Unnamed Road | D24: Urban Road | F24: Atauro | G24: -8.2554193 | H24: 125.60307 | I24: -8.2574782 | J24: 125.6036 | K24: Gravel | L24: Poor | M24: 0.2356779 | N24: 5.3
B25: 20 | C25: 20. Unnamed Road | D25: Urban Road | F25: Atauro | G25: -8.2562173 | H25: 125.60331 | I25: -8.2556325 | J25: 125.60701 | K25: Gravel | L25: Poor | M25: 0.41400548 | N25: 6
B26: 21 | C26: 21. Unnamed Road | D26: Urban Road | F26: Atauro | G26: -8.257557 | H26: 125.60691 | I26: -8.2574767 | J26: 125.60141 | K26: Gravel | L26: Poor | M26: 0.60891203 | N26: 6.7
B27: 22 | C27: 22. Unnamed Road | D27: Urban Road | F27: Atauro | G27: -8.2590889 | H27: 125.60654 | I27: -8.2587524 | J27: 125.60512 | K27: Gravel | L27: Poor | M27: 0.16110005 | N27: 5.5
B28: 23 | C28: 23. Unnamed Road | D28: Urban Road | F28: Atauro | G28: -8.2601226 | H28: 125.60617 | I28: -8.259162 | J28: 125.605 | K28: Gravel | L28: Poor | M28: 0.17103932 | N28: 5.6
B29: 24 | C29: 27. Unnamed Road | D29: Urban Road | F29: Atauro | G29: -8.2642513 | H29: 125.60473 | I29: -8.2639228 | J29: 125.60348 | K29: Gravel | L29: Poor | M29: 0.14316612 | N29: 6.1
B30: 25 | C30: 24. Unnamed Road | D30: Urban Road | F30: Atauro | G30: -8.2668119 | H30: 125.60313 | I30: -8.2680104 | J30: 125.60309 | K30: Gravel | L30: Poor | M30: 0.59698043 | N30: 6.5
... B32: 27 | C32: 26.Unnamed Road | D32: Urban Road | F32: Atauro | G32: -8.2680172 | H32: 125.6031 | I32: -8.2655978 | J32: 125.60214 | K32: Gravel | L32: Poor | M32: 0.35955526 | N32: 5.6
E34: RASIO (%)
C35: TOTAL Link (km) | D35: =SUM(M6:M32) -> 12.394108 | E35: =SUM(E36:E37) -> 1
C36: Asphalt (km) | D36: 0 | E36: =D36/D35 -> 0
C37: Gravel (km) | D37: =SUM(M6:M32) -> 12.394108 | E37: =D37/D35 -> 1

Sheet ERMERA
B2: GENERAL DESCRIPTION OF ROAD
B3: No. & Waypoint | C3: Link Name | D3: Link | E3: Post. Admin | F3: Municipality | G3: Coordinate Location (Decimal Degree) | K3: Existing Link | O3: Code Class | P3: Status | Q3: DESCRIPTION
G4: Start Point | I4: End Point | K4: Surface Type | L4: Condition | M4: Length (km) | N4: Width (m)
G5: Latitude | H5: Longitude | I5: Latitude | J5: Longitude
B6: 1 | C6: Avenida Lorenco dos Santos 1 | D6: Urban Road | F6: Ermera | G6: -8.7240117 | H6: 125.43582 | I6: -8.7219485 | J6: 125.42789 | K6: Asphalt | L6: Good | M6: 0.90328223 | N6: 7
B7: 2 | C7: Avenida Lorenco dos Santos 2 | D7: Urban Road | F7: Ermera | G7: -8.7218619 | H7: 125.42793 | I7: -8.7239206 | J7: 125.43584 | K7: Asphalt | L7: Good | M7: 0.90068912 | N7: 7
B8: 3 | C8: Rua Fatuk Kero | D8: Urban Road | F8: Ermera | G8: -8.7086857 | H8: 125.43649 | I8: -8.705835 | J8: 125.4569 | K8: Asphalt | L8: Good | M8: 3.2848539 | N8: 4.4 | Q8: 630 m Gravel
B9: 4 | C9: Rua Lahgoa | D9: Urban Road | F9: Ermera | G9: -8.7116277 | H9: 125.44233 | I9: -8.7122615 | J9: 125.44548 | K9: Gravel | L9: Poor | M9: 0.58565204 | N9: 4.5
B10: 5 | C10: Rua Erberludu | D10: Urban Road | F10: Ermera | G10: -8.7132132 | H10: 125.43631 | I10: -8.7215203 | J10: 125.42739 | K10: Asphalt | L10: Good | M10: 1.4539031 | N10: 3.1 | Q10: 197 m Gravel
B11: 6 | C11: Rua Jose Exposto Santa | D11: Urban Road | F11: Ermera | G11: -8.7221306 | H11: 125.43602 | I11: -8.7204334 | J11: 125.42813 | K11: Gravel | L11: Poor | M11: 0.89004457 | N11: 4.6 | Q11: 438 Asphalt & 452 Gravel
B12: 7 | C12: Rua Martires da Patria | D12: Urban Road | F12: Ermera | G12: -8.7250163 | H12: 125.43562 | I12: -8.7239892 | J12: 125.43134 | K12: Gravel | L12: Poor | M12: 0.48553223 | N12: 5.6
B13: 8 | C13: Rua Celestino Soares | D13: Urban Road | F13: Ermera | G13: -8.7247386 | H13: 125.43114 | I13: -8.726607 | J13: 125.43541 | K13: Gravel | L13: Poor | M13: 0.51560172 | N13: 5.6
B14: 9 | C14: Rua Raemetlefa | D14: Urban Road | F14: Ermera | G14: -8.7216978 | H14: 125.43402 | I14: -8.7214812 | J14: 125.43293 | K14: Gravel | L14: Poor | M14: 0.51220737 | N14: 4.8
B15: 10 | C15: Rua Ema Rui | D15: Urban Road | F15: Ermera | G15: -8.725051 | H15: 125.43582 | I15: -8.7221627 | J15: 125.43616 | K15: Gravel | L15: Poor | M15: 0.54095369 | N15: 6.4
B16: 11 | C16: Rua Urep A-5 | D16: Urban Road | F16: Ermera | G16: -8.724068 | H16: 125.43602 | I16: -8.7247177 | J16: 125.44045 | K16: Gravel | L16: Poor | M16: 0.501527 | N16: 4 | Q16: 495 m Asphalt
B17: 12 | C17: Rua A-4 Riheu | D17: Urban Road | F17: Ermera | G17: -8.7244027 | H17: 125.43746 | I17: -8.7392911 | J17: 125.43553 | K17: Gravel | L17: Poor | M17: 1.9272911 | N17: 3
B18: 13 | C18: Rua Jardim dos Herois | D18: Urban Road | F18: Ermera | G18: -8.7289556 | H18: 125.44594 | I18: -8.7321589 | J18: 125.44773 | K18: Gravel | L18: Poor | M18: 0.58845113 | N18: 3.2
B19: 14 | C19: Rua Gurbit Lala | D19: Urban Road | F19: Ermera | G19: -8.7258753 | H19: 125.44401 | I19: -8.7248031 | J19: 125.45181 | K19: Gravel | L19: Poor | M19: 0.92935077 | N19: 4.9
B20: 15 | C20: Rua Fahirose | D20: Urban Road | F20: Ermera | G20: -8.7229617 | H20: 125.43157 | I20: -8.7288888 | J20: 125.43063 | K20: Gravel | L20: Poor | M20: 0.73293724 | N20: 5.2
B21: 16 | C21: Rua Nunusa | D21: Urban Road | F21: Ermera | G21: -8.7277555 | H21: 125.43028 | I21: -8.7279247 | J21: 125.43091 | K21: Gravel | L21: Poor | M21: 0.072302515 | N21: 2.3
B22: 17 | C22: Travessa Kaitetilau | D22: Urban Road | F22: Ermera | G22: -8.7279269 | H22: 125.43091 | I22: -8.7294819 | J22: 125.43288 | K22: Gravel | L22: Poor | M22: 0.40515908 | N22: 3.3
B23: 18 | C23: Travessa Madre Franscisca Guterres | D23: Urban Road | F23: Ermera | G23: -8.7217372 | H23: 125.434 | I23: -8.7232639 | J23: 125.43353 | K23: Gravel | L23: Poor | M23: 0.17677909 | N23: 4
B24: 19 | C24: Travessa 10 de Abril 1999 | D24: Urban Road | F24: Ermera | G24: -8.7215087 | H24: 125.43292 | I24: -8.7230237 | J24: 125.43253 | K24: Gravel | L24: Poor | M24: 0.17309908 | N24: 4
B25: 20 | C25: Travessa Ermera | D25: Urban Road | F25: Ermera | G25: -8.7234436 | H25: 125.43348 | I25: -8.7244045 | J25: 125.43319 | K25: Gravel | L25: Poor | M25: 0.11112784 | N25: 4.8
B26: 21 | C26: Travessa Atsabe | D26: Urban Road | F26: Ermera | G26: -8.7231982 | H26: 125.4325 | I26: -8.7241754 | J26: 125.43224 | K26: Gravel | L26: Poor | M26: 0.11177047 | N26: 3.9
B27: 22 | C27: Travessa Hituria | D27: Urban Road | F27: Ermera | G27: -8.728086 | H27: 125.43017 | I27: -8.7282535 | J27: 125.43082 | K27: Gravel | L27: Poor | M27: 0.073351022 | N27: 3.1
B28: 23 | C28: Travessa Foho Darlau | D28: Urban Road | F28: Ermera | G28: -8.7293673 | H28: 125.43121 | I28: -8.7293887 | J28: 125.43153 | K28: Gravel | L28: Poor | M28: 0.22153371 | N28: 4.4
... B71: 66 | C71: Unnamed Road 24 | D71: Urban Road | F71: Ermera | G71: -8.6760255 | H71: 125.42034 | I71: -8.6745966 | J71: 125.42227 | K71: Gravel | L71: Poor | M71: 0.33434246 | N71: 3.2
