Workbook

Sheet SUM
B2: Municipality | C2: Total Length (Km) | D2: Good Asphalt (Km) | E2: Bad Asphalt (Km) | F2: Good Concrete (Km) | G2: Bad Concrete (Km) | H2: Gravel
B3: Lautem | C3: =LAUTEM!D66 -> 40.719579 | D3: - | E3: =LAUTEM!D67 -> 14.947949 | F3: - | G3: - | H3: =LAUTEM!D68 -> 25.77163
B4: Viqueque | C4: =VIQUEQUE!D39 -> 16.853224 | D4: =VIQUEQUE!D40 -> 9.0058514 | E4: - | F4: - | G4: - | H4: =VIQUEQUE!D41 -> 7.847373
B5: Covalima | C5: =COVALIMA!D53 -> 45.897042 | D5: =COVALIMA!D54 -> 22.907164 | E5: =COVALIMA!D55 -> 5.7233114 | F5: - | G5: - | H5: =COVALIMA!D56 -> 17.266567
B6: Dili | C6: =DILI!D907 -> 324.27601 | D6: =DILI!D908 -> 171.12708 | E6: =DILI!D910 -> 6.0776053 | F6: =DILI!D909 -> 2.1490303 | G6: - | H6: =DILI!D911 -> 144.9223 | M6: =0.2*1*213 -> 42.6
B7: Baucau | C7: =BAUCAU!D67 -> 59.440702 | D7: =BAUCAU!D69 -> 14.337341 | E7: =BAUCAU!D68 -> 1.5151335 | F7: =BAUCAU!D70 -> 1.0990685 | G7: - | H7: =BAUCAU!D71 -> 42.489159 | M7: =0.25*0.8*213*2 -> 85.2
B8: Aileu | C8: =AILEU!D57 -> 20.639372 | D8: - | E8: =AILEU!D58 -> 4.0117541 | F8: - | G8: - | H8: =AILEU!D59 -> 16.627618 | M8: 124
B9: Manatuto | C9: =MANATUTO!D47 -> 30.407874 | D9: =MANATUTO!D48 -> 21.454867 | F9: =MANATUTO!D49 -> 0.188659 | G9: - | H9: =MANATUTO!D50 -> 8.7643489 | M9: 194 | N9: 213
B10: Ainaro | C10: =AINARO!D53 -> 31.015264 | D10: =AINARO!D55 -> 1.2448191 | E10: =AINARO!D54 -> 12.749069 | F10: =AINARO!D56 -> 1.9036354 | G10: - | H10: =AINARO!D57 -> 15.117741
B11: Atauro | C11: =ATAURO!D35 -> 12.394108 | D11: - | E11: - | F11: - | G11: - | H11: =ATAURO!D37 -> 12.394108
B12: Ermera | C12: =ERMERA!D74 -> 29.021092 | D12: =ERMERA!D75 -> 6.5427283 | E12: - | F12: - | G12: - | H12: =ERMERA!D76 -> 22.478363
B13: Liquica | C13: =LIQUICA!D90 -> 41.51269 | D13: =LIQUICA!D91 -> 6.0967648 | E13: =LIQUICA!D92 -> 2.3939435 | F13: - | G13: - | H13: =LIQUICA!D93 -> 33.021981
B14: Bobonaro | C14: =BOBONARO!D88 -> 47.082807 | D14: =BOBONARO!D89 -> 1.8708079 | E14: =BOBONARO!D90 -> 4.0614429 | F14: - | G14: - | H14: =BOBONARO!D91 -> 41.150556
B15: Manufahi | C15: =MANUFAHI!D65 -> 59.78175 | D15: =MANUFAHI!D66 -> 29.639994 | F15: =MANUFAHI!D67 -> 0.2709496 | G15: - | H15: =MANUFAHI!D68 -> 29.870806
B16: Total | C16: =SUM(C3:C15) -> 759.04152 | D16: =SUM(D3:D15) -> 284.22742 | E16: =SUM(E3:E15) -> 51.480208 | F16: =SUM(F3:F15) -> 5.6113428 | G16: =SUM(G3:G15) -> 0 | H16: =SUM(H3:H15) -> 417.72255

Sheet LAUTEM
B2: DADUS ESTRADA URBANA MUNICIPIO LAUTEM
B3: No. & Waypoint | C3: Link Name | D3: Link | E3: Post. Admin | F3: Municipality | G3: Coordinate Location (Decimal Degree) | K3: Existing Link | O3: Code Class | P3: Status | Q3: DESCRIPTION
G4: Start Point | I4: End Point | K4: Surface Type | L4: Condition | M4: Length (km) | N4: Width (m)
G5: Latitude | H5: Longitude | I5: Latitude | J5: Longitude
B6: 1 | C6: Rua Pato | D6: Urban Road | F6: Lautem | G6: -8.4922151 | H6: 126.99262 | I6: -8.5035514 | J6: 127.0075 | K6: Gravel | L6: Poor | M6: 2.9616479 | N6: 6 | Q6: -
B7: 2 | C7: Rua Tronsus 1979 | D7: Urban Road | F7: Lautem | G7: -8.5035525 | H7: 127.0075 | I7: -8.5215248 | J7: 126.99923 | K7: Existing Asphalt | L7: Poor | M7: 2.3214896 | N7: 9 | Q7: -
B8: 3 | C8: Rua Heler | D8: Urban Road | F8: Lautem | G8: -8.5226287 | H8: 126.99606 | I8: -8.5161486 | J8: 127.00737 | K8: Existing Asphalt | L8: Poor | M8: 1.476817 | N8: 5.3 | Q8: Existing Side Walk & Drainage LR/S
B9: 4 | C9: Bemoris II | D9: Urban Road | F9: Lautem | G9: -8.5150874 | H9: 127.00183 | I9: -8.5175384 | J9: 127.00599 | K9: Existing Asphalt | L9: Poor | M9: 0.53317031 | N9: 3.5 | Q9: -
B10: 5 | C10: Rua Bemoris I | D10: Urban Road | F10: Lautem | G10: -8.5167884 | H10: 126.99986 | I10: -8.5156023 | J10: 127.00285 | K10: Gravel | L10: Poor | M10: 0.44832359 | N10: 3 | Q10: -
B11: 6 | C11: Travessa Bemoris | D11: Urban Road | F11: Lautem | G11: -8.5153707 | H11: 127.00237 | I11: -8.517217 | J11: 127.00023 | K11: Gravel | L11: Poor | M11: 0.31234841 | N11: 3 | Q11: -
B12: 7 | C12: Rua Belta Tres | D12: Urban Road | F12: Lautem | G12: -8.518131 | H12: 126.99936 | I12: -8.5282478 | J12: 127.01341 | K12: Existing Asphalt | L12: Poor | M12: 1.9658316 | N12: 5 | Q12: -
B13: 8 | C13: Rua Herois Lereloho | D13: Urban Road | F13: Lautem | G13: -8.5247523 | H13: 126.99919 | I13: -8.5255629 | J13: 127.00651 | K13: Gravel | L13: Poor | M13: 1.0120175 | N13: 5 | Q13: -
B14: 9 | C14: Bairo Cina I | D14: Urban Road | F14: Lautem | G14: -8.5247539 | H14: 126.99919 | I14: -8.5245704 | J14: 126.99728 | K14: Existing Asphalt | L14: Poor | M14: 0.26022221 | N14: 5 | Q14: -
B15: 10 | C15: Bairo Cina II | D15: Urban Road | F15: Lautem | G15: -8.5245732 | H15: 126.99728 | I15: -8.5247536 | J15: 126.99919 | K15: Existing Asphalt | L15: Poor | M15: 0.30035595 | N15: 5 | Q15: -
B16: 11 | C16: Rua Iliperekai | D16: Urban Road | F16: Lautem | G16: -8.524754 | H16: 126.99919 | I16: -8.521522 | J16: 126.99923 | K16: Existing Asphalt | L16: Poor | M16: 0.42030163 | N16: 4.2 | Q16: -
B17: 12 | C17: Travessa Liurai Veressimo | D17: Urban Road | F17: Lautem | G17: -8.5235022 | H17: 126.9972 | I17: -8.5218027 | J17: 126.99929 | K17: Existing Asphalt | L17: Poor | M17: 0.29718646 | N17: 4 | Q17: -
... B63: 58 | C63: P. Unnamed Road | D63: Urban Road | F63: Lautem | G63: -8.517687 | H63: 126.9909 | I63: -8.5135978 | J63: 126.99267 | K63: Gravel | L63: Poor | M63: 0.49413907 | N63: 3 | Q63: -
E65: RASIO (%)
C66: TOTAL Link (km) | D66: =SUM(M6:M63) -> 40.719579 | E66: =SUM(E67:E68) -> 1
C67: Bad Asphalt (km) | D67: =SUM(M7:M9,M12,M14:M26,M40:M41,M50,M62,M55:M56) -> 14.947949 | E67: =D67/D66 -> 0.36709487
C68: Gravel (km) | D68: =D66-D67 -> 25.77163 | E68: =D68/D66 -> 0.63290513

Sheet VIQUEQUE
B2: GENERAL DESCRIPTION OF ROAD
B3: No. & Waypoint | C3: Link Name | D3: Link | E3: Post. Admin | F3: Municipality | G3: Coordinate Location (Decimal Degree) | K3: Existing Link | O3: Code Class | P3: Status | Q3: DESCRIPTION
G4: Start Point | I4: End Point | K4: Surface Type | L4: Condition | M4: Length (km) | N4: Width (m)
G5: Latitude | H5: Longitude | I5: Latitude | J5: Longitude
B6: 1 | C6: A1 Rua Lamac Laran | D6: Urban Road | F6: Viqueque | G6: -8.8683334 | H6: 126.37028 | I6: -8.8570038 | J6: 126.36807 | K6: Asphalt | L6: Good | M6: 1.475975 | N6: 5 | P6: Completed ( Urukai II, Unip. Lda 2017 )
B7: 2 | C7: A2 Rua Lamac Laran | D7: Urban Road | F7: Viqueque | G7: -8.8570056 | H7: 126.36807 | I7: -8.8513315 | J7: 126.37022 | K7: Gravel | L7: Poor | M7: 0.78182189 | N7: 4.2
B8: 3 | C8: A3 Beco Akadiru Lulik | D8: Urban Road | F8: Viqueque | G8: -8.8716221 | H8: 126.37436 | I8: -8.8715576 | J8: 126.37713 | K8: Gravel | L8: Poor | M8: 0.30937462 | N8: 3.8
B9: 4 | C9: A4 Rua Audian Matan | D9: Urban Road | F9: Viqueque | G9: -8.8716217 | H9: 126.37436 | I9: -8.8707247 | J9: 126.37049 | K9: Asphalt | L9: Good | M9: 0.5096566 | N9: 4.8 | P9: Completed ( Urukai II, Unip. Lda 2017 )
B10: 5 | C10: A5 Rua Luholaka | D10: Urban Road | F10: Viqueque | G10: -8.8821574 | H10: 126.37576 | I10: -8.8836537 | J10: 126.37392 | K10: Asphalt | L10: Good | M10: 0.26467041 | N10: 4.8 | P10: Completed ( Urukai II, Unip. Lda 2017 )
B11: 6 | C11: A6 Unnamed Road | D11: Urban Road | F11: Viqueque | G11: -8.8492896 | H11: 126.36621 | I11: -8.8607514 | J11: 126.36419 | K11: Asphalt | L11: Good | M11: 1.4510048 | N11: 5
B12: 7 | C12: A7 Unnamed Road | D12: Urban Road | F12: Viqueque | G12: -8.8584295 | H12: 126.36526 | I12: -8.857645 | J12: 126.36326 | K12: Asphalt | L12: Good | M12: 0.23623078 | N12: 5 | P12: Completed ( Urukai II, Unip. Lda 2017 )
B13: 8 | C13: A8 Unnamed Road | D13: Urban Road | F13: Viqueque | G13: -8.8565134 | H13: 126.36596 | I13: -8.8559441 | J13: 126.36359 | K13: Asphalt | L13: Good | M13: 0.26866301 | N13: 5
B14: 9 | C14: A9 Unnamed Road | D14: Urban Road | F14: Viqueque | G14: -8.8565577 | H14: 126.36348 | I14: -8.8549612 | J14: 126.3623 | K14: Asphalt | L14: Good | M14: 0.30782944 | N14: 5 | P14: Completed ( Urukai II, Unip. Lda 2017 )
B15: 10 | C15: B1 Unnamed Road | D15: Urban Road | F15: Viqueque | G15: -8.8552962 | H15: 126.36373 | I15: -8.8533517 | J15: 126.35548 | K15: Asphalt | L15: Good | M15: 0.98656845 | N15: 4.2 | P15: Completed ( Urukai II, Unip. Lda 2017 )
B16: 11 | C16: B2 Rua Lulik tuna | D16: Urban Road | F16: Viqueque | G16: -8.8534509 | H16: 126.35533 | I16: -8.8629879 | J16: 126.36259 | K16: Gravel | L16: Poor | M16: 1.9679774 | N16: 6
B17: 12 | C17: B3 Rua Mahuma | D17: Urban Road | F17: Viqueque | G17: -8.849765 | H17: 126.36553 | I17: -8.854161 | J17: 126.36077 | K17: Gravel | L17: Poor | M17: 1.0998825 | N17: 4
B18: 13 | C18: B4 Unnamed Road | D18: Urban Road | F18: Viqueque | G18: -8.8667748 | H18: 126.36548 | I18: -8.8672314 | J18: 126.3649 | K18: Asphalt | L18: Good | M18: 0.081412389 | N18: 5.5
B19: 14 | C19: B5 Unnamed Road | D19: Urban Road | F19: Viqueque | G19: -8.8668114 | H19: 126.3656 | I19: -8.8673194 | J19: 126.36498 | K19: Asphalt | L19: Good | M19: 0.088420115 | N19: 5.5
B20: 15 | C20: B6 Rua Ba'i Metak | D20: Urban Road | F20: Viqueque | G20: -8.8694302 | H20: 126.36671 | I20: -8.8663557 | J20: 126.36418 | K20: Asphalt | L20: Good | M20: 0.44014272 | N20: 6
B21: 16 | C21: B7 Rua Borracha Laran I | D21: Urban Road | F21: Viqueque | G21: -8.8695539 | H21: 126.36682 | I21: -8.8712022 | J21: 126.36875 | K21: Gravel | L21: Poor | M21: 0.28692009 | N21: 4.5
B22: 17 | C22: B8 Rua Borracha Laran II | D22: Urban Road | F22: Viqueque | G22: -8.870127 | H22: 126.36724 | I22: -8.8698301 | J22: 126.36785 | K22: Gravel | L22: Poor | M22: 0.07476106 | N22: 3.4
B23: 18 | C23: B9 Travessa Ai Nora Mahan | D23: Urban Road | F23: Viqueque | G23: -8.8708126 | H23: 126.36821 | I23: -8.8691525 | J23: 126.36724 | K23: Gravel | L23: Poor | M23: 0.26034669 | N23: 3.4
B24: 19 | C24: C1 Unnamed Road | D24: Urban Road | F24: Viqueque | G24: -8.86756 | H24: 126.36777 | I24: -8.8704272 | J24: 126.3656 | K24: Asphalt | L24: Good | M24: 0.41321581 | N24: 5 | P24: Completed ( Urukai II, Unip. Lda 2017 )
B25: 20 | C25: C2 Rua Kasa Bada | D25: Urban Road | F25: Viqueque | G25: -8.8730456 | H25: 126.36443 | I25: -8.8700663 | J25: 126.36718 | K25: Asphalt | L25: Good | M25: 0.48851705 | N25: 5 | P25: Completed ( Urukai II, Unip. Lda 2017 )
B26: 21 | C26: C3 Rua Kabira Oan | D26: Urban Road | F26: Viqueque | G26: -8.8709439 | H26: 126.36597 | I26: -8.8673404 | J26: 126.36493 | K26: Asphalt | L26: Good | M26: 0.47641397 | N26: 5 | P26: Completed ( Urukai II, Unip. Lda 2017 )
B27: 22 | C27: C4 Rua We Auhanek | D27: Urban Road | F27: Viqueque | G27: -8.8687207 | H27: 126.36435 | I27: -8.8712908 | J27: 126.36534 | K27: Asphalt | L27: Good | M27: 0.39591952 | N27: 5 | P27: Completed ( Urukai II, Unip. Lda 2017 )
B28: 23 | C28: C5 Travessa Bora Matan | D28: Urban Road | F28: Viqueque | G28: -8.8697139 | H28: 126.36498 | I28: -8.8707088 | J28: 126.36374 | K28: Asphalt | L28: Good | M28: 0.1751431 | N28: 5 | P28: Completed ( Urukai II, Unip. Lda 2017 )
B29: 24 | C29: C6 Travessa Raihun | D29: Urban Road | F29: Viqueque | G29: -8.8730453 | H29: 126.36434 | I29: -8.8701632 | J29: 126.36361 | K29: Asphalt | L29: Good | M29: 0.33674452 | N29: 5 | P29: Completed ( Urukai II, Unip. Lda 2017 )
B30: 25 | C30: C7 Rua Beobe | D30: Urban Road | F30: Viqueque | G30: -8.8748584 | H30: 126.36406 | I30: -8.880185 | J30: 126.36888 | K30: Gravel | L30: Poor | M30: 0.91332359 | N30: 5.1
B31: 26 | C31: C8 Rua LucaHun | D31: Urban Road | F31: Viqueque | G31: -8.8761272 | H31: 126.36492 | I31: -8.8780793 | J31: 126.36854 | K31: Gravel | L31: Poor | M31: 0.63910424 | N31: 3.8
B32: 27 | C32: C9 Travessa Teka Laran | D32: Urban Road | F32: Viqueque | G32: -8.8769253 | H32: 126.36688 | I32: -8.8759365 | J32: 126.36805 | K32: Gravel | L32: Poor | M32: 0.16962889 | N32: 3.4
B33: 28 | C33: D1 Travessa Betu Hun | D33: Urban Road | F33: Viqueque | G33: -8.8799014 | H33: 126.36621 | I33: -8.8766197 | J33: 126.36613 | K33: Gravel | L33: Poor | M33: 0.37008978 | N33: 4.1
B34: 29 | C34: D2 Rua We Kloha | D34: Urban Road | F34: Viqueque | G34: -8.876196 | H34: 126.36512 | I34: -8.8803542 | J34: 126.36843 | K34: Gravel | L34: Poor | M34: 0.97414232 | N34: 5.2
B35: 30 | C35: D3 Rua Boromata Raihun | D35: Urban Road | F35: Viqueque | G35: -8.8731163 | H35: 126.36432 | I35: -8.8692683 | J35: 126.36459 | K35: Asphalt | L35: Good | M35: 0.60932374 | N35: 4.5 | P35: Completed ( Urukai II, Unip. Lda 2017 )
B36: Total | M36: =SUM(M6:M35) -> 16.853224
E38: RASIO (%)
C39: TOTAL Link (km) | D39: =SUM(M6:M35) -> 16.853224 | E39: =SUM(E40:E41) -> 1
C40: Good Asphalt (km) | D40: =SUM(M6,M9,M10,M11,M12:M15,M18:M20,M24:M29,M35) -> 9.0058514 | E40: =D40/D39 -> 0.53436964
C41: Gravel (km) | D41: =SUM(M7:M8,M16:M17,M21:M23,M30:M34) -> 7.847373 | E41: =D41/D39 -> 0.46563036

Sheet COVALIMA
B2: GENERAL DESCRIPTION OF ROAD
B3: No. & Waypoint | C3: Link Name | D3: Link | E3: Post. Admin | F3: Municipality | G3: Coordinate Location (Decimal Degree) | K3: Existing Link | O3: Code Class | P3: Status | Q3: DESCRIPTION
G4: Start Point | I4: End Point | K4: Surface Type | L4: Condition | M4: Length (km) | N4: Width (m)
G5: Latitude | H5: Longitude | I5: Latitude | J5: Longitude
B6: 1 | C6: A1 Rua Santa Rosa | D6: Urban Road | F6: Covalima | G6: -9.3068596 | H6: 125.24979 | I6: -9.3081751 | J6: 125.25344 | K6: Gravel | L6: Poor | M6: 0.93917433 | N6: 4.5
B7: 2 | C7: A2 Rua Karin Wa 2 | D7: Urban Road | F7: Covalima | G7: -9.3044763 | H7: 125.25229 | I7: -9.3081092 | J7: 125.25295 | K7: Existing Asphalt | L7: Poor | M7: 0.4174657 | N7: 4.8
B8: 3 | C8: A3 Travessa Barout Mil | D8: Urban Road | F8: Covalima | G8: -9.3044763 | H8: 125.25227 | I8: -9.3012209 | J8: 125.2518 | K8: Gravel | L8: Poor | M8: 0.37776796 | N8: 3.5
B9: 4 | C9: A4 Travesa Foho Taroman | D9: Urban Road | F9: Covalima | G9: -9.3079385 | H9: 125.25128 | I9: -9.3059246 | J9: 125.25287 | K9: Existing Asphalt | L9: Poor | M9: 0.28563121 | N9: 5.4
B10: 5 | C10: A5 Rua Sukaer Laran | D10: Urban Road | F10: Covalima | G10: -9.3147932 | H10: 125.25697 | I10: -9.3100001 | J10: 125.25422 | K10: Existing Asphalt | L10: Poor | M10: 0.94777708 | N10: 4.7
B11: 6 | C11: A6 Rua Karin Wa 1 | D11: Urban Road | F11: Covalima | G11: -9.3095832 | H11: 125.25393 | I11: -9.3095383 | J11: 125.25517 | K11: Existing Asphalt | L11: Poor | M11: 0.18016317 | N11: 3.6
B12: 7 | C12: A7 Travessa Sukaer Ren | D12: Urban Road | F12: Covalima | G12: -9.3115628 | H12: 125.25512 | I12: -9.3110938 | J12: 125.25629 | K12: Gravel | L12: Poor | M12: 0.15678708 | N12: 4.2
B13: 8 | C13: A8 Travessa Hospital Referal Suai | D13: Urban Road | F13: Covalima | G13: -9.3142957 | H13: 125.25536 | I13: -9.3132281 | J13: 125.25656 | K13: Existing Asphalt | L13: Poor | M13: 0.23918443 | N13: 4.3
B14: 9 | C14: A9 Rua Jose de Araujo | D14: Urban Road | F14: Covalima | G14: -9.313551 | H14: 125.25354 | I14: -9.3110235 | J14: 125.24984 | K14: Existing Asphalt | L14: Poor | M14: 0.5471309 | N14: 5.3
B15: 10 | C15: A10 Beco We Ulun | D15: Urban Road | F15: Covalima | G15: -9.3127594 | H15: 125.25095 | I15: -9.3154625 | J15: 125.25078 | K15: Gravel | L15: Poor | M15: 0.30929538 | N15: 3.8
B16: 11 | C16: A11 Travessa We Marouk | D16: Urban Road | F16: Covalima | G16: -9.312175 | H16: 125.24752 | I16: -9.3122019 | J16: 125.24874 | K16: Existing Asphalt | L16: Poor | M16: 0.13516739 | N16: 4
B17: 12 | C17: A12 Travessa Tragedia de Lactos | D17: Urban Road | F17: Covalima | G17: -9.3099513 | H17: 125.25212 | I17: -9.310958 | J17: 125.25477 | K17: Existing Asphalt | L17: Poor | M17: 0.3840286 | N17: 5.2
... B50: 45 | C50: B22 Holbelis | D50: Urban Road | F50: Covalima | G50: -9.3109119 | H50: 125.29009 | I50: -9.3038183 | J50: 125.28852 | K50: Asphalt | L50: Good | M50: 0.80485842 | N50: 5
E52: RASIO (%)
C53: TOTAL Link (km) | D53: =SUM(M6:M50) -> 45.897042 | E53: =SUM(E54:E56) -> 1
C54: Good Asphalt (km) | D54: =SUM(M32:M50) -> 22.907164 | E54: =D54/D53 -> 0.49909892
C55: Bad Asphalt (Km) | D55: =SUM(M7,M9,M10,M11,M13,M14,M16,M17,M18,M19) -> 5.7233114 | E55: =D55/D53 -> 0.12469892
C56: Gravel (km) | D56: =D53-D54-D55 -> 17.266567 | E56: =D56/D53 -> 0.37620216

Sheet DILI
C1: MINISTÉRIO DAS OBRAS PÚBLICAS
C2: DIRECÇÃO GERAL DE ESTRADAS, PONTES, PREVENÇÃO E CONTROLO DE CHEIAS
C3: DIRECÇÃO NACIONAL DE PLANEAMENTO PESQUISA E DESENVOLVIMENTO
B4: DILI URBAN ROAD
A5: GENERAL DESCRIPTION OF ROAD
A6: No. | B6: Waypoint | C6: Link Name | D6: Link | E6: Municipality | F6: Adm. Post | G6: Coordinate Location (Decimal Degree) | K6: Existing Link | O6: Code Class | P6: Status | Q6: Description
G7: Start Point | I7: End Point | K7: Surface Type | L7: Condition | M7: Length (km) | N7: Width (m)
G8: Latitude | H8: Longitude | I8: Latitude | J8: Longitude
A9: 1 | B9: Qa | C9: Rua de Aidak Nurak | D9: Urban Road | E9: Dili | G9: -8.5619808 | H9: 125.52861 | I9: -8.5597123 | J9: 125.52632 | K9: Hotmix | L9: Good | M9: 0.49109232 | N9: 8
A10: 2 | B10: Qb | C10: Rua Travessa de Fatuk Laletek | D10: Urban Road | E10: Dili | G10: -8.5607013 | H10: 125.52622 | I10: -8.5609358 | J10: 125.52868 | K10: Hotmix | L10: Good | M10: 0.27189826 | N10: 7
A11: 3 | B11: Qc | C11: Travessa de Ai-Pau Tahan | D11: Urban Road | E11: Dili | G11: -8.5599304 | H11: 125.52807 | I11: -8.5618033 | J11: 125.52797 | K11: Hotmix | L11: Good | M11: 0.20763319 | N11: 5.4
A12: 4 | B12: Qd | C12: Qd. Unnamed Road | D12: Urban Road | E12: Dili | G12: -8.5599581 | H12: 125.52842 | I12: -8.5620135 | J12: 125.52828 | K12: Hotmix | L12: Good | M12: 0.22802599 | N12: 5.4
A13: 5 | B13: Qe | C13: Rua de Bilimbi Laran | D13: Urban Road | E13: Dili | G13: -8.5617065 | H13: 125.53044 | I13: -8.5574569 | J13: 125.5309 | K13: Hotmix & Gravel | L13: Good | M13: 0.47316405 | N13: 7.8
A14: 6 | B14: Qf | C14: Rua de Fatuk Lulik | D14: Urban Road | E14: Dili | G14: -8.5587783 | H14: 125.52639 | I14: -8.5613771 | J14: 125.53231 | K14: Hotmix & Gravel | L14: Good | M14: 0.93037868 | N14: 8
A15: 7 | B15: Qg | C15: Rua de Ai-Kakeu Laran | D15: Urban Road | E15: Dili | G15: -8.559385 | H15: 125.53232 | I15: -8.5539009 | J15: 125.53286 | K15: Hotmix & Gravel | L15: Good | M15: 0.61680237 | N15: 8
A16: 8 | B16: Qh | C16: Travessa da Mota Hare | D16: Urban Road | E16: Dili | G16: -8.5578545 | H16: 125.53173 | I16: -8.5579309 | J16: 125.53243 | K16: Gravel | L16: Bad | M16: 0.077084991 | N16: 5
A17: 9 | B17: Qi | C17: Travessa da Mota Klo'ot | D17: Urban Road | E17: Dili | G17: -8.5574541 | H17: 125.53177 | I17: -8.5575115 | J17: 125.53247 | K17: Gravel | L17: Bad | M17: 0.077364676 | N17: 5
A18: 10 | B18: Qj | C18: Travessa da Mota Masin | D18: Urban Road | E18: Dili | G18: -8.557033 | H18: 125.53182 | I18: -8.5571102 | J18: 125.53253 | K18: Gravel | L18: Bad | M18: 0.078563183 | N18: 4
A19: 11 | B19: Qk | C19: Rua de Fatuk Monu | D19: Urban Road | E19: Dili | G19: -8.5593091 | H19: 125.53148 | I19: -8.5566075 | J19: 125.53185 | K19: Gravel | L19: Bad | M19: 0.30173086 | N19: 5.5
A20: 12 | B20: Ql | C20: Ql. Unnamed Road | D20: Urban Road | E20: Dili | G20: -8.559268 | H20: 125.53104 | I20: -8.5575285 | J20: 125.5313 | K20: Gravel | L20: Bad | M20: 0.19718002 | N20: 4.5
... A148: 140 | B148: 5n | C148: Rua De Santa Cruz | D148: Urban Road | E148: Dili | G148: -8.567511 | H148: 125.58804 | I148: -8.5559401 | J148: 125.58287 | K148: Hotmix | L148: Good | M148: 1.4389155 | N148: 6
A149: 141 | B149: 5o | C149: Rua Da Resistencia | D149: Urban Road | E149: Dili | G149: -8.564708 | H149: 125.59427 | I149: -8.5590261 | J149: 125.59414 | K149: Gravel | L149: Bad | M149: 0.66673113 | N149: 4 | P149: Onggoing Construction (Star king Unip., Lda.)
A150: 142 | B150: 5p | C150: 5p. Unnamed Road | D150: Urban Road | E150: Dili | G150: -8.5692266 | H150: 125.58439 | I150: -8.5712123 | J150: 125.58435 | K150: Gravel | L150: Bad | M150: 0.22260393 | N150: 4
A151: 143 | B151: 5q | C151: 5q. Unnamed Road | D151: Urban Road | E151: Dili | G151: -8.5653166 | H151: 125.5904 | I151: -8.5627431 | J151: 125.58866 | K151: Gravel | L151: Bad | M151: 0.35752551 | N151: 2.5
A152: 144 | B152: 5r | C152: Rua Ponte Meira | D152: Urban Road | E152: Dili | G152: -8.5580148 | H152: 125.59203 | I152: -8.5643173 | J152: 125.58696 | K152: Hotmix | L152: Good | M152: 0.90299905 | N152: 5.4
A153: 145 | B153: 5s | C153: 5s. Unnamed Road | D153: Urban Road | E153: Dili | G153: -8.5677557 | H153: 125.58342 | I153: -8.5653999 | J153: 125.58595 | K153: Gravel | L153: Bad | M153: 0.38174672 | N153: 5.4
A154: 146 | B154: 5t | C154: Rua Dom Jose Ribeiro | D154: Urban Road | E154: Dili | G154: -8.5579221 | H154: 125.5918 | I154: -8.5676259 | J154: 125.58328 | K154: Hotmix | L154: Good | M154: 1.4387002 | N154: 6
A155: 147 | B155: 5u | C155: Rua De Be-Mori | D155: Urban Road | E155: Dili | G155: -8.561767 | H155: 125.58927 | I155: -8.5504259 | J155: 125.58414 | K155: Hotmix | L155: Good | M155: 1.3777688 | N155: 6
A156: 148 | B156: 5v | C156: Rua Revolusaun | D156: Urban Road | E156: Dili | G156: -8.5628769 | H156: 125.58508 | I156: -8.560691 | J156: 125.58885 | K156: Hotmix | L156: Good | M156: 0.48739329 | N156: 5
A157: 149 | B157: 5x | C157: Rua De Audian | D157: Urban Road | E157: Dili | G157: -8.5621349 | H157: 125.58673 | I157: -8.5557725 | J157: 125.58398 | K157: Hotmix | L157: Good | M157: 0.7832592 | N157: 5.2
A158: 150 | B158: 5y | C158: Rua De Quintal Boot | D158: Urban Road | E158: Dili | G158: -8.5651973 | H158: 125.58286 | I158: -8.5607453 | J158: 125.58381 | K158: Hotmix | L158: Good | M158: 0.78198917 | N158: 4.5
A159: 151 | B159: 5w | C159: Rua D Quintal Ki'ik | D159: Urban Road | E159: Dili | G159: -8.5607311 | H159: 125.58253 | I159: -8.5583274 | J159: 125.58209 | K159: Hotmix | L159: Good | M159: 0.27165552 | N159: 5
A160: 152 | B160: 5z | C160: 5z. Unnamed Road | D160: Urban Road | E160: Dili | G160: -8.5590209 | H160: 125.58224 | I160: -8.5600123 | J160: 125.57986 | K160: Hotmix | L160: Good | M160: 0.28437155 | N160: 5
A161: 153 | B161: 6a | C161: Travessa Wee Horis | D161: Urban Road | E161: Dili | G161: -8.5606903 | H161: 125.58002 | I161: -8.5595297 | J161: 125.58106 | K161: Hotmix | L161: Good | M161: 0.22431894 | N161: 5
... A168: 160 | B168: 6h | C168: Rua Mate Restu | D168: Urban Road | E168: Dili | G168: -8.5601573 | H168: 125.59695 | I168: -8.5541357 | J168: 125.59471 | K168: Hotmix & Hotmix | L168: Good | M168: 0.74773677 | N168: 4
A169: 161 | B169: 6i | C169: Travessa Sabraka Tadak | D169: Urban Road | E169: Dili | G169: -8.5560407 | H169: 125.54103 | I169: -8.5560113 | J169: 125.54174 | K169: Hotmix & Hotmix | L169: Good | M169: 0.079246726 | N169: 11 | P169: Onggoing Construction (Zonize Unip., Lda.)
A170: 162 | B170: 6j | C170: Rua Sabraka Fuan I | D170: Urban Road | E170: Dili | G170: -8.5552153 | H170: 125.54175 | I170: -8.5580231 | J170: 125.54187 | K170: Hotmix & Hotmix | L170: Good | M170: 0.31097232 | N170: 7 | P170: Onggoing Construction (Zonize Unip., Lda.)
A171: 163 | B171: 6k | C171: Rua Sabraka Laran II | D171: Urban Road | E171: Dili | G171: -8.5551801 | H171: 125.54177 | I171: -8.5563226 | J171: 125.54267 | K171: Hotmix & Hotmix | L171: Good | M171: 0.22544638 | N171: 6 | P171: Onggoing Construction (Zonize Unip., Lda.)
A172: 164 | B172: 6l | C172: Travessa Sabraka Tahan | D172: Urban Road | E172: Dili | G172: -8.5551867 | H172: 125.54221 | I172: -8.5567113 | J172: 125.54228 | K172: Hotmix & Hotmix | L172: Good | M172: 0.1689082 | N172: 6 | P172: Onggoing Construction (Zonize Unip., Lda.)
A173: 165 | B173: 6m | C173: 6m. Unnamed Road | D173: Urban Road | E173: Dili | G173: -8.5575474 | H173: 125.54188 | I173: -8.5556534 | J173: 125.54309 | K173: Hotmix | L173: Good | M173: 0.26445694 | N173: 6 | P173: Onggoing Construction (Star King Unip., Lda.)
A174: 166 | B174: 6n | C174: 6n. Unnamed Road | D174: Urban Road | E174: Dili | G174: -8.5556249 | H174: 125.5427 | I174: -8.5556244 | J174: 125.54324 | K174: Hotmix | L174: Good | M174: 0.059087547 | N174: 6 | P174: Onggoing Construction (Star King Unip., Lda.)
A175: 167 | B175: 6p | C175: 6p. Unnamed Road | D175: Urban Road | E175: Dili | G175: -8.558272 | H175: 125.54226 | I175: -8.5567739 | J175: 125.54324 | K175: Gravel | L175: Bad | M175: 0.23604016 | N175: 4 | P175: Onggoing Construction (Star King Unip., Lda.)
A176: 168 | B176: 6q | C176: 6q. Unnamed Road | D176: Urban Road | E176: Dili | G176: -8.5583651 | H176: 125.54247 | I176: -8.5593347 | J176: 125.54249 | K176: Hotmix | L176: Good | M176: 0.10735375 | N176: 5.7 | P176: Onggoing Construction (Zonize Unip., Lda.)
A177: 169 | B177: 6r | C177: 6r. Unnamed Road | D177: Urban Road | E177: Dili | G177: -8.5581007 | H177: 125.5411 | I177: -8.5584674 | J177: 125.54343 | K177: Hotmix | L177: Good | M177: 0.28092061 | N177: 5 | P177: Onggoing Construction (Zonize Unip., Lda.)
A178: 170 | B178: 6s | C178: Rua Soko Boot | D178: Urban Road | E178: Dili | G178: -8.5581256 | H178: 125.54157 | I178: -8.5593634 | J178: 125.54246 | K178: Hotmix & Hotmix | L178: Good | M178: 0.22850306 | N178: 6.7 | P178: Onggoing Construction (Zonize Unip., Lda.)
A179: 171 | B179: 6t | C179: 6t. Unnamed Road | D179: Urban Road | E179: Dili | G179: -8.5582926 | H179: 125.54203 | I179: -8.5592909 | J179: 125.54204 | K179: Hotmix | L179: Good | M179: 0.11049872 | N179: 4.7 | P179: Onggoing Construction (Zonize Unip., Lda.)
A180: 172 | B180: 6v | C180: Rua Mota Laran | D180: Urban Road | E180: Dili | G180: -8.5628464 | H180: 125.54127 | I180: -8.5607547 | J180: 125.54325 | K180: Hotmix | L180: Good | M180: 0.41831854 | N180: 5.4 | P180: Onggoing Construction (Star King Unip., Lda.)
A181: 173 | B181: 6x | C181: Rua Sabraka Hun | D181: Urban Road | E181: Dili | G181: -8.5614042 | H181: 125.54122 | I181: -8.5612566 | J181: 125.54333 | K181: Hotmix | L181: Good | M181: 0.23664525 | N181: 6.2 | P181: Onggoing Construction (Star King Unip., Lda.)
A182: 174 | B182: 6y | C182: 6y. Unnamed Road | D182: Urban Road | E182: Dili | G182: -8.5613746 | H182: 125.54172 | I182: -8.5629269 | J182: 125.54178 | K182: Hotmix | L182: Good | M182: 0.1719502 | N182: 4.2
A183: 175 | B183: 6w | C183: 6w. Unnamed Road | D183: Urban Road | E183: Dili | G183: -8.5617232 | H183: 125.54176 | I183: -8.5616768 | J183: 125.54307 | K183: Hotmix | L183: Good | M183: 0.14458671 | N183: 4
A184: 176 | B184: 7a | C184: 7a. Unnamed Road | D184: Urban Road | E184: Dili | G184: -8.5625601 | H184: 125.5418 | I184: -8.5625014 | J184: 125.54282 | K184: Hotmix | L184: Good | M184: 0.11309195 | N184: 4
A185: 177 | B185: 7b | C185: 7b. Unnamed Road | D185: Urban Road | E185: Dili | G185: -8.5655141 | H185: 125.54373 | I185: -8.564774 | J185: 125.54193 | K185: Gravel | L185: Bad | M185: 0.21640297 | N185: 5.5
A186: 178 | B186: 7c | C186: 7c. Unnamed Road | D186: Urban Road | E186: Dili | G186: -8.5650125 | H186: 125.5425 | I186: -8.5677013 | J186: 125.54272 | K186: Gravel | L186: Bad | M186: 0.43676477 | N186: 4.4
A187: 179 | B187: 7d | C187: Travessa Fafulu Laran | D187: Urban Road | E187: Dili | G187: -8.5653934 | H187: 125.54234 | I187: -8.5648079 | J187: 125.54191 | K187: Gravel | L187: Bad | M187: 0.10942493 | N187: 4
A188: 180 | B188: 7e | C188: Travessa Faulu Abut | D188: Urban Road | E188: Dili | G188: -8.5654058 | H188: 125.54239 | I188: -8.5655788 | J188: 125.54293 | K188: Gravel | L188: Bad | M188: 0.061938485 | N188: 4
A189: 181 | B189: 7f | C189: Rua Tuhu Laran | D189: Urban Road | E189: Dili | G189: -8.5652226 | H189: 125.54309 | I189: -8.5658108 | J189: 125.54224 | K189: Gravel | L189: Bad | M189: 0.15543149 | N189: 4 | Q189: La asessu
A190: 182 | B190: 7g | C190: Rua Ai- Talik Laran | D190: Urban Road | E190: Dili | G190: -8.5661655 | H190: 125.54207 | I190: -8.5652808 | J190: 125.54193 | K190: Gravel | L190: Bad | M190: 0.13421513 | N190: 4.9
A191: 183 | B191: 7h | C191: 7h. Unnamed Road | D191: Urban Road | E191: Dili | G191: -8.5659767 | H191: 125.54263 | I191: -8.5670003 | J191: 125.54268 | K191: Gravel | L191: Bad | M191: 0.12728323 | N191: 4
A192: 184 | B192: 7i | C192: 7i. Unnamed Road | D192: Urban Road | E192: Dili | G192: -8.5672762 | H192: 125.54245 | I192: -8.5665342 | J192: 125.54187 | K192: Gravel | L192: Bad | M192: 0.10539841 | N192: 4
A193: 185 | B193: 7j | C193: 7j. Unnamed Road | D193: Urban Road | E193: Dili | G193: -8.5703375 | H193: 125.54279 | I193: -8.5717698 | J193: 125.54053 | K193: Gravel | L193: Bad | M193: 0.30350448 | N193: 4.2
A194: 186 | B194: 7k | C194: Beco Natar Fatin | D194: Urban Road | E194: Dili | G194: -8.5715481 | H194: 125.54126 | I194: -8.5706936 | J194: 125.54053 | K194: Gravel | L194: Bad | M194: 0.12618466 | N194: 3.5
A195: 187 | B195: 7l | C195: 7l. Unnamed Road | D195: Urban Road | E195: Dili | G195: -8.5727787 | H195: 125.54168 | I195: -8.5717918 | J195: 125.54083 | K195: Gravel | L195: Bad | M195: 0.14657119 | N195: 3.5
A196: 188 | B196: 7m | C196: Beco Kamale Hout | D196: Urban Road | E196: Dili | G196: -8.5751161 | H196: 125.53739 | I196: -8.5746032 | J196: 125.53717 | K196: Gravel | L196: Bad | M196: 0.064603264 | N196: 3.6
A197: 189 | B197: 7n | C197: Rua Los Kabubu | D197: Urban Road | E197: Dili | G197: -8.5746144 | H197: 125.53808 | I197: -8.5720421 | J197: 125.53984 | K197: Gravel | L197: Bad | M197: 0.35220579 | N197: 3.5
A198: 190 | B198: 7o | C198: 7o. Unnamed Road | D198: Urban Road | E198: Dili | G198: -8.5667222 | H198: 125.53383 | I198: -8.5639731 | J198: 125.53515 | K198: Hotmix | L198: Good | M198: 0.40701047 | N198: 4.1
A199: 191 | B199: 7p | C199: Travessa Fomentu Has Laran | D199: Urban Road | E199: Dili | G199: -8.5667713 | H199: 125.53426 | I199: -8.5662146 | J199: 125.53434 | K199: Hotmix | L199: Good | M199: 0.062366506 | N199: 3.1
A200: 192 | B200: 7q | C200: 7q. Unnamed Road | D200: Urban Road | E200: Dili | G200: -8.566174 | H200: 125.53435 | I200: -8.565031 | J200: 125.53453 | K200: Hotmix | L200: Good | M200: 0.12823684 | N200: 4.1
A201: 193 | B201: 7r | C201: Travessa mota ninin | D201: Urban Road | E201: Dili | G201: -8.5656722 | H201: 125.53479 | I201: -8.5661002 | J201: 125.53575 | K201: Hotmix | L201: Good | M201: 0.11678049 | N201: 3.2
... A208: 200 | B208: 7w | C208: Rua De Manu Meta Rai Hun | D208: Urban Road | E208: Dili | G208: -8.5644165 | H208: 125.57237 | I208: -8.5673565 | J208: 125.56696 | K208: Hotmix | L208: Good | M208: 0.7466661 | N208: 4
A209: 201 | B209: 6o | C209: 6o. Unname Road | D209: Urban Road | E209: Dili | G209: -8.5621355 | H209: 125.54178 | I209: -8.5620902 | J209: 125.5429 | K209: Hotmix | L209: Good | M209: 0.1239516 | N209: 6 | P209: Onggoing Construction (Star King Unip., Lda.)
A210: 202 | B210: 7z | C210: Rua De Ai-Bubur Laran | D210: Urban Road | E210: Dili | G210: -8.5688809 | H210: 125.56712 | I210: -8.5965032 | J210: 125.57334 | K210: Hotmix & Gravel | L210: Good | M210: 5.4801327 | N210: 4 | Q210: Hotmix 4.9 Km & Gravel 0.58 Km
A211: 203 | B211: 8a | C211: Rua De Dare | D211: Urban Road | E211: Dili | G211: -8.5967051 | H211: 125.57603 | I211: -8.5897287 | J211: 125.57059 | K211: Hotmix | L211: Good | M211: 1.3610884 | N211: 4.2
A212: 204 | B212: 8b | C212: Rua Ai-Dak Laran | D212: Urban Road | E212: Dili | G212: -8.5674137 | H212: 125.56691 | I212: -8.5688804 | J212: 125.56706 | K212: Hotmix | L212: Good | M212: 0.17912713 | N212: 3.8
A213: 205 | B213: 8c | C213: Rua De Ribeira De Maloa | D213: Urban Road | E213: Dili | G213: -8.5673702 | H213: 125.56688 | I213: -8.5591152 | J213: 125.56492 | K213: Hotmix & Gravel | L213: Good | M213: 0.9890705 | N213: 5
A214: 206 | B214: 8d | C214: Beco Kiar Tahan | D214: Urban Road | E214: Dili | G214: -8.5643807 | H214: 125.57047 | I214: -8.5637845 | J214: 125.56925 | K214: Gravel | L214: Bad | M214: 0.20650235 | N214: 3.4
A215: 207 | B215: 8e | C215: Travessa Do Matadouro | D215: Urban Road | E215: Dili | G215: -8.5641001 | H215: 125.57134 | I215: -8.5622297 | J215: 125.57224 | K215: Gravel | L215: Bad | M215: 0.41061641 | N215: 3
A216: 208 | B216: 8f | C216: Rua De Tuana-Laran | D216: Urban Road | E216: Dili | G216: -8.5659773 | H216: 125.56797 | I216: -8.5586581 | J216: 125.56872 | K216: Hotmix | L216: Good | M216: 0.89054563 | N216: 5
A217: 209 | B217: 8g | C217: Beco Ai-Tahan Matak | D217: Urban Road | E217: Dili | G217: -8.5611834 | H217: 125.57213 | I217: -8.5610341 | J217: 125.56953 | K217: Gravel | L217: Bad | M217: 0.30208856 | N217: 3.7
A218: 210 | B218: 8h | C218: 8h. Unnamed Road | D218: Urban Road | E218: Dili | G218: -8.5592387 | H218: 125.56886 | I218: -8.5601887 | J218: 125.57011 | K218: Gravel | L218: Bad | M218: 0.1739496 | N218: 7
A219: 211 | B219: 8i | C219: 8i. Unnamed Road | D219: Urban Road | E219: Dili | G219: -8.5600264 | H219: 125.56983 | I219: -8.5606077 | J219: 125.5695 | K219: Gravel | L219: Bad | M219: 0.073667716 | N219: 3.8
A220: 212 | B220: 8j | C220: Rua De Caju Laran | D220: Urban Road | E220: Dili | G220: -8.5586831 | H220: 125.56878 | I220: -8.5603482 | J220: 125.5681 | K220: Hotmix | L220: Good | M220: 0.26179228 | N220: 6
A221: 213 | B221: 8k | C221: Travessa De Ai-Samtuku II | D221: Urban Road | E221: Dili | G221: -8.559859 | H221: 125.56803 | I221: -8.55981 | J221: 125.56881 | K221: Hotmix | L221: Good | M221: 0.086002307 | N221: 5
A222: 214 | B222: 8l | C222: Travessa De Ai-Samtuku I | D222: Urban Road | E222: Dili | G222: -8.5593755 | H222: 125.56802 | I222: -8.5593122 | J222: 125.56878 | K222: Hotmix | L222: Good | M222: 0.083421497 | N222: 5
... A263: 255 | B263: Ra | C263: Travessa Cove Maluku | D263: Urban Road | E263: Dili | G263: -8.5705917 | H263: 125.53671 | I263: -8.5705286 | J263: 125.53398 | K263: Hotmix | L263: Good | M263: 0.30100318 | N263: 5.5
A264: 256 | B264: Rb | C264: Rua Has Fuan Tebar | D264: Urban Road | E264: Dili | G264: -8.5649637 | H264: 125.544 | I264: -8.5628984 | J264: 125.53745 | K264: Hotmix | L264: Good | M264: 0.75781477 | N264: 5.6 | P264: Onggoing Construction (Star King Unip., Lda.)
A265: 257 | B265: Rc | C265: Rua Fumentu III Kraik | D265: Urban Road | E265: Dili | G265: -8.5612748 | H265: 125.54105 | I265: -8.5613061 | J265: 125.53811 | K265: Hotmix | L265: Good | M265: 0.32578111 | N265: 5
A266: 258 | B266: Rd | C266: Rua Fumentu III Leten | D266: Urban Road | E266: Dili | G266: -8.5612869 | H266: 125.54054 | I266: -8.5623505 | J266: 125.53769 | K266: Hotmix | L266: Good | M266: 0.46442246 | N266: 5
A267: 259 | B267: Re | C267: Rua Fumentu Klaran | D267: Urban Road | E267: Dili | G267: -8.5574232 | H267: 125.53598 | I267: -8.5576033 | J267: 125.53863 | K267: Hotmix | L267: Good | M267: 0.2927869 | N267: 4.6
A268: 260 | B268: Rf | C268: Rua Fumentu Leten | D268: Urban Road | E268: Dili | G268: -8.5565037 | H268: 125.5362 | I268: -8.5567108 | J268: 125.53877 | K268: Hotmix | L268: Good | M268: 0.28401975 | N268: 4.8
A269: 261 | B269: Rg | C269: Rua Lesbutak 1 | D269: Urban Road | E269: Dili | G269: -8.5608898 | H269: 125.53521 | I269: -8.5539982 | J269: 125.53673 | K269: Hotmix | L269: Good | M269: 0.78329789 | N269: 6
A270: 262 | B270: Rh | C270: Rh. Unnamed Road | D270: Urban Road | E270: Dili | G270: -8.5645075 | H270: 125.55299 | I270: -8.5641557 | J270: 125.55331 | K270: Hotmix | L270: Good | M270: 0.052327218 | N270: 5
A271: 263 | B271: Ri | C271: Beco Leboku | D271: Urban Road | E271: Dili | G271: -8.5600449 | H271: 125.61455 | I271: -8.5603702 | J271: 125.61535 | K271: Gravel | L271: Good | M271: 0.097186585 | N271: 3.5
A272: 264 | B272: Rj | C272: Travessa Hare Kulit | D272: Urban Road | E272: Dili | G272: -8.5550294 | H272: 125.53656 | I272: -8.5565758 | J272: 125.53685 | K272: Hotmix | L272: Good | M272: 0.20970701 | N272: 4.5
A273: 265 | B273: Rk | C273: Travessa Hares Isin | D273: Urban Road | E273: Dili | G273: -8.5565746 | H273: 125.53685 | I273: -8.5574387 | J273: 125.53672 | K273: Hotmix | L273: Good | M273: 0.096647001 | N273: 4.5
A274: 266 | B274: Rl | C274: Travessa Manu Bure | D274: Urban Road | E274: Dili | G274: -8.5617241 | H274: 125.54014 | I274: -8.5626014 | J274: 125.54018 | K274: Hotmix | L274: Good | M274: 0.097201252 | N274: 5.2
A275: 267 | B275: Rm | C275: Travessa Manu Fauk | D275: Urban Road | E275: Dili | G275: -8.5617395 | H275: 125.53972 | I275: -8.5625731 | J275: 125.53973 | K275: Hotmix | L275: Good | M275: 0.092277824 | N275: 5.2
A276: 268 | B276: Rn | C276: Travessa Manu Funak | D276: Urban Road | E276: Dili | G276: -8.5617761 | H276: 125.53886 | I276: -8.562519 | J276: 125.5389 | K276: Hotmix | L276: Good | M276: 0.082338326 | N276: 5
... A285: 277 | B285: Ry | C285: Ry. Unnamed Road | D285: Urban Road | E285: Dili | G285: -8.5585472 | H285: 125.54633 | I285: -8.5590812 | J285: 125.54623 | K285: Gravel | L285: Bad | M285: 0.34169015 | N285: 3.5
A286: 278 | B286: Rw | C286: Rua De Aimutin | D286: Urban Road | E286: Dili | G286: -8.5604418 | H286: 125.5459 | I286: -8.5542279 | J286: 125.54795 | K286: Hotmix & Gravel | L286: Good | M286: 0.74134473 | N286: 7 | P286: Onggoing Construction (Dili United Unip., Lda.)
A287: 279 | B287: Rz | C287: Rua Ainanas Tahan | D287: Urban Road | E287: Dili | G287: -8.558047 | H287: 125.54638 | I287: -8.5578198 | J287: 125.54433 | K287: Gravel | L287: Bad | M287: 0.22681894 | N287: 5.2
...

Sheet BAUCAU
B2: GENERAL DESCRIPTION OF ROAD
B3: No. & Waypoint | C3: Link Name | D3: Link | E3: Post. Admin | F3: Municipality | G3: Coordinate Location (Decimal Degree) | K3: Existing Link | O3: Code Class | P3: Status | Q3: DESCRIPTION
G4: Start Point | I4: End Point | K4: Surface Type | L4: Condition | M4: Length (km) | N4: Width (m)
G5: Latitude | H5: Longitude | I5: Latitude | J5: Longitude
B6: 1 | C6: Lemen | D6: Urban Road | E6: Vemasse | F6: Baucau | G6: -8.515344 | H6: 126.22037 | I6: -8.5135741 | J6: 126.20842 | K6: Gravel | L6: Poor | M6: 1.7605499 | N6: 4 | Q6: Existing Road
B7: 2 | C7: Caicua - Cimiterio Vemasse | D7: Urban Road | E7: Vemasse | F7: Baucau | G7: -8.5062729 | H7: 126.23139 | I7: -8.5112694 | J7: 126.21323 | K7: Gravel | L7: Poor | M7: 2.816867 | N7: 5 | Q7: Existing Road
B8: 3 | C8: Pertigaan EDTL- Rotunda Mercado Vila Nova | D8: Urban Road | E8: Baucau Villa | F8: Baucau | G8: -8.4836757 | H8: 126.45711 | I8: -8.4788887 | J8: 126.45272 | K8: Concrete | L8: Good | M8: 1.0990685 | N8: 6 | Q8: Existing Road
B9: 4 | C9: Rua Watulete Knua | D9: Urban Road | E9: Baucau Villa | F9: Baucau | G9: -8.4788893 | H9: 126.45272 | I9: -8.470171 | J9: 126.45638 | K9: Gravel | L9: Poor | M9: 1.1467391 | N9: 7 | Q9: Existing Road
B10: 5 | C10: Rua Gomi Isi | D10: Urban Road | E10: Baucau Villa | F10: Baucau | G10: -8.4681702 | H10: 126.45919 | I10: -8.4667853 | J10: 126.45996 | K10: Hot Mix | L10: Good | M10: 0.17812486 | N10: 6.3 | Q10: Existing Road
B11: 6 | C11: Rua Uma 5 | D11: Urban Road | E11: Baucau Villa | F11: Baucau | G11: -8.4652145 | H11: 126.46083 | I11: -8.4624295 | J11: 126.45872 | K11: Hot Mix | L11: Good | M11: 0.41498877 | N11: 6 | Q11: Existing Road
B12: 7 | C12: Rua lamegua | D12: Urban Road | E12: Baucau Villa | F12: Baucau | G12: -8.4680151 | H12: 126.45923 | I12: -8.4630912 | J12: 126.4515 | K12: Gravel | L12: Poor | M12: 1.1798903 | N12: 4.6 | Q12: Existing Road
B13: 8 | C13: Rua WatuleteKnua (Office MOP oin) | D13: Urban Road | E13: Baucau Villa | F13: Baucau | G13: -8.4706978 | H13: 126.45878 | I13: -8.4701704 | J13: 126.45639 | K13: Hot Mix | L13: Good | M13: 0.27037051 | N13: 4.6 | Q13: Existing Road
B14: 9 | C14: Travessa Watulete | D14: Urban Road | E14: Baucau Villa | F14: Baucau | G14: -8.4703438 | H14: 126.45713 | I14: -8.4733925 | J14: 126.45701 | K14: Hot Mix | L14: Poor | M14: 0.33771294 | N14: 4.6 | Q14: Existing Road
B15: 10 | C15: Travessa Direitus Humanus | D15: Urban Road | E15: Baucau Villa | F15: Baucau | G15: -8.4734188 | H15: 126.45605 | I15: -8.4733791 | J15: 126.45819 | K15: Hot Mix | L15: Good | M15: 0.23594119 | N15: 5 | Q15: Existing Road
B16: 11 | C16: Rua Uma Mean | D16: Urban Road | E16: Baucau Villa | F16: Baucau | G16: -8.4762413 | H16: 126.4558 | I16: -8.476162 | J16: 126.45834 | K16: Hot Mix | L16: Good | M16: 0.27972031 | N16: 7 | Q16: Existing Road
B17: 12 | C17: Rua Samalacoliba | D17: Urban Road | E17: Baucau Villa | F17: Baucau | G17: -8.4839109 | H17: 126.45229 | I17: -8.4931126 | J17: 126.45509 | K17: Hot Mix | L17: Poor | M17: 1.1774206 | N17: 5.5 | Q17: Existing Road
... B57: 52 | C57: Venilale Jct - Fatulia | D57: Urban Road | E57: Venilale | F57: Baucau | G57: -8.643826 | H57: 126.37606 | I57: -8.6559684 | J57: 126.36207 | K57: Gravel | L57: Poor | M57: 2.3248577 | N57: 4.5 | Q57: Existing Road
B58: 53 | C58: Pertigaan Estrada Nasional-Areana | D58: Urban Road | E58: Venilale | F58: Baucau | G58: -8.6437994 | H58: 126.37608 | I58: -8.6394842 | J58: 126.40695 | K58: Hotmix & Gravel | L58: Good | M58: 4.0859477 | N58: 6 | P58: Completed 0.93 Km | R58: 0.93
B59: 54 | C59: Batu Falu - Merkadu Laga | D59: Urban Road | E59: Laga | F59: Baucau | G59: -8.4766364 | H59: 126.60096 | I59: -8.4740499 | J59: 126.59607 | K59: Gravel | L59: Poor | M59: 0.85532634 | N59: 5 | Q59: Existing Road
B60: 55 | C60: Watalae-Sawatisi | D60: Urban Road | E60: Laga | F60: Baucau | G60: -8.4744295 | H60: 126.59567 | I60: -8.4724793 | J60: 126.59899 | K60: Gravel | L60: Poor | M60: 1.1451442 | N60: 4 | Q60: Existing Road
B61: 56 | C61: Ataku sawatesi-Centro Saude Laga | D61: Urban Road | E61: Laga | F61: Baucau | G61: -8.4725437 | H61: 126.59879 | I61: -8.4745482 | J61: 126.59633 | K61: Gravel | L61: Poor | M61: 0.35219308 | N61: 3 | Q61: Existing Road
B62: 57 | C62: Administrasaun Oin-Teluwai Weli Weli | D62: Urban Road | E62: Laga | F62: Baucau | G62: -8.4734607 | H62: 126.59954 | I62: -8.4717061 | J62: 126.60155 | K62: Gravel | L62: Poor | M62: 0.31113053 | N62: 3 | Q62: Existing Road
B63: 58 | C63: Tobau | D63: Urban Road | E63: Laga | F63: Baucau | G63: -8.4704715 | H63: 126.59792 | I63: -8.4698662 | J63: 126.59878 | K63: Gravel | L63: Poor | M63: 0.11646444 | N63: 3 | Q63: Existing Road
B64: 59 | C64: Dailari-China Rate | D64: Urban Road | E64: Laga | F64: Baucau | G64: -8.4772259 | H64: 126.59246 | I64: -8.4757185 | J64: 126.59092 | K64: Gravel | L64: Poor | M64: 0.24565849 | N64: 3 | Q64: Existing Road
E66: RASIO (%)
C67: TOTAL Link (km) | D67: =SUM(M6:M64) -> 59.440702 | E67: =SUM(E68:E71) -> 1
C68: Poor Asphalt (km) | D68: =SUM(M14,M17) -> 1.5151335 | E68: =D68/D67 -> 0.025489832
C69: Good Asphalt (km) | D69: =SUM(M10,M11,M13,M15,M16,M21,M22,M23,M24,M25,M26,R58) -> 14.337341 | E69: =D69/D67 -> 0.2412041
C70: Good Concrete (Km) | D70: =M8 -> 1.0990685 | E70: =D70/D67 -> 0.018490166
C71: Gravel (km) | D71: =D67-D68-D69-D70 -> 42.489159 | E71: =D71/D67 -> 0.7148159

Sheet AILEU
B2: GENERAL DESCRIPTION OF ROAD
B3: No. & Waypoint | C3: Link Name | D3: Link | E3: Post. Admin | F3: Municipality | G3: Coordinate Location (Degree, Minute, Second) | K3: Existing Link | O3: Code Class | P3: Status | Q3: DESCRIPTION
G4: Start Point | I4: End Point | K4: Surface Type | L4: Condition | M4: Length (km) | N4: Width (m)
G5: Latitude | H5: Longitude | I5: Latitude | J5: Longitude
B6: 1 | C6: Beco Aitoin | D6: Urban Road | F6: Aileu | G6: -8.7503127 | H6: 125.56803 | I6: -8.7515979 | J6: 125.55702 | K6: Gravel | L6: Poor | M6: 1.4398906 | N6: 3.6
B7: 2 | C7: Beco Fnaarlelo | D7: Urban Road | F7: Aileu | G7: -8.7492233 | H7: 125.56749 | I7: -8.7469316 | J7: 125.56503 | K7: Gravel | L7: Poor | M7: 0.63481875 | N7: 3.3
B8: 3 | C8: Unnamed Road 5 | D8: Urban Road | F8: Aileu | G8: -8.7484565 | H8: 125.5651 | I8: -8.7502132 | J8: 125.56487 | K8: Gravel | L8: Poor | M8: 0.30102881 | N8: 3
B9: 4 | C9: Beco Riamori | D9: Urban Road | F9: Aileu | G9: -8.7405937 | H9: 125.56486 | I9: -8.7402865 | J9: 125.56362 | K9: Gravel | L9: Poor | M9: 0.22482621 | N9: 3.3
B10: 5 | C10: Rua Kabas Fatin | D10: Urban Road | F10: Aileu | G10: -8.7385229 | H10: 125.56453 | I10: -8.7213105 | J10: 125.55811 | K10: Gravel | L10: Poor | M10: 2.5292584 | N10: 0
B11: 6 | C11: Rua St. Pedro St. Paulo | D11: Urban Road | F11: Aileu | G11: -8.7376558 | H11: 125.56166 | I11: -8.7309992 | J11: 125.5669 | K11: Gravel | L11: Poor | M11: 1.0227659 | N11: 4
B12: 7 | C12: Travessa Aifunan Rosa | D12: Urban Road | F12: Aileu | G12: -8.7340156 | H12: 125.56394 | I12: -8.7349156 | J12: 125.56584 | K12: Existing Asphalt | L12: Poor | M12: 0.23190683 | N12: 4
B13: 8 | C13: Travessa Modo Laran | D13: Urban Road | F13: Aileu | G13: -8.7332175 | H13: 125.56434 | I13: -8.7332085 | J13: 125.56664 | K13: Existing Asphalt | L13: Poor | M13: 0.2533931 | N13: 3.6
B14: 9 | C14: Beco Pe. Felix Merino | D14: Urban Road | F14: Aileu | G14: -8.7325742 | H14: 125.56464 | I14: -8.7326885 | J14: 125.56437 | K14: Gravel | L14: Poor | M14: 0.032327667 | N14: 3
B15: 10 | C15: Rua Dom Alberto Ricardo da Silva | D15: Urban Road | F15: Aileu | G15: -8.7325723 | H15: 125.56464 | I15: -8.7321902 | J15: 125.56706 | K15: Gravel | L15: Poor | M15: 0.27069477 | N15: 4
B16: 11 | C16: Travessa Buititi | D16: Urban Road | F16: Aileu | G16: -8.7316772 | H16: 125.567 | I16: -8.7317781 | J16: 125.56631 | K16: Gravel | L16: Poor | M16: 0.077004904 | N16: 4.2
B17: 12 | C17: Travessa Makikit | D17: Urban Road | F17: Aileu | G17: -8.7305817 | H17: 125.56684 | I17: -8.7307242 | J17: 125.56613 | K17: Gravel | L17: Poor | M17: 0.080195846 | N17: 3.5
... B32: 27 | C32: Beco Quinta Portugal | D32: Urban Road | F32: Aileu | G32: -8.7110567 | H32: 125.56437 | I32: -8.7104518 | J32: 125.56522 | K32: Gravel | L32: Poor | M32: 0.1196752 | N32: 4
B33: 28 | C33: Rua Aisirimou 1 | D33: Urban Road | F33: Aileu | G33: -8.7145811 | H33: 125.56543 | I33: -8.7237833 | J33: 125.57506 | K33: Existing Asphalt | L33: Poor | M33: 2.267156 | N33: 5 | Q33: (Proposed for two lanes)
B34: 29 | C34: Rua Aisirimou 2 | D34: Urban Road | F34: Aileu | G34: -8.7239007 | H34: 125.57135 | I34: -8.7259975 | J34: 125.57138 | K34: Existing Asphalt | L34: Poor | M34: 0.23304241 | N34: 5 | Q34: (Proposed for two lanes)
B35: 30 | C35: Rua Lurlefa | D35: Urban Road | F35: Aileu | G35: -8.7220651 | H35: 125.57132 | I35: -8.720837 | J35: 125.57844 | K35: Gravel/Concrete | L35: Poor | M35: 0.88852875 | N35: 3
B36: 31 | C36: Rua Aituhu Laran | D36: Urban Road | F36: Aileu | G36: -8.7220022 | H36: 125.57236 | I36: -8.721582 | J36: 125.57492 | K36: Gravel | L36: Poor | M36: 0.40163282 | N36: 3.7
B37: 32 | C37: Travessa Mosek | D37: Urban Road | F37: Aileu | G37: -8.7222671 | H37: 125.57268 | I37: -8.7207586 | J37: 125.5739 | K37: Gravel | L37: Poor | M37: 0.21402373 | N37: 3
B38: 33 | C38: Travessa Goiava Laran | D38: Urban Road | F38: Aileu | G38: -8.7224412 | H38: 125.57311 | I38: -8.7210464 | J38: 125.57425 | K38: Gravel | L38: Poor | M38: 0.19893334 | N38: 3.5
B39: 34 | C39: Travessa Arame Rin | D39: Urban Road | F39: Aileu | G39: -8.724026 | H39: 125.57135 | I39: -8.7261729 | J39: 125.57057 | K39: Gravel | L39: Poor | M39: 0.33079495 | N39: 3.6
B40: 35 | C40: Travesa Aisirimou | D40: Urban Road | F40: Aileu | G40: -8.7248746 | H40: 125.57405 | I40: -8.7240266 | J40: 125.57138 | K40: Gravel | L40: Poor | M40: 0.34280573 | N40: 4
B41: 36 | C41: Beco Hudi Laran | D41: Urban Road | F41: Aileu | G41: -8.7228804 | H41: 125.57613 | I41: -8.7230628 | J41: 125.57737 | K41: Gravel | L41: Poor | M41: 0.15630014 | N41: 3
B42: 37 | C42: Rua Dom Baumeta | D42: Urban Road | F42: Aileu | G42: -8.7260495 | H42: 125.57141 | I42: -8.7253594 | J42: 125.56611 | K42: Existing Asphalt | L42: Poor | M42: 0.59816254 | N42: 5
B43: 38 | C43: Rua Fahilaku 1 | D43: Urban Road | F43: Aileu | G43: -8.7260606 | H43: 125.57136 | I43: -8.7273183 | J43: 125.56937 | K43: Gravel | L43: Poor | M43: 0.30116084 | N43: 3
B44: 39 | C44: Rua Fahilaco 2 | D44: Urban Road | F44: Aileu | G44: -8.7285107 | H44: 125.56725 | I44: -8.728444 | J44: 125.56773 | K44: Gravel | L44: Poor | M44: 0.052794283 | N44: 3
B45: 40 | C45: Beco Jambua Hun | D45: Urban Road | F45: Aileu | G45: -8.7263711 | H45: 125.57137 | I45: -8.725057 | J45: 125.57372 | K45: Gravel | L45: Poor | M45: 0.52736173 | N45: 2.3
B46: 49 | C46: Beco Daurlala | D46: Urban Road | F46: Aileu | G46: -8.7213115 | H46: 125.55813 | I46: -8.7203907 | J46: 125.55723 | K46: Gravel | L46: Poor | M46: 0.1460281 | N46: 3
... B54: 48 | C54: Rua Rua Martires da Patria | D54: Urban Road | F54: Aileu | G54: -8.7237808 | H54: 125.57505 | I54: -8.7205252 | J54: 125.5802 | K54: Gravel | L54: Poor | M54: 0.71594373 | N54: 5
E56: RASIO (%)
C57: TOTAL Link (km) | D57: =SUM(M6:M54) -> 20.639372 | E57: =SUM(E58:E59) -> 1
C58: Poor Asphalt (km) | D58: =SUM(M12,M13,M26,M33,M34,M42,M53) -> 4.0117541 | E58: =D58/D57 -> 0.19437384
C59: Gravel (km) | D59: =D57-D58 -> 16.627618 | E59: =D59/D57 -> 0.80562616

Sheet MANATUTO
B2: GENERAL DESCRIPTION OF ROAD
B3: No. & Waypoint | C3: Link Name | D3: Link | E3: Post. Admin | F3: Municipality | G3: Coordinate Location (Degree, Minute, Second) | K3: Existing Link | O3: Code Class | P3: Status | Q3: DESCRIPTION
G4: Start Point | I4: End Point | K4: Surface Type | L4: Condition | M4: Length (km) | N4: Width (m)
G5: Latitude | H5: Longitude | I5: Latitude | J5: Longitude
B6: 1 | C6: 1. Unnamed Road | D6: Urban Road | F6: Manatuto | G6: -8.5391362 | H6: 126.17587 | I6: -8.5664312 | J6: 126.16944 | K6: Asphalt | L6: Good | M6: 3.3362378 | N6: 4
B7: 2 | C7: 2. Unnamed Road | D7: Urban Road | F7: Manatuto | G7: -8.5381556 | H7: 126.16422 | I7: -8.5372967 | J7: 126.16362 | K7: Asphalt | L7: Good | M7: 0.1369361 | N7: 4
B8: 3 | C8: 3. Unnamed Road | D8: Urban Road | F8: Manatuto | G8: -8.5382182 | H8: 126.16322 | I8: -8.5004283 | J8: 126.15709 | K8: Asphalt | L8: Good | M8: 4.6598559 | N8: 5
B9: 4 | C9: 4. Unnamed Road | D9: Urban Road | F9: Manatuto | G9: -8.5237361 | H9: 126.1622 | I9: -8.5204996 | J9: 126.1639 | K9: Asphalt | L9: Good | M9: 0.4132691 | N9: 5
B10: 5 | C10: 5. Unnamed Road | D10: Urban Road | F10: Manatuto | G10: -8.5328852 | H10: 126.16445 | I10: -8.533631 | J10: 126.15767 | K10: Asphalt | L10: Good | M10: 0.8739059 | N10: 5
B11: 6 | C11: 6. Unnamed Road | D11: Urban Road | F11: Manatuto | G11: -8.5382385 | H11: 126.16451 | I11: -8.5423048 | J11: 126.16149 | K11: Asphalt | L11: Good | M11: 0.698903 | N11: 5
B12: 7 | C12: Avenida D. Martinho Lopes | D12: Urban Road | F12: Manatuto | G12: -8.5188128 | H12: 126.04179 | I12: -8.509601 | J12: 126.01298 | K12: Gravel | L12: Poor | M12: 4.2143331 | N12: 4.2
B13: 8 | C13: Avenida Coronel Santo Antonio | D13: Urban Road | F13: Manatuto | G13: -8.5187845 | H13: 126.0416 | I13: -8.5181892 | J13: 126.00731 | K13: Asphalt | L13: Good | M13: 4.5357666 | N13: 5.9
B14: 9 | C14: Rua We-En Hulau | D14: Urban Road | F14: Manatuto | G14: -8.5138476 | H14: 126.02885 | I14: -8.5127002 | J14: 126.03684 | K14: Gravel | L14: Poor | M14: 0.8959515 | N14: 6
B15: 10 | C15: Travessa Aitehen | D15: Urban Road | F15: Manatuto | G15: -8.5137617 | H15: 126.02897 | I15: -8.5127908 | J15: 126.02933 | K15: Gravel | L15: Poor | M15: 0.1160965 | N15: 6
B16: 11 | C16: Rua Hatu Sadan | D16: Urban Road | F16: Manatuto | G16: -8.5138541 | H16: 126.02886 | I16: -8.5191488 | J16: 126.02488 | K16: Gravel | L16: Poor | M16: 0.8096901 | N16: 6
B17: 12 | C17: 8. Unnamed Road | D17: Urban Road | F17: Manatuto | G17: -8.5126163 | H17: 126.02372 | I17: -8.5147505 | J17: 126.02226 | K17: Gravel | L17: Poor | M17: 0.2948331 | N17: 3
... B28: 23 | C28: Travessa Ileen-Ralan | D28: Urban Road | F28: Manatuto | G28: -8.5112159 | H28: 126.01367 | I28: -8.5100677 | J28: 126.0141 | K28: Asphalt | L28: Good | M28: 0.1356221 | N28: 6.5
B29: 24 | C29: Travessa Roo Ilin | D29: Urban Road | F29: Manatuto | G29: -8.5098002 | H29: 126.01343 | I29: -8.5087279 | J29: 126.01402 | K29: Asphalt | L29: Good | M29: 0.1353087 | N29: 5 | Q29: Base camp Company there
B30: 25 | C30: Travessa Aiata-Ralan | D30: Urban Road | F30: Manatuto | G30: -8.5098 | H30: 126.01343 | I30: -8.5106847 | J30: 126.01293 | K30: Asphalt | L30: Good | M30: 0.1127072 | N30: 5
B31: 26 | C31: 13. Unnamed Road | D31: Urban Road | F31: Manatuto | G31: -8.5085985 | H31: 126.01385 | I31: -8.5053044 | J31: 126.01143 | K31: Gravel | L31: Poor | M31: 0.4570584 | N31: 5
B32: 27 | C32: Rua Martires da Patria | D32: Urban Road | F32: Manatuto | G32: -8.510307 | H32: 126.0124 | I32: -8.5143478 | J32: 126.01961 | K32: Asphalt | L32: Good | M32: 0.9222259 | N32: 7
B33: 28 | C33: Travessa Sau-Huhun | D33: Urban Road | F33: Manatuto | G33: -8.5107082 | H33: 126.01295 | I33: -8.5121755 | J33: 126.01215 | K33: Asphalt | L33: Good | M33: 0.185068 | N33: 6.5
B34: 29 | C34: Travessa Dolak En Naholesu | D34: Urban Road | F34: Manatuto | G34: -8.5112175 | H34: 126.01367 | I34: -8.5127415 | J34: 126.013 | K34: Asphalt | L34: Good | M34: 0.1849028 | N34: 5.5
B35: 30 | C35: Rua Hahi Rain | D35: Urban Road | F35: Manatuto | G35: -8.5117365 | H35: 126.01492 | I35: -8.5134663 | J35: 126.01472 | K35: Asphalt | L35: Good | M35: 0.2463478 | N35: 6.5
B36: 31 | C36: Rua Leten Birak | D36: Urban Road | F36: Manatuto | G36: -8.5120339 | H36: 126.01549 | I36: -8.5141705 | J36: 126.0143 | K36: Asphalt | L36: Good | M36: 0.2706026 | N36: 7
B37: 32 | C37: Beco Mate Raten | D37: Urban Road | F37: Manatuto | G37: -8.5103935 | H37: 126.01131 | I37: -8.5095659 | J37: 126.01206 | K37: Gravel | L37: Poor | M37: 0.1242148 | N37: 4
B38: 33 | C38: Travessa Wereman | D38: Urban Road | F38: Manatuto | G38: -8.5107971 | H38: 126.01201 | I38: -8.511657 | J38: 126.01131 | K38: Asphalt | L38: Good | M38: 0.2856325 | N38: 5
B39: 34 | C39: Rua 14 de Maio de 2002 | D39: Urban Road | F39: Manatuto | G39: -8.5116437 | H39: 126.01132 | I39: -8.5183228 | J39: 126.02111 | K39: Asphalt | L39: Good | M39: 1.3252356 | N39: 7
B40: 35 | C40: 19. Unnamed Road | D40: Urban Road | F40: Manatuto | G40: -8.5170085 | H40: 126.01895 | I40: -8.5193333 | J40: 126.01834 | K40: Asphalt | L40: Good | M40: 0.2659085 | N40: 5.5
B41: 36 | C41: Rua Hatunesun | D41: Urban Road | F41: Manatuto | G41: -8.5141688 | H41: 126.0143 | I41: -8.5163016 | J41: 126.00777 | K41: Asphalt | L41: Good | M41: 1.0114892 | N41: 7
... B44: 39 | C44: 18. Unnamed Road | D44: Urban Road | F44: Manatuto | G44: -8.5171728 | H44: 126.00371 | I44: -8.5148325 | J44: 126.00814 | K44: Asphalt | L44: Good | M44: 0.571603 | N44: 7.2
E46: RASIO (%)
C47: TOTAL Link (km) | D47: =SUM(M6:M44) -> 30.407874 | E47: =SUM(E48:E50) -> 1
C48: Good Asphalt (km) | D48: =SUM(M6,M7,M8,M9,M10,M11,M13,M21,M22,M24,M25,M26,M27,M28,M29,M30,M32,M33,M34,M35,M36,M38,M39,M40,M41,M44) -> 21.454867 | E48: =D48/D47 -> 0.70556943
C49: Good Concrete (Km) | D49: =M23 -> 0.188659 | E49: =D49/D47 -> 0.0062042811
C50: Gravel (km) | D50: =D47-D48-D49 -> 8.7643489 | E50: =D50/D47 -> 0.28822629

Sheet AINARO
B2: GENERAL DESCRIPTION OF ROAD
B3: No. & Waypoint | C3: Link Name | D3: Link | E3: Post. Admin | F3: Municipality | G3: Coordinate Location (Degree, Minute, Second) | K3: Existing Link | O3: Code Class | P3: Status | Q3: DESCRIPTION
G4: Start Point | I4: End Point | K4: Surface Type | L4: Condition | M4: Length (km) | N4: Width (m)
G5: Latitude | H5: Longitude | I5: Latitude | J5: Longitude
B6: 1 | C6: Rua Mal-Buti | D6: Urban Road | F6: Ainaro | G6: -8.9911746 | H6: 125.51091 | I6: -8.9934413 | J6: 125.5101 | K6: Existing Asphalt | L6: Poor | M6: 0.32591127 | N6: 5.2 | P6: Onggoing DED (PT. Yodya Karya jv Aria)
B7: 2 | C7: Travessa Kaduna | D7: Urban Road | F7: Ainaro | G7: -8.9915293 | H7: 125.51106 | I7: -8.9922723 | J7: 125.51021 | K7: Existing Asphalt | L7: Poor | M7: 0.12511637 | N7: 4 | P7: Onggoing DED (PT. Yodya Karya jv Aria)
B8: 3 | C8: Rua Cotpere | D8: Urban Road | F8: Ainaro | G8: -8.9919638 | H8: 125.50997 | I8: -8.992961 | J8: 125.51074 | K8: Existing Asphalt | L8: Poor | M8: 0.13925709 | N8: 5.8 | P8: Onggoing DED (PT. Yodya Karya jv Aria)
B9: 4 | C9: Rua Lesu Mau Mou | D9: Urban Road | F9: Ainaro | G9: -8.9924957 | H9: 125.50932 | I9: -8.9946275 | J9: 125.51279 | K9: Existing Asphalt | L9: Poor | M9: 0.56766337 | N9: 6.8 | P9: Onggoing DED (PT. Yodya Karya jv Aria)
B10: 5 | C10: 8. Unnamed Road | D10: Urban Road | F10: Ainaro | G10: -8.9931097 | H10: 125.50861 | I10: -8.9922724 | J10: 125.51021 | K10: Existing Asphalt | L10: Poor | M10: 0.23430184 | N10: 5.8
B11: 6 | C11: Travessa Orluli | D11: Urban Road | F11: Ainaro | G11: -8.9919093 | H11: 125.50993 | I11: -8.9908654 | J11: 125.50915 | K11: Existing Asphalt | L11: Poor | M11: 0.14415277 | N11: 6.2
B12: 7 | C12: 4. Unnamed Road | D12: Urban Road | F12: Ainaro | G12: -8.990049 | H12: 125.51018 | I12: -8.9918913 | J12: 125.50789 | K12: Existing Asphalt | L12: Poor | M12: 0.32411739 | N12: 5
B13: 8 | C13: Travessa 5 de Maio | D13: Urban Road | F13: Ainaro | G13: -8.9914357 | H13: 125.50846 | I13: -8.9924373 | J13: 125.50928 | K13: Existing Asphalt | L13: Poor | M13: 0.143553 | N13: 7
B14: 9 | C14: Rua Mal-Meta | D14: Urban Road | F14: Ainaro | G14: -8.9927221 | H14: 125.50839 | I14: -8.9906618 | J14: 125.51079 | K14: Gravel | L14: Poor | M14: 0.34922076 | N14: 5.8
B15: 10 | C15: Rua Ai-Teka Laran | D15: Urban Road | F15: Ainaro | G15: -8.9909561 | H15: 125.51107 | I15: -8.9864359 | J15: 125.50648 | K15: Gravel | L15: Poor | M15: 0.71864727 | N15: 6.2 | P15: Onggoing DED (PT. Yodya Karya jv Aria)
B16: 11 | C16: 5. Unnamed Road | D16: Urban Road | F16: Ainaro | G16: -8.9875043 | H16: 125.5052 | I16: -8.9844645 | J16: 125.50915 | K16: Gravel | L16: Poor | M16: 0.63319601 | N16: 4.9 | P16: Onggoing DED PT. Yodya Karya jv Aria (0.181 km)
B17: 12 | C17: Rua Pe. Norberto-Pires | D17: Urban Road | F17: Ainaro | G17: -8.9930441 | H17: 125.50859 | I17: -8.983599 | J17: 125.49705 | K17: Existing Asphalt | L17: Poor | M17: 2.0441446 | N17: 7.2 | P17: Onggoing DED (PT. Yodya Karya jv Aria)
B18: 13 | C18: Travessa Jose Antonio Bonifacio | D18: Urban Road | F18: Ainaro | G18: -8.987505 | H18: 125.5052 | I18: -8.9893384 | J18: 125.50304 | K18: Gravel | L18: Poor | M18: 0.33102745 | N18: 4.9 | P18: Onggoing DED (PT. Yodya Karya jv Aria)
B19: 14 | C19: Travessa Builih | D19: Urban Road | F19: Ainaro | G19: -8.9890378 | H19: 125.50264 | I19: -8.9911056 | J19: 125.50077 | K19: Gravel | L19: Poor | M19: 0.30820899 | N19: 4.6 | P19: Onggoing DED (PT. Yodya Karya jv Aria)
B20: 15 | C20: Rua Venancio Ferras | D20: Urban Road | F20: Ainaro | G20: -8.9966014 | H20: 125.50542 | I20: -8.9801239 | J20: 125.49022 | K20: Gravel | L20: Poor | M20: 2.822796 | N20: 6.9 | P20: Onggoing DED (PT. Yodya Karya jv Aria)
B21: 16 | C21: Travessa Karau Ulun | D21: Urban Road | F21: Ainaro | G21: -8.9847965 | H21: 125.49641 | I21: -8.9836781 | J21: 125.49708 | K21: Gravel | L21: Poor | M21: 0.2240538 | N21: 3.8
B22: 17 | C22: Rua Capita Taiassa | D22: Urban Road | F22: Ainaro | G22: -8.9936889 | H22: 125.50784 | I22: -8.972969 | J22: 125.48778 | K22: Existing Asphalt | L22: Poor | M22: 3.2965322 | N22: 6.3 | P22: Onggoing DED (PT. Yodya Karya jv Aria)
B23: 18 | C23: Beco Riaheu | D23: Urban Road | F23: Ainaro | G23: -8.9853585 | H23: 125.50391 | I23: -8.9841636 | J23: 125.50454 | K23: Gravel | L23: Poor | M23: 0.15208584 | N23: 3.5
B24: 19 | C24: Beco Tlugil | D24: Urban Road | F24: Ainaro | G24: -8.9848484 | H24: 125.5036 | I24: -8.9854815 | J24: 125.502 | K24: Gravel | L24: Poor | M24: 0.22130289 | N24: 3.4
B25: 20 | C25: Beco Darlala | D25: Urban Road | F25: Ainaro | G25: -8.9842274 | H25: 125.50322 | I25: -8.9848748 | J25: 125.50238 | K25: Gravel | L25: Poor | M25: 0.12492822 | N25: 3.4
B26: 21 | C26: Rua Joao Mau Rou | D26: Urban Road | F26: Ainaro | G26: -8.9827831 | H26: 125.50094 | I26: -8.9711669 | J26: 125.50101 | K26: Gravel | L26: Poor | M26: 2.0027948 | N26: 4.5 | P26: Onggoing DED (PT. Yodya Karya jv Aria)
B27: 22 | C27: Rua Siri Loe | D27: Urban Road | F27: Ainaro | G27: -8.9919673 | H27: 125.51296 | I27: -8.9976769 | J27: 125.5157 | K27: Existing Asphalt | L27: Poor | M27: 1.0468859 | N27: 3.2 | P27: Onggoing DED (PT. Yodya Karya jv Aria)
B28: 23 | C28: Rua 3 Janeiro 1999 | D28: Urban Road | F28: Ainaro | G28: -8.9832872 | H28: 125.51949 | I28: -8.9961156 | J28: 125.52153 | K28: Gravel | L28: Poor | M28: 1.8078336 | N28: 3 | P28: Onggoing DED PT. Yodya Karya jv Aria (1.110 Km)
B29: 24 | C29: Rua Valente Maululi | D29: Urban Road | F29: Ainaro | G29: -8.9950486 | H29: 125.50434 | I29: -8.9969854 | J29: 125.50123 | K29: Gravel | L29: Poor | M29: 0.40629911 | N29: 4.2
B30: 25 | C30: Travessa Cafe | D30: Urban Road | F30: Ainaro | G30: -8.9964351 | H30: 125.50205 | I30: -8.9947939 | J30: 125.50135 | K30: Gravel | L30: Poor | M30: 0.19739318 | N30: 4.6
B31: 26 | C31: Travessa Central EDTL Ainaro | D31: Urban Road | F31: Ainaro | G31: -8.9972887 | H31: 125.50434 | I31: -8.9958185 | J31: 125.50314 | K31: Gravel | L31: Poor | M31: 0.27407306 | N31: 4.5
B32: 27 | C32: Rua Rae Gua | D32: Urban Road | F32: Ainaro | G32: -8.9980186 | H32: 125.50352 | I32: -8.994484 | J32: 125.50219 | K32: Gravel | L32: Poor | M32: 0.41889728 | N32: 4.3
B33: 28 | C33: Rua Poe Mau Lore | D33: Urban Road | F33: Ainaro | G33: -8.9891583 | H33: 125.49866 | I33: -8.9992382 | J33: 125.50196 | K33: Gravel | L33: Poor | M33: 1.2426184 | N33: 3.5
B34: 29 | C34: Travessa Manuel Pereira | D34: Urban Road | F34: Ainaro | G34: -8.991106 | H34: 125.50077 | I34: -8.9947297 | J34: 125.50146 | K34: Gravel | L34: Poor | M34: 0.49281329 | N34: 5.6 | P34: Onggoing DED (PT. Yodya Karya jv Aria)
B35: 30 | C35: Rua Gur Ulu | D35: Urban Road | F35: Ainaro | G35: -9.0000525 | H35: 125.5009 | I35: -8.9942364 | J35: 125.49968 | K35: Gravel | L35: Poor | M35: 0.71117884 | N35: 4.2 | P35: Onggoing DED PT. Yodya Karya jv Aria (0.524 km)
B36: 31 | C36: Travessa Mau Lore I | D36: Urban Road | F36: Ainaro | G36: -8.9950989 | H36: 125.50061 | I36: -8.9956314 | J36: 125.49923 | K36: Gravel | L36: Poor | M36: 0.16279709 | N36: 3.5 | P36: Onggoing DED (PT. Yodya Karya jv Aria)
B37: 32 | C37: Travessa Mau Lore II | D37: Urban Road | F37: Ainaro | G37: -8.9957731 | H37: 125.50085 | I37: -8.9962602 | J37: 125.49936 | K37: Gravel | L37: Poor | M37: 0.17193788 | N37: 3
B38: 33 | C38: Travessa Mau Lore III | D38: Urban Road | F38: Ainaro | G38: -8.9965811 | H38: 125.50111 | I38: -8.9971304 | J38: 125.49969 | K38: Gravel | L38: Poor | M38: 0.16757359 | N38: 2.5
B39: 34 | C39: Travessa Hatanalau | D39: Urban Road | F39: Ainaro | G39: -9.0007532 | H39: 125.49981 | I39: -8.9970917 | J39: 125.49967 | K39: Gravel | L39: Poor | M39: 0.42503052 | N39: 2.8 | P39: Onggoing DED (PT. Yodya Karya jv Aria)
B40: 35 | C40: Beco Bubur Laran | D40: Urban Road | F40: Ainaro | G40: -8.9944715 | H40: 125.50221 | I40: -8.9928265 | J40: 125.50028 | K40: Gravel | L40: Poor | M40: 0.34162743 | N40: 2.5
B41: 36 | C41: Rua Rus Gua Poe Buti | D41: Urban Road | F41: Ainaro | G41: -8.9904999 | H41: 125.50702 | I41: -8.9937063 | J41: 125.50333 | K41: Existing Asphalt | L41: Poor | M41: 0.54016844 | N41: 6.8 | P41: Onggoing DED (PT. Yodya Karya jv Aria)
B42: 37 | C42: Rua Central Eletricidade Ainaro | D42: Urban Road | F42: Ainaro | G42: -8.9936837 | H42: 125.5033 | I42: -8.9950991 | J42: 125.50061 | K42: Gravel | L42: Poor | M42: 0.33831387 | N42: 5.2 | P42: Onggoing DED (PT. Yodya Karya jv Aria)
B43: 38 | C43: Beco As Lala | D43: Urban Road | F43: Ainaro | G43: -8.998494 | H43: 125.50319 | I43: -8.9991152 | J43: 125.50397 | K43: Gravel | L43: Poor | M43: 0.1487852 | N43: 3.5
B44: 39 | C44: Beco Rae Do I | D44: Urban Road | F44: Ainaro | G44: -8.9989949 | H44: 125.50247 | I44: -8.9997326 | J44: 125.5024 | K44: Gravel | L44: Poor | M44: 0.11509691 | N44: 3
B45: 40 | C45: Beco Rae Do II | D45: Urban Road | F45: Ainaro | G45: -8.9992088 | H45: 125.50214 | I45: -9.0003943 | J45: 125.50261 | K45: Gravel | L45: Poor | M45: 0.14382731 | N45: 2.5
B46: 41 | C46: 15. Unnamed Road | D46: Urban Road | F46: Ainaro | G46: -8.9990219 | H46: 125.50044 | I46: -8.9978431 | J46: 125.5009 | K46: Gravel | L46: Poor | M46: 0.19168836 | N46: 2.5
B47: 42 | C47: Rua Huta | D47: Urban Road | F47: Ainaro | G47: -9.0111763 | H47: 125.50356 | I47: -8.9984408 | J47: 125.49922 | K47: Existing Asphalt | L47: Poor | M47: 2.5724453 | N47: 3.6 | P47: Onggoing DED (PT. Yodya Karya jv Aria)
B48: 43 | C48: Rua 19 Fernando Lasama de Araujo | D48: Urban Road | F48: Ainaro | G48: -8.982862 | H48: 125.51917 | I48: -8.9691981 | J48: 125.51094 | K48: Existing Plum | L48: Good | M48: 1.9036354 | N48: 5.4 | P48: Onggoing DED (PT. Yodya Karya jv Aria)
B49: 44 | C49: 11. Unnamed Road | D49: Urban Road | F49: Ainaro | G49: -9.0007771 | H49: 125.49983 | I49: -9.0111605 | J49: 125.50358 | K49: Existing Asphalt | L49: Good | M49: 1.2448191 | N49: 6.2 | P49: Onggoing DED (PT. Yodya Karya jv Aria)
B50: 45 | C50: Rua Lemos Almeida | D50: Urban Road | F50: Ainaro | G50: -8.9961153 | H50: 125.52153 | I50: -8.9976798 | J50: 125.5157 | K50: Gravel | L50: Poor | M50: 0.71651298 | N50: 4.2 | P50: Onggoing DED (PT. Yodya Karya jv Aria)
E52: RASIO (%)
C53: TOTAL Link (km) | D53: =SUM(M6:M50) -> 31.015264 | E53: =SUM(E54:E57) -> 1
C54: Poor Asphalt (km) | D54: =SUM(M6,M7,M8,M9,M10,M11,M12,M13,M17,M22,M27,M41,M47,M49) -> 12.749069 | E54: =D54/D53 -> 0.41105788
C55: Good Asphalt (Km) | D55: =M49 -> 1.2448191 | E55: =D55/D53 -> 0.040135692
C56: Good Concrete (Km) | D56: =M48 -> 1.9036354 | E56: =D56/D53 -> 0.061377372
C57: Gravel (km) | D57: =D53-D54-D55-D56 -> 15.117741 | E57: =D57/D53 -> 0.48742906

Sheet ATAURO
B2: GENERAL DESCRIPTION OF ROAD
B3: No. & Waypoint | C3: Link Name | D3: Link | E3: Post. Admin | F3: Municipality | G3: Coordinate Location (Degree, Minute, Second) | K3: Existing Link | O3: Code Class | P3: Status | Q3: DESCRIPTION
G4: Start Point | I4: End Point | K4: Surface Type | L4: Condition | M4: Length (km) | N4: Width (m)
G5: Latitude | H5: Longitude | I5: Latitude | J5: Longitude
B6: 1 | C6: 1. Unnamed Road | D6: Urban Road | F6: Atauro | G6: -8.2218791 | H6: 125.60962 | I6: -8.2210582 | J6: 125.6068 | K6: Gravel | L6: Poor | M6: 0.32399874 | N6: 7 | Q6: Survey Topografia ona
B7: 2 | C7: 2. Unnamed Road | D7: Urban Road | F7: Atauro | G7: -8.2213994 | H7: 125.60797 | I7: -8.2243543 | J7: 125.60705 | K7: Gravel | L7: Poor | M7: 0.34278427 | N7: 5.3 | Q7: Survey Topografia ona
B8: 3 | C8: 3. Unnamed Road | D8: Urban Road | F8: Atauro | G8: -8.2213981 | H8: 125.60797 | I8: -8.217455 | J8: 125.60915 | K8: Gravel | L8: Poor | M8: 0.45598913 | N8: 4.7 | Q8: Survey Topografia ona
B9: 4 | C9: 4. Unnamed Road | D9: Urban Road | F9: Atauro | G9: -8.2188069 | H9: 125.61055 | I9: -8.2180161 | J9: 125.60901 | K9: Gravel | L9: Poor | M9: 0.19233685 | N9: 3.7 | Q9: Survey Topografia ona
B10: 5 | C10: 5. Unnamed Road | D10: Urban Road | F10: Atauro | G10: -8.2169282 | H10: 125.61109 | I10: -8.2241563 | J10: 125.60599 | K10: Gravel | L10: Poor | M10: 1.1816086 | N10: 5.7 | Q10: Survey Topografia ona
B11: 6 | C11: 6. Unnamed Road | D11: Urban Road | F11: Atauro | G11: -8.2247386 | H11: 125.60876 | I11: -8.2241574 | J11: 125.60599 | K11: Gravel | L11: Poor | M11: 0.31387141 | N11: 4.5 | Q11: Survey Topografia ona
B12: 7 | C12: 7. Unnamed Road | D12: Urban Road | F12: Atauro | G12: -8.2241579 | H12: 125.60599 | I12: -8.2223356 | J12: 125.60511 | K12: Gravel | L12: Poor | M12: 0.44531594 | N12: 5.6 | Q12: Survey Topografia ona
B13: 8 | C13: 16. Unnamed Road | D13: Urban Road | F13: Atauro | G13: -8.2278195 | H13: 125.60792 | I13: -8.2271511 | J13: 125.60427 | K13: Gravel | L13: Poor | M13: 0.41826069 | N13: 4.8
B14: 9 | C14: 8. Unnamed Road | D14: Urban Road | F14: Atauro | G14: -8.1848433 | H14: 125.63345 | I14: -8.1855067 | J14: 125.63325 | K14: Gravel | L14: Poor | M14: 1.243021 | N14: 6.9 | Q14: Survey Topografia ona
B15: 10 | C15: 9. Unnamed Road | D15: Urban Road | F15: Atauro | G15: -8.1839735 | H15: 125.63067 | I15: -8.1812827 | J15: 125.63152 | K15: Gravel | L15: Poor | M15: 0.31297108 | N15: 6.6 | Q15: Survey Topografia ona
B16: 11 | C16: 10. Unnamed Road | D16: Urban Road | F16: Atauro | G16: -8.1840686 | H16: 125.63098 | I16: -8.184797 | J16: 125.6309 | K16: Gravel | L16: Poor | M16: 0.081230221 | N16: 6.4 | Q16: Survey Topografia ona
B17: 12 | C17: 11. Unnamed Road | D17: Urban Road | F17: Atauro | G17: -8.1838786 | H17: 125.63032 | I17: -8.1845519 | J17: 125.63006 | K17: Gravel | L17: Poor | M17: 0.080190239 | N17: 7.1 | Q17: Survey Topografia ona
B18: 13 | C18: 12. Unnamed Road | D18: Urban Road | F18: Atauro | G18: -8.1845235 | H18: 125.63244 | I18: -8.1851905 | J18: 125.63223 | K18: Gravel | L18: Poor | M18: 0.077549841 | N18: 6.7 | Q18: Survey Topografia ona
B19: 14 | C19: 13. Unnamed Road | D19: Urban Road | F19: Atauro | G19: -8.1875235 | H19: 125.63267 | I19: -8.1842666 | J19: 125.6292 | K19: Gravel | L19: Poor | M19: 0.6084685 | N19: 5.3
B20: 15 | C20: 14. Unnamed Road | D20: Urban Road | F20: Atauro | G20: -8.1869943 | H20: 125.63061 | I20: -8.1847939 | J20: 125.6309 | K20: Gravel | L20: Poor | M20: 0.24584191 | N20: 7.8
B21: 16 | C21: 15. Unnamed Road | D21: Urban Road | F21: Atauro | G21: -8.1872686 | H21: 125.63174 | I21: -8.185191 | J21: 125.63223 | K21: Gravel | L21: Poor | M21: 0.23649464 | N21: 4.8
B22: 17 | C22: 17. Unnamed Road | D22: Urban Road | F22: Atauro | G22: -8.2514607 | H22: 125.60688 | I22: -8.2574737 | J22: 125.60141 | K22: Gravel | L22: Poor | M22: 0.93116786 | N22: 6.4
B23: 18 | C23: 18. Unnamed Road | D23: Urban Road | F23: Atauro | G23: -8.2524851 | H23: 125.60493 | I23: -8.2656012 | J23: 125.60214 | K23: Gravel | L23: Poor | M23: 1.5928206 | N23: 6.6
B24: 19 | C24: 19. Unnamed Road | D24: Urban Road | F24: Atauro | G24: -8.2554193 | H24: 125.60307 | I24: -8.2574782 | J24: 125.6036 | K24: Gravel | L24: Poor | M24: 0.2356779 | N24: 5.3
B25: 20 | C25: 20. Unnamed Road | D25: Urban Road | F25: Atauro | G25: -8.2562173 | H25: 125.60331 | I25: -8.2556325 | J25: 125.60701 | K25: Gravel | L25: Poor | M25: 0.41400548 | N25: 6
B26: 21 | C26: 21. Unnamed Road | D26: Urban Road | F26: Atauro | G26: -8.257557 | H26: 125.60691 | I26: -8.2574767 | J26: 125.60141 | K26: Gravel | L26: Poor | M26: 0.60891203 | N26: 6.7
B27: 22 | C27: 22. Unnamed Road | D27: Urban Road | F27: Atauro | G27: -8.2590889 | H27: 125.60654 | I27: -8.2587524 | J27: 125.60512 | K27: Gravel | L27: Poor | M27: 0.16110005 | N27: 5.5
B28: 23 | C28: 23. Unnamed Road | D28: Urban Road | F28: Atauro | G28: -8.2601226 | H28: 125.60617 | I28: -8.259162 | J28: 125.605 | K28: Gravel | L28: Poor | M28: 0.17103932 | N28: 5.6
B29: 24 | C29: 27. Unnamed Road | D29: Urban Road | F29: Atauro | G29: -8.2642513 | H29: 125.60473 | I29: -8.2639228 | J29: 125.60348 | K29: Gravel | L29: Poor | M29: 0.14316612 | N29: 6.1
B30: 25 | C30: 24. Unnamed Road | D30: Urban Road | F30: Atauro | G30: -8.2668119 | H30: 125.60313 | I30: -8.2680104 | J30: 125.60309 | K30: Gravel | L30: Poor | M30: 0.59698043 | N30: 6.5
... B32: 27 | C32: 26.Unnamed Road | D32: Urban Road | F32: Atauro | G32: -8.2680172 | H32: 125.6031 | I32: -8.2655978 | J32: 125.60214 | K32: Gravel | L32: Poor | M32: 0.35955526 | N32: 5.6
E34: RASIO (%)
C35: TOTAL Link (km) | D35: =SUM(M6:M32) -> 12.394108 | E35: =SUM(E36:E37) -> 1
C36: Asphalt (km) | D36: 0 | E36: =D36/D35 -> 0
C37: Gravel (km) | D37: =SUM(M6:M32) -> 12.394108 | E37: =D37/D35 -> 1

Sheet ERMERA
B2: GENERAL DESCRIPTION OF ROAD
B3: No. & Waypoint | C3: Link Name | D3: Link | E3: Post. Admin | F3: Municipality | G3: Coordinate Location (Decimal Degree) | K3: Existing Link | O3: Code Class | P3: Status | Q3: DESCRIPTION
G4: Start Point | I4: End Point | K4: Surface Type | L4: Condition | M4: Length (km) | N4: Width (m)
G5: Latitude | H5: Longitude | I5: Latitude | J5: Longitude
B6: 1 | C6: Avenida Lorenco dos Santos 1 | D6: Urban Road | F6: Ermera | G6: -8.7240117 | H6: 125.43582 | I6: -8.7219485 | J6: 125.42789 | K6: Asphalt | L6: Good | M6: 0.90328223 | N6: 7
B7: 2 | C7: Avenida Lorenco dos Santos 2 | D7: Urban Road | F7: Ermera | G7: -8.7218619 | H7: 125.42793 | I7: -8.7239206 | J7: 125.43584 | K7: Asphalt | L7: Good | M7: 0.90068912 | N7: 7
B8: 3 | C8: Rua Fatuk Kero | D8: Urban Road | F8: Ermera | G8: -8.7086857 | H8: 125.43649 | I8: -8.705835 | J8: 125.4569 | K8: Asphalt | L8: Good | M8: 3.2848539 | N8: 4.4 | Q8: 630 m Gravel
B9: 4 | C9: Rua Lahgoa | D9: Urban Road | F9: Ermera | G9: -8.7116277 | H9: 125.44233 | I9: -8.7122615 | J9: 125.44548 | K9: Gravel | L9: Poor | M9: 0.58565204 | N9: 4.5
B10: 5 | C10: Rua Erberludu | D10: Urban Road | F10: Ermera | G10: -8.7132132 | H10: 125.43631 | I10: -8.7215203 | J10: 125.42739 | K10: Asphalt | L10: Good | M10: 1.4539031 | N10: 3.1 | Q10: 197 m Gravel
B11: 6 | C11: Rua Jose Exposto Santa | D11: Urban Road | F11: Ermera | G11: -8.7221306 | H11: 125.43602 | I11: -8.7204334 | J11: 125.42813 | K11: Gravel | L11: Poor | M11: 0.89004457 | N11: 4.6 | Q11: 438 Asphalt & 452 Gravel
B12: 7 | C12: Rua Martires da Patria | D12: Urban Road | F12: Ermera | G12: -8.7250163 | H12: 125.43562 | I12: -8.7239892 | J12: 125.43134 | K12: Gravel | L12: Poor | M12: 0.48553223 | N12: 5.6
B13: 8 | C13: Rua Celestino Soares | D13: Urban Road | F13: Ermera | G13: -8.7247386 | H13: 125.43114 | I13: -8.726607 | J13: 125.43541 | K13: Gravel | L13: Poor | M13: 0.51560172 | N13: 5.6
B14: 9 | C14: Rua Raemetlefa | D14: Urban Road | F14: Ermera | G14: -8.7216978 | H14: 125.43402 | I14: -8.7214812 | J14: 125.43293 | K14: Gravel | L14: Poor | M14: 0.51220737 | N14: 4.8
B15: 10 | C15: Rua Ema Rui | D15: Urban Road | F15: Ermera | G15: -8.725051 | H15: 125.43582 | I15: -8.7221627 | J15: 125.43616 | K15: Gravel | L15: Poor | M15: 0.54095369 | N15: 6.4
B16: 11 | C16: Rua Urep A-5 | D16: Urban Road | F16: Ermera | G16: -8.724068 | H16: 125.43602 | I16: -8.7247177 | J16: 125.44045 | K16: Gravel | L16: Poor | M16: 0.501527 | N16: 4 | Q16: 495 m Asphalt
B17: 12 | C17: Rua A-4 Riheu | D17: Urban Road | F17: Ermera | G17: -8.7244027 | H17: 125.43746 | I17: -8.7392911 | J17: 125.43553 | K17: Gravel | L17: Poor | M17: 1.9272911 | N17: 3
B18: 13 | C18: Rua Jardim dos Herois | D18: Urban Road | F18: Ermera | G18: -8.7289556 | H18: 125.44594 | I18: -8.7321589 | J18: 125.44773 | K18: Gravel | L18: Poor | M18: 0.58845113 | N18: 3.2
B19: 14 | C19: Rua Gurbit Lala | D19: Urban Road | F19: Ermera | G19: -8.7258753 | H19: 125.44401 | I19: -8.7248031 | J19: 125.45181 | K19: Gravel | L19: Poor | M19: 0.92935077 | N19: 4.9
B20: 15 | C20: Rua Fahirose | D20: Urban Road | F20: Ermera | G20: -8.7229617 | H20: 125.43157 | I20: -8.7288888 | J20: 125.43063 | K20: Gravel | L20: Poor | M20: 0.73293724 | N20: 5.2
B21: 16 | C21: Rua Nunusa | D21: Urban Road | F21: Ermera | G21: -8.7277555 | H21: 125.43028 | I21: -8.7279247 | J21: 125.43091 | K21: Gravel | L21: Poor | M21: 0.072302515 | N21: 2.3
B22: 17 | C22: Travessa Kaitetilau | D22: Urban Road | F22: Ermera | G22: -8.7279269 | H22: 125.43091 | I22: -8.7294819 | J22: 125.43288 | K22: Gravel | L22: Poor | M22: 0.40515908 | N22: 3.3
B23: 18 | C23: Travessa Madre Franscisca Guterres | D23: Urban Road | F23: Ermera | G23: -8.7217372 | H23: 125.434 | I23: -8.7232639 | J23: 125.43353 | K23: Gravel | L23: Poor | M23: 0.17677909 | N23: 4
B24: 19 | C24: Travessa 10 de Abril 1999 | D24: Urban Road | F24: Ermera | G24: -8.7215087 | H24: 125.43292 | I24: -8.7230237 | J24: 125.43253 | K24: Gravel | L24: Poor | M24: 0.17309908 | N24: 4
B25: 20 | C25: Travessa Ermera | D25: Urban Road | F25: Ermera | G25: -8.7234436 | H25: 125.43348 | I25: -8.7244045 | J25: 125.43319 | K25: Gravel | L25: Poor | M25: 0.11112784 | N25: 4.8
B26: 21 | C26: Travessa Atsabe | D26: Urban Road | F26: Ermera | G26: -8.7231982 | H26: 125.4325 | I26: -8.7241754 | J26: 125.43224 | K26: Gravel | L26: Poor | M26: 0.11177047 | N26: 3.9
B27: 22 | C27: Travessa Hituria | D27: Urban Road | F27: Ermera | G27: -8.728086 | H27: 125.43017 | I27: -8.7282535 | J27: 125.43082 | K27: Gravel | L27: Poor | M27: 0.073351022 | N27: 3.1
B28: 23 | C28: Travessa Foho Darlau | D28: Urban Road | F28: Ermera | G28: -8.7293673 | H28: 125.43121 | I28: -8.7293887 | J28: 125.43153 | K28: Gravel | L28: Poor | M28: 0.22153371 | N28: 4.4
... B71: 66 | C71: Unnamed Road 24 | D71: Urban Road | F71: Ermera | G71: -8.6760255 | H71: 125.42034 | I71: -8.6745966 | J71: 125.42227 | K71: Gravel | L71: Poor | M71: 0.33434246 | N71: 3.2
E73: RASIO (%)
C74: TOTAL Link (km) | D74: =SUM(M6:M71) -> 29.021092 | E74: =SUM(E75:E76) -> 1
C75: Good Asphalt (km) | D75: =SUM(M6,M7,M8,M10) -> 6.5427283 | E75: =D75/D74 -> 0.22544735
C76: Gravel (km) | D76: =D74-D75 -> 22.478363 | E76: =D76/D74 -> 0.77455265

Sheet LIQUICA
B2: GENERAL DESCRIPTION OF ROAD
B3: No. & Waypoint | C3: Link Name | D3: Link | E3: Post. Admin | F3: Municipality | G3: Coordinate Location (Decimal Degree) | K3: Existing Link | O3: Code Class | P3: Status | Q3: DESCRIPTION
G4: Start Point | I4: End Point | K4: Surface Type | L4: Condition | M4: Length (km) | N4: Width (m)
G5: Latitude | H5: Longitude | I5: Latitude | J5: Longitude
B6: 1 | C6: 42 Travessa Daru Muda Pu | D6: Urban Road | F6: Liquica | G6: -8.5913538 | H6: 125.34393 | I6: -8.5908743 | J6: 125.34735 | K6: Gravel | L6: Poor | M6: 0.37959049 | N6: 4 | P6: Onggoing DED (PT. Wiratman jv JKC)
B7: 2 | C7: 54 Travessa Maubara | D7: Urban Road | F7: Liquica | G7: -8.5917615 | H7: 125.34122 | I7: -8.5914102 | J7: 125.34373 | K7: Gravel | L7: Poor | M7: 0.27893374 | N7: 4 | P7: Onggoing DED (PT. Wiratman jv JKC)
B8: 3 | C8: 44 Rua Mandala | D8: Urban Road | F8: Liquica | G8: -8.5920554 | H8: 125.33916 | I8: -8.5917984 | J8: 125.34109 | K8: Gravel | L8: Poor | M8: 0.21452496 | N8: 4
B9: 4 | C9: 45 Travessa Santa Cruz | D9: Urban Road | F9: Liquica | G9: -8.5886611 | H9: 125.34338 | I9: -8.5889363 | J9: 125.34084 | K9: Gravel | L9: Poor | M9: 0.28094535 | N9: 4.2 | P9: Onggoing DED (PT. Wiratman jv JKC)
B10: 5 | C10: 46 Travessa Rai Lakan do Seu | D10: Urban Road | F10: Liquica | G10: -8.5878792 | H10: 125.34327 | I10: -8.5881421 | J10: 125.3407 | K10: Gravel | L10: Poor | M10: 0.28450382 | N10: 4.5 | P10: Onggoing DED (PT. Wiratman jv JKC)
B11: 6 | C11: 47 Travessa Lebu Rau | D11: Urban Road | F11: Liquica | G11: -8.5870504 | H11: 125.34318 | I11: -8.5873149 | J11: 125.34059 | K11: Gravel | L11: Poor | M11: 0.28689732 | N11: 4 | P11: Onggoing DED (PT. Wiratman jv JKC)
B12: 7 | C12: 48 Travessa Aiata | D12: Urban Road | F12: Liquica | G12: -8.5862596 | H12: 125.34305 | I12: -8.5865151 | J12: 125.3405 | K12: Gravel | L12: Poor | M12: 0.28177318 | N12: 5 | P12: Onggoing DED (PT. Wiratman jv JKC)
B13: 8 | C13: 49 Rua Nun Sa-Mada | D13: Urban Road | F13: Liquica | G13: -8.58547 | H13: 125.34293 | I13: -8.5857321 | J13: 125.34036 | K13: Gravel | L13: Poor | M13: 0.28497163 | N13: 4 | P13: Onggoing DED (PT. Wiratman jv JKC)
B14: 9 | C14: 50 Travessa Alor | D14: Urban Road | F14: Liquica | G14: -8.5870221 | H14: 125.34337 | I14: -8.5866014 | J14: 125.34679 | K14: Gravel | L14: Poor | M14: 0.37934643 | N14: 4.5 | P14: Onggoing DED (PT. Wiratman jv JKC)
B15: 10 | C15: 51 Travessa Kaimego Hou | D15: Urban Road | F15: Liquica | G15: -8.587823 | H15: 125.34348 | I15: -8.5876926 | J15: 125.34693 | K15: Gravel | L15: Poor | M15: 0.38072228 | N15: 5 | P15: Onggoing DED (PT. Wiratman jv JKC)
B16: 11 | C16: 52 Travessa Kamale Pu | D16: Urban Road | F16: Liquica | G16: -8.588637 | H16: 125.34359 | I16: -8.5884384 | J16: 125.34703 | K16: Gravel | L16: Poor | M16: 0.37985731 | N16: 4.2 | P16: Onggoing DED (PT. Wiratman jv JKC)
B17: 12 | C17: 53 Travessa Kai Haer Lara | D17: Urban Road | F17: Liquica | G17: -8.5924017 | H17: 125.34408 | I17: -8.5919563 | J17: 125.34753 | K17: Gravel | L17: Poor | M17: 0.38333431 | N17: 4 | P17: Onggoing DED (PT. Wiratman jv JKC)
B18: 13 | C18: Rua Leb Makiri | D18: Urban Road | F18: Liquica | G18: -8.5892121 | H18: 125.34722 | I18: -8.5953104 | J18: 125.33827 | K18: Penmac | L18: Poor | M18: 1.6024265 | N18: 4 | P18: Onggoing DED (PT. Wiratman jv JKC)
B19: 14 | C19: 7 Unnamed Road | D19: Urban Road | F19: Liquica | G19: -8.6026822 | H19: 125.31223 | I19: -8.6050605 | J19: 125.30297 | K19: Gravel | L19: Poor | M19: 1.0540167 | N19: 4
B20: 15 | C20: 38 Unnamed Road | D20: Urban Road | F20: Liquica | G20: -8.5897108 | H20: 125.34087 | I20: -8.5840905 | J20: 125.34277 | K20: Gravel | L20: Poor | M20: 0.88765103 | N20: 4 | P20: Onggoing DED (PT. Wiratman jv JKC)
B21: 16 | C21: 5B Unnamed Road | D21: Urban Road | F21: Liquica | G21: -8.6132733 | H21: 125.20622 | I21: -8.6138769 | J21: 125.20909 | K21: Gravel | L21: Poor | M21: 0.49031573 | N21: 4.5
B22: 17 | C22: 5A Unnamed Road | D22: Urban Road | F22: Liquica | G22: -8.6111266 | H22: 125.20455 | I22: -8.6176452 | J22: 125.20989 | K22: Gravel | L22: Poor | M22: 0.93794275 | N22: 4.5
B23: 18 | C23: 5 Unnamed Road | D23: Urban Road | F23: Liquica | G23: -8.6102034 | H23: 125.20474 | I23: -8.6129943 | J23: 125.20678 | K23: Gravel | L23: Poor | M23: 0.38735724 | N23: 4.2
B24: 19 | C24: 4 Unnamed Road | D24: Urban Road | F24: Liquica | G24: -8.611016 | H24: 125.20371 | I24: -8.6160751 | J24: 125.20374 | K24: Gravel | L24: Poor | M24: 0.60245772 | N24: 4
B25: 20 | C25: 3 Unnamed Road | D25: Urban Road | F25: Liquica | G25: -8.6113142 | H25: 125.20321 | I25: -8.6160413 | J25: 125.20371 | K25: Gravel | L25: Poor | M25: 0.53767089 | N25: 4
B26: 21 | C26: 6 Unnamed Road | D26: Urban Road | F26: Liquica | G26: -8.6088942 | H26: 125.20645 | I26: -8.6122007 | J26: 125.20834 | K26: Gravel | L26: Poor | M26: 0.42108283 | N26: 4.6
B27: 22 | C27: Rua Kamale Hohoru | D27: Urban Road | F27: Liquica | G27: -8.6021642 | H27: 125.30245 | I27: -8.5969168 | J27: 125.31217 | K27: Gravel | L27: Poor | M27: 2.5829224 | N27: 5
B28: 23 | C28: 13 Unnamed Road | D28: Urban Road | F28: Liquica | G28: -8.6022277 | H28: 125.3025 | I28: -8.6045745 | J28: 125.30454 | K28: Gravel | L28: Poor | M28: 0.3435206 | N28: 5
B29: 24 | C29: Travessa Puke Laki Banir | D29: Urban Road | F29: Liquica | G29: -8.6010805 | H29: 125.30397 | I29: -8.6041106 | J29: 125.30633 | K29: Gravel | L29: Poor | M29: 0.42416734 | N29: 4
B30: 25 | C30: Travessa Hau Lara Loa | D30: Urban Road | F30: Liquica | G30: -8.5998922 | H30: 125.3055 | I30: -8.5974292 | J30: 125.30353 | K30: Gravel | L30: Poor | M30: 0.34822658 | N30: 5
B31: 26 | C31: Rua Kamale Lolo Tela | D31: Urban Road | F31: Liquica | G31: -8.5978634 | H31: 125.30855 | I31: -8.6027279 | J31: 125.31194 | K31: Gravel | L31: Poor | M31: 0.65727738 | N31: 6
B32: 27 | C32: Rua Rae - Goa | D32: Urban Road | F32: Liquica | G32: -8.5970052 | H32: 125.31217 | I32: -8.6066724 | J32: 125.31307 | K32: Gravel | L32: Poor | M32: 1.0856601 | N32: 4.5
... B37: 32 | C37: Travessa Kamale Lara | D37: Urban Road | F37: Liquica | G37: -8.5954854 | H37: 125.32525 | I37: -8.5976558 | J37: 125.32422 | K37: Gravel | L37: Poor | M37: 0.26961473 | N37: 4.5
B38: 33 | C38: 28 Rua Leopa | D38: Urban Road | F38: Liquica | G38: -8.5954143 | H38: 125.32525 | I38: -8.5920783 | J38: 125.32859 | K38: Penmac & Hot mix asphalt | L38: Poor | M38: 0.61637542 | N38: 4.5 | P38: Onggoing DED (PT. Wiratman jv JKC)
B39: 34 | C39: 21 Unnamed Road | D39: Urban Road | F39: Liquica | G39: -8.5941629 | H39: 125.32525 | I39: -8.5937421 | J39: 125.32461 | K39: Penmac & Hot mix asphalt | L39: Poor | M39: 0.084083361 | N39: 4.5
B40: 35 | C40: 22 Unnamed Road | D40: Urban Road | F40: Liquica | G40: -8.5942283 | H40: 125.32528 | I40: -8.5947194 | J40: 125.32595 | K40: Penmac | L40: Poor | M40: 0.091058158 | N40: 3.7
B41: 36 | C41: Travessa Lavandaria Granza Pu | D41: Urban Road | F41: Liquica | G41: -8.5947342 | H41: 125.32598 | I41: -8.5959268 | J41: 125.3306 | K41: Hotmix | L41: Good | M41: 0.65276084 | N41: 3.4
B42: 37 | C42: Travessa 3 de Setembro 1993 | D42: Urban Road | F42: Liquica | G42: -8.5938709 | H42: 125.32689 | I42: -8.5967949 | J42: 125.32968 | K42: Hotmix | L42: Good | M42: 0.44653281 | N42: 4
B43: 38 | C43: 25 Rua Beco Pescador | D43: Urban Road | F43: Liquica | G43: -8.5938279 | H43: 125.32682 | I43: -8.5872694 | J43: 125.3294 | K43: Hotmix | L43: Good | M43: 0.98252628 | N43: 4.2 | P43: Onggoing DED (PT. Wiratman jv JKC)
B44: 39 | C44: 23 Unnamed Road | D44: Urban Road | F44: Liquica | G44: -8.59375 | H44: 125.32679 | I44: -8.5931175 | J44: 125.32698 | K44: Hotmix | L44: Good | M44: 0.072946778 | N44: 4.2
B45: 40 | C45: Travessa 6 de Abril 1999 | D45: Urban Road | F45: Liquica | G45: -8.5932966 | H45: 125.32734 | I45: -8.5925993 | J45: 125.32687 | K45: Hotmix | L45: Good | M45: 0.095895482 | N45: 4
B46: 41 | C46: Avenida Afonso dos Santos Asumeta | D46: Urban Road | F46: Liquica | G46: -8.5933357 | H46: 125.32742 | I46: -8.5920265 | J46: 125.33175 | K46: Hotmix | L46: Good | M46: 0.61600746 | N46: 5 | P46: Onggoing DED (PT. Wiratman jv JKC)
B47: 42 | C47: 24 Unnamed Road | D47: Urban Road | F47: Liquica | G47: -8.5957939 | H47: 125.32729 | I47: -8.5950219 | J47: 125.32795 | K47: Gravel | L47: Poor | M47: 0.11205836 | N47: 4.5
B48: 43 | C48: 26 Unnamed Road | D48: Urban Road | F48: Liquica | G48: -8.5949872 | H48: 125.32798 | I48: -8.5941684 | J48: 125.32871 | K48: Gravel | L48: Poor | M48: 0.12108279 | N48: 4.5
B49: 44 | C49: 27 Avenida Dona Isabel Barreto I | D49: Urban Road | F49: Liquica | G49: -8.5944004 | H49: 125.32912 | I49: -8.5979655 | J49: 125.33454 | K49: Gravel | L49: Poor | M49: 0.73949339 | N49: 4.5 | P49: Onggoing DED (PT. Wiratman jv JKC)
B50: 45 | C50: 29 Rua Kamale Mutuu | D50: Urban Road | F50: Liquica | G50: -8.5900418 | H50: 125.33081 | I50: -8.5880124 | J50: 125.33688 | K50: Gravel | L50: Poor | M50: 1.6993064 | N50: 4.5 | P50: Onggoing DED (PT. Wiratman jv JKC)
B51: 46 | C51: Rua Hatu Lara | D51: Urban Road | F51: Liquica | G51: -8.5900504 | H51: 125.33084 | I51: -8.5895251 | J51: 125.33193 | K51: Gravel | L51: Poor | M51: 0.15348486 | N51: 4.5 | P51: Onggoing DED (PT. Wiratman jv JKC)
B52: 47 | C52: 33 Rua Caloru | D52: Urban Road | F52: Liquica | G52: -8.5920468 | H52: 125.33181 | I52: -8.5979515 | J52: 125.33456 | K52: Hotmix | L52: Good | M52: 0.72861345 | N52: 4.5 | P52: Onggoing DED (PT. Wiratman jv JKC)
B53: 48 | C53: 30 Unnamed Road | D53: Urban Road | F53: Liquica | G53: -8.5938401 | H53: 125.33281 | I53: -8.595891 | J53: 125.33063 | K53: Gravel | L53: Poor | M53: 0.33123725 | N53: 4.5
B54: 49 | C54: 31 Unnamed Road | D54: Urban Road | F54: Liquica | G54: -8.5979923 | H54: 125.33453 | I54: -8.6050178 | J54: 125.33764 | K54: Hotmix | L54: Good | M54: 0.87112638 | N54: 4
B55: 50 | C55: 32 Unnamed Road | D55: Urban Road | F55: Liquica | G55: -8.5979593 | H55: 125.33459 | I55: -8.6013814 | J55: 125.33629 | K55: Hotmix | L55: Good | M55: 0.51506069 | N55: 5
B56: 51 | C56: Travessa Memoria | D56: Urban Road | F56: Liquica | G56: -8.5913842 | H56: 125.33317 | I56: -8.5931378 | J56: 125.33409 | K56: Gravel | L56: Poor | M56: 0.21921857 | N56: 4.5 | P56: Onggoing DED (PT. Wiratman jv JKC)
B57: 52 | C57: 35 Unnamed Road | D57: Urban Road | F57: Liquica | G57: -8.5911692 | H57: 125.33352 | I57: -8.5892822 | J57: 125.33264 | K57: Gravel | L57: Poor | M57: 0.23059873 | N57: 3
B58: 53 | C58: 36 Rua Mota Lara | D58: Urban Road | F58: Liquica | G58: -8.5905742 | H58: 125.33502 | I58: -8.5848995 | J58: 125.33334 | K58: Gravel | L58: Poor | M58: 0.65483814 | N58: 4 | P58: Onggoing DED (PT. Wiratman jv JKC)
B59: 54 | C59: Travessa Centro Tokodede | D59: Urban Road | F59: Liquica | G59: -8.5906676 | H59: 125.33505 | I59: -8.5927519 | J59: 125.33565 | K59: Gravel | L59: Poor | M59: 0.23984631 | N59: 4
B60: 55 | C60: Rua Maumeta | D60: Urban Road | F60: Liquica | G60: -8.5899967 | H60: 125.33902 | I60: -8.5959293 | J60: 125.3393 | K60: Gravel | L60: Poor | M60: 0.65729774 | N60: 4.5 | P60: Onggoing DED (PT. Wiratman jv JKC)
B61: 56 | C61: Rua 5 de Abril 1999 | D61: Urban Road | F61: Liquica | G61: -8.5897807 | H61: 125.34088 | I61: -8.5948349 | J61: 125.34158 | K61: Asphalt Hotmix | L61: Good | M61: 0.56464525 | N61: 4 | P61: Onggoing DED (PT. Wiratman jv JKC)
B62: 57 | C62: Rua Lakapo Goa | D62: Urban Road | F62: Liquica | G62: -8.5894529 | H62: 125.34354 | I62: -8.5851034 | J62: 125.35196 | K62: Penmac | L62: Poor | M62: 1.8843776 | N62: 4.5 | P62: Onggoing DED (PT. Wiratman jv JKC)
B63: 58 | C63: Rua 11 de Outubro 2016 | D63: Urban Road | F63: Liquica | G63: -8.589512 | H63: 125.34365 | I63: -8.5944467 | J63: 125.3443 | K63: Asphalt Hotmix | L63: Good | M63: 0.55064934 | N63: 5 | P63: Onggoing DED (PT. Wiratman jv JKC)
B64: 59 | C64: 41 Rua Nunu Pu Tia | D64: Urban Road | F64: Liquica | G64: -8.5891785 | H64: 125.34721 | I64: -8.5836135 | J64: 125.34643 | K64: Gravel | L64: Poor | M64: 0.62181 | N64: 4 | P64: Onggoing DED (PT. Wiratman jv JKC)
B65: 60 | C65: Travessa Turak Poda | D65: Urban Road | F65: Liquica | G65: -8.587407 | H65: 125.34898 | I65: -8.5895412 | J65: 125.35336 | K65: Gravel | L65: Poor | M65: 0.54539379 | N65: 4 | P65: Onggoing DED (PT. Wiratman jv JKC)
B66: 61 | C66: 43 Rua Nun Mata Da | D66: Urban Road | F66: Liquica | G66: -8.5851465 | H66: 125.35198 | I66: -8.5908743 | J66: 125.34745 | K66: Gravel | L66: Poor | M66: 1.2174795 | N66: 4.2 | P66: Onggoing DED (PT. Wiratman jv JKC)
B67: 62 | C67: 8 Rua Ailok Larou | D67: Urban Road | F67: Liquica | G67: -8.5937232 | H67: 125.33282 | I67: -8.5922305 | J67: 125.33761 | K67: Gravel | L67: Poor | M67: 0.55654618 | N67: 4 | P67: Onggoing DED (PT. Wiratman jv JKC)
B68: 63 | C68: Rua Mareke | D68: Urban Road | F68: Liquica | G68: -8.5841457 | H68: 125.35415 | I68: -8.5930993 | J68: 125.35751 | K68: Gravel | L68: Poor | M68: 1.1196569 | N68: 6
B69: 64 | C69: 9 Rua Fatu Lara | D69: Urban Road | F69: Liquica | G69: -8.5887008 | H69: 125.33446 | I69: -8.5860796 | J69: 125.33366 | K69: Gravel | L69: Poor | M69: 0.88972845 | N69: 5 | P69: Onggoing DED (PT. Wiratman jv JKC)
B70: 65 | C70: 10 Unnamed Road | D70: Urban Road | F70: Liquica | G70: -8.5890544 | H70: 125.33318 | I70: -8.5864601 | J70: 125.33242 | K70: Gravel | L70: Poor | M70: 0.29894199 | N70: 4
B71: 66 | C71: 11 Rua Loa Koe I | D71: Urban Road | F71: Liquica | G71: -8.5886726 | H71: 125.3345 | I71: -8.5880089 | J71: 125.33686 | K71: Gravel | L71: Poor | M71: 0.26960829 | N71: 4.5 | P71: Onggoing DED (PT. Wiratman jv JKC)
B72: 67 | C72: 12a Unnamed Road | D72: Urban Road | F72: Liquica | G72: -8.5886206 | H72: 125.33303 | I72: -8.5890171 | J72: 125.33181 | K72: Gravel | L72: Poor | M72: 0.14181428 | N72: 3.5
B73: 68 | C73: 12b Unnamed Road | D73: Urban Road | F73: Liquica | G73: -8.588189 | H73: 125.33291 | I73: -8.5885553 | J73: 125.33166 | K73: Gravel | L73: Poor | M73: 0.14375757 | N73: 3.5
B74: 69 | C74: 12c Unnamed Road | D74: Urban Road | F74: Liquica | G74: -8.5877644 | H74: 125.33277 | I74: -8.5881291 | J74: 125.33154 | K74: Gravel | L74: Poor | M74: 0.14158185 | N74: 3.5
B75: 70 | C75: 12d Unnamed Road | D75: Urban Road | F75: Liquica | G75: -8.5873235 | H75: 125.33264 | I75: -8.5877011 | J75: 125.33142 | K75: Gravel | L75: Poor | M75: 0.14107359 | N75: 3.5
B76: 71 | C76: 12e Unnamed Road | D76: Urban Road | F76: Liquica | G76: -8.5868991 | H76: 125.33251 | I76: -8.5872589 | J76: 125.33127 | K76: Gravel | L76: Poor | M76: 0.1420214 | N76: 3.5
B77: 72 | C77: 12f Unnamed Road | D77: Urban Road | F77: Liquica | G77: -8.588612 | H77: 125.33309 | I77: -8.5882522 | J77: 125.33429 | K77: Gravel | L77: Poor | M77: 0.13844907 | N77: 3.5
B78: 73 | C78: 12g Unnamed Road | D78: Urban Road | F78: Liquica | G78: -8.5881795 | H78: 125.33297 | I78: -8.5878031 | J78: 125.33419 | K78: Gravel | L78: Poor | M78: 0.14120125 | N78: 3.5
B79: 74 | C79: 12h Unnamed Road | D79: Urban Road | F79: Liquica | G79: -8.5877515 | H79: 125.33285 | I79: -8.5873793 | J79: 125.33409 | K79: Gravel | L79: Poor | M79: 0.14293352 | N79: 3.5
B80: 75 | C80: 12i Unnamed Road | D80: Urban Road | F80: Liquica | G80: -8.5873053 | H80: 125.33271 | I80: -8.5869504 | J80: 125.33393 | K80: Gravel | L80: Poor | M80: 0.13959317 | N80: 3.5
B81: 76 | C81: 12j Unnamed Road | D81: Urban Road | F81: Liquica | G81: -8.5868776 | H81: 125.33259 | I81: -8.5865067 | J81: 125.3338 | K81: Gravel | L81: Poor | M81: 0.13955756 | N81: 3.5
B82: 77 | C82: 12k Unnamed Road | D82: Urban Road | F82: Liquica | G82: -8.5882398 | H82: 125.3344 | I82: -8.5878363 | J82: 125.33572 | K82: Gravel | L82: Poor | M82: 0.15213015 | N82: 3.5
B83: 78 | C83: 12L Unnamed Road | D83: Urban Road | F83: Liquica | G83: -8.5882062 | H83: 125.33585 | I83: -8.5873562 | J83: 125.33418 | K83: Gravel | L83: Poor | M83: 0.28659097 | N83: 3.5
B84: 79 | C84: 12m Unnamed Road | D84: Urban Road | F84: Liquica | G84: -8.5877831 | H84: 125.33429 | I84: -8.5874016 | J84: 125.33556 | K84: Gravel | L84: Poor | M84: 0.14602904 | N84: 3.5
B85: 80 | C85: Travessa Puke Put | D85: Urban Road | F85: Liquica | G85: -8.590438 | H85: 125.34372 | I85: -8.5907893 | J85: 125.34102 | K85: Gravel | L85: Poor | M85: 0.30080793 | N85: 3.6 | P85: Onggoing DED (PT. Wiratman jv JKC)
B86: 81 | C86: Travessa Bazartete | D86: Urban Road | F86: Liquica | G86: -8.5908763 | H86: 125.33906 | I86: -8.5907887 | J86: 125.34102 | K86: Gravel | L86: Poor | M86: 0.2165743 | N86: 3.6 | P86: Onggoing DED (PT. Wiratman jv JKC)
B87: 82 | C87: Travessa Puke Manaru | D87: Urban Road | F87: Liquica | G87: -8.5919393 | H87: 125.3398 | I87: -8.5950122 | J87: 125.34022 | K87: Gravel | L87: Poor | M87: 0.3432811 | N87: 3.6 | P87: Onggoing DED (PT. Wiratman jv JKC)
E89: RASIO (%)
C90: TOTAL Link (km) | D90: =SUM(M6:M87) -> 41.51269 | E90: =SUM(E91:E93) -> 1
C91: Good Asphalt (km) | D91: =SUM(M41:M46,M52,M54,M55,M61,M63) -> 6.0967648 | E91: =D91/D90 -> 0.14686509
C92: Poor Asphalt (Km) | D92: =SUM(M18,M38,M39,M40) -> 2.3939435 | E92: =D92/D90 -> 0.057667752
C93: Gravel (km) | D93: =D90-D91-D92 -> 33.021981 | E93: =D93/D90 -> 0.79546716

Sheet BOBONARO
B2: GENERAL DESCRIPTION OF ROAD
B3: No. & Waypoint | C3: Link Name | D3: Link | E3: Post. Admin | F3: Municipality | G3: Coordinate Location (Decimal Degree) | K3: Existing Link | O3: Code Class | P3: Status | Q3: DESCRIPTION
G4: Start Point | I4: End Point | K4: Surface Type | L4: Condition | M4: Length (km) | N4: Width (m)
G5: Latitude | H5: Longitude | I5: Latitude | J5: Longitude
B6: 1 | C6: Rua Male Aren | D6: Urban Road | F6: Bobonaro | G6: -8.975334 | H6: 125.14083 | I6: -8.9692731 | J6: 125.13846 | K6: Gravel | L6: Poor | M6: 0.88847856 | N6: 5
B7: 2 | C7: Rua Lalia Giral | D7: Urban Road | F7: Bobonaro | G7: -8.9719353 | H7: 125.14963 | I7: -8.9764014 | J7: 125.14287 | K7: Gravel | L7: Poor | M7: 1.2045616 | N7: 5.6
B8: 3 | C8: Rua Nunura | D8: Urban Road | F8: Bobonaro | G8: -8.9736751 | H8: 125.14871 | I8: -8.9727634 | J8: 125.14692 | K8: Gravel | L8: Poor | M8: 0.22118709 | N8: 5.3
B9: 4 | C9: Beco Manu Sae | D9: Urban Road | F9: Bobonaro | G9: -8.9694848 | H9: 125.15088 | I9: -8.9685954 | J9: 125.1491 | K9: Gravel | L9: Poor | M9: 0.21913921 | N9: 4
B10: 5 | C10: 32. Unnamed Road | D10: Urban Road | F10: Bobonaro | G10: -8.9690676 | H10: 125.14993 | I10: -8.9714447 | J10: 125.14867 | K10: Gravel | L10: Very Poor | M10: 0.29699251 | N10: 3.5 | Q10: Ema Jarang Liu
B11: 6 | C11: 33. Unnamed Road | D11: Urban Road | F11: Bobonaro | G11: -8.9710217 | H11: 125.14779 | I11: -8.9685945 | J11: 125.14909 | K11: Gravel | L11: Very Poor | M11: 0.30449594 | N11: 5.2 | Q11: Ema Jarang Liu
B12: 7 | C12: 34. Unnamed Road | D12: Urban Road | F12: Bobonaro | G12: -8.9780541 | H12: 125.14625 | I12: -8.9677682 | J12: 125.15173 | K12: Gravel | L12: Poor | M12: 1.2908279 | N12: 5.2
B13: 8 | C13: Rua Mehen | D13: Urban Road | F13: Bobonaro | G13: -8.991716 | H13: 125.18706 | I13: -8.989906 | J13: 125.18423 | K13: Gravel | L13: Poor | M13: 0.45044112 | N13: 4.7
B14: 9 | C14: Rua Nu'u Laran I | D14: Urban Road | F14: Bobonaro | G14: -8.9897502 | H14: 125.20737 | I14: -8.9909648 | J14: 125.19875 | K14: Gravel | L14: Poor | M14: 1.1139945 | N14: 4.7 | P14: Onggoing Construction (Bina Mitra IndoSejahtera BMIS) | Q14: Ema foin Cut
B15: 10 | C15: Travessa Has Laran | D15: Urban Road | F15: Bobonaro | G15: -8.9911393 | H15: 125.20286 | I15: -8.9903935 | J15: 125.20289 | K15: Gravel | L15: Poor | M15: 0.082581875 | N15: 4.5 | P15: Onggoing Construction (Bina Mitra IndoSejahtera BMIS)
B16: 11 | C16: 22. Unnamed Road | D16: Urban Road | F16: Bobonaro | G16: -8.991206 | H16: 125.20282 | I16: -8.9925387 | J16: 125.20263 | K16: Gravel | L16: Poor | M16: 0.15667546 | N16: 3.8 | P16: Onggoing Construction (Bina Mitra IndoSejahtera BMIS)
B17: 12 | C17: Rua Nu'u Laran II | D17: Urban Road | F17: Bobonaro | G17: -8.9894636 | H17: 125.20867 | I17: -8.983738 | J17: 125.21136 | K17: Asphalt & Penmac | L17: Good | M17: 0.72217129 | N17: 5
B18: 13 | C18: Rua Genu Haan | D18: Urban Road | F18: Bobonaro | G18: -8.9882528 | H18: 125.20856 | I18: -8.9831544 | J18: 125.19287 | K18: Gravel | L18: Onggoing | M18: 2.2148396 | N18: 7 | P18: Onggoing Construction (PT. Hutama Karya)
B19: 14 | C19: Travessa Solugolo | D19: Urban Road | F19: Bobonaro | G19: -8.9893146 | H19: 125.19904 | I19: -8.9911757 | J19: 125.19644 | K19: Gravel | L19: Poor | M19: 0.46331632 | N19: 5.3 | P19: Onggoing Construction 0.234 Km (Bina Mitra IndoSejahtera BMIS)
B20: 15 | C20: Travessa Tapo Kesi | D20: Urban Road | F20: Bobonaro | G20: -8.9876479 | H20: 125.19928 | I20: -8.9852631 | J20: 125.19724 | K20: Gravel | L20: Poor | M20: 0.44571672 | N20: 5 | P20: Onggoing Construction 0.201 Km (Bina Mitra IndoSejahtera BMIS)
B21: 16 | C21: Rua Ai-Thei | D21: Urban Road | F21: Bobonaro | G21: -8.9908642 | H21: 125.19885 | I21: -8.9876974 | J21: 125.19926 | K21: Gravel | L21: Poor | M21: 0.35330938 | N21: 5.3 | P21: Onggoing Construction (PT. Hutama Karya)
B22: 17 | C22: 20. Unnamed Road | D22: Urban Road | F22: Bobonaro | G22: -8.9888644 | H22: 125.21354 | I22: -8.9889795 | J22: 125.2128 | K22: Gravel | L22: Poor | M22: 0.30629413 | N22: 4.4
B23: 18 | C23: 21. Unnamed Road | D23: Urban Road | F23: Bobonaro | G23: -8.9899049 | H23: 125.21339 | I23: -8.9889122 | J23: 125.21327 | K23: Gravel | L23: Poor | M23: 0.11069032 | N23: 3.2
B24: 19 | C24: Rua Raimaten II | D24: Urban Road | F24: Bobonaro | G24: -8.9887746 | H24: 125.21449 | I24: -8.9886341 | J24: 125.21767 | K24: Gravel | M24: 0.37161814 | N24: 6.3 | P24: Onggoing Construction (PT. Hutama Karya)
B25: 20 | C25: Rua Raimaten I | D25: Urban Road | F25: Bobonaro | G25: -8.9885501 | H25: 125.21542 | I25: -8.9863216 | J25: 125.21491 | K25: Penmac & Gravel | L25: Poor | M25: 0.30940346 | N25: 4.4 | P25: Onggoing Construction (Bina Mitra IndoSejahtera BMIS)
B26: 21 | C26: Travessa Sulimea | D26: Urban Road | F26: Bobonaro | G26: -8.9880494 | H26: 125.21523 | I26: -8.9877554 | J26: 125.2172 | K26: Gravel | L26: Poor | M26: 0.21987004 | N26: 4.4 | P26: Onggoing Construction (Bina Mitra IndoSejahtera BMIS)
B27: 22 | C27: 3. Unnamed Road | D27: Urban Road | F27: Bobonaro | G27: -8.9866284 | H27: 125.21466 | I27: -8.9884192 | J27: 125.21641 | K27: Gravel | M27: 0.29103625 | N27: 4.4 | P27: Onggoing Construction (Bina Mitra IndoSejahtera BMIS)
B28: 23 | C28: 5. Unnamed road | D28: Urban Road | F28: Bobonaro | G28: -8.9837268 | H28: 125.21139 | I28: -8.9784087 | J28: 125.20378 | K28: Gravel | M28: 1.0267989 | N28: 7
B29: 24 | C29: Rua Raebou Anan | D29: Urban Road | F29: Bobonaro | G29: -8.9837043 | H29: 125.21138 | I29: -8.9779929 | J29: 125.21852 | K29: Asphalt & Penmac | L29: Good | M29: 1.1486366 | N29: 5
B30: 25 | C30: 4. Unnamed Road | D30: Urban Road | F30: Bobonaro | G30: -8.983728 | H30: 125.21139 | I30: -8.9877557 | J30: 125.2172 | K30: Gravel | L30: Poor | M30: 0.80050224 | N30: 6.2 | P30: Onggoing Construction 0.725 Km (PT. Hutama Karya)
B31: 26 | C31: Travessa Hare C4 | D31: Urban Road | F31: Bobonaro | G31: -8.9835955 | H31: 125.21113 | I31: -8.9843116 | J31: 125.21069 | K31: Gravel | L31: Poor | M31: 0.093131182 | N31: 4.2
B32: 27 | C32: Travessa Batar Mutin | D32: Urban Road | F32: Bobonaro | G32: -8.9834204 | H32: 125.21085 | I32: -8.9841594 | J32: 125.2104 | K32: Gravel | L32: Poor | M32: 0.095635951 | N32: 4.2
B33: 28 | C33: Travessa Batar Mean | D33: Urban Road | F33: Bobonaro | G33: -8.9832299 | H33: 125.21059 | I33: -8.9839895 | J33: 125.21013 | K33: Gravel | L33: Poor | M33: 0.098228812 | N33: 4.2
B34: 29 | C34: Travessa Fore Keli | D34: Urban Road | F34: Bobonaro | G34: -8.9830181 | H34: 125.21034 | I34: -8.9837895 | J34: 125.20985 | K34: Gravel | L34: Poor | M34: 0.1008575 | N34: 4.2
B35: 30 | C35: 6. Unnamed Road | D35: Urban Road | F35: Bobonaro | G35: -8.982756 | H35: 125.21007 | I35: -8.983599 | J35: 125.20955 | K35: Gravel | L35: Poor | M35: 0.10993125 | N35: 4.2
B36: 31 | C36: 7. Unnamed Road | D36: Urban Road | F36: Bobonaro | G36: -8.9824966 | H36: 125.2098 | I36: -8.9834141 | J36: 125.20923 | K36: Gravel | L36: Poor | M36: 0.1191391 | N36: 4.2
B37: 32 | C37: 8. Unnamed Road | D37: Urban Road | F37: Bobonaro | G37: -8.982303 | H37: 125.20956 | I37: -8.9832472 | J37: 125.20898 | K37: Gravel | L37: Poor | M37: 0.12236004 | N37: 4.2
B38: 33 | C38: Rua Guma Ana | D38: Urban Road | F38: Bobonaro | G38: -8.9821174 | H38: 125.20928 | I38: -8.9843405 | J38: 125.21068 | K38: Gravel | L38: Poor | M38: 0.38432118 | N38: 4.5
B39: 34 | C39: Rua Kulu Anan | D39: Urban Road | F39: Bobonaro | G39: -8.9781962 | H39: 125.22024 | I39: -8.9725503 | J39: 125.21475 | K39: Asphalt | L39: Poor | M39: 1.1910401 | N39: 5.4
B40: 35 | C40: Rua Molo | D40: Urban Road | F40: Bobonaro | G40: -8.9865854 | H40: 125.19937 | I40: -8.9732662 | J40: 125.21919 | K40: Gravel | L40: Onggoing | M40: 3.4318531 | N40: 5.7 | P40: Onggoing Construction (Bina Mitra IndoSejahtera BMIS)
B41: 36 | C41: Beco Natar Lau | D41: Urban Road | F41: Bobonaro | G41: -8.967126 | H41: 125.20907 | I41: -8.9653648 | J41: 125.21032 | K41: Gravel | L41: Poor | M41: 0.2494627 | N41: 3.8
B42: 37 | C42: Rua Holihut | D42: Urban Road | F42: Bobonaro | G42: -8.9691276 | H42: 125.21029 | I42: -8.9671296 | J42: 125.20906 | K42: Gravel | L42: Poor | M42: 0.30263005 | N42: 4
B43: 38 | C43: 10. Unnamed Road | D43: Urban Road | F43: Bobonaro | G43: -8.9676715 | H43: 125.20969 | I43: -8.9671422 | J43: 125.21141 | K43: Gravel | L43: Poor | M43: 0.20302344 | N43: 3.8
B44: 39 | C44: Travessa Lesu Leten I | D44: Urban Road | F44: Bobonaro | G44: -8.9716652 | H44: 125.21565 | I44: -8.9720517 | J44: 125.21652 | K44: Gravel | L44: Poor | M44: 0.10478962 | N44: 4
B45: 40 | C45: Travessa Lesu Leten II | D45: Urban Road | F45: Bobonaro | G45: -8.971775 | H45: 125.2166 | I45: -8.9714129 | J45: 125.21577 | K45: Gravel | L45: Poor | M45: 0.099412979 | N45: 4
B46: 41 | C46: Beco Paspun I | D46: Urban Road | F46: Bobonaro | G46: -8.9715224 | H46: 125.21668 | I46: -8.9711607 | J46: 125.21587 | K46: Gravel | L46: Poor | M46: 0.098080278 | N46: 4
B47: 42 | C47: Beco Paspun II | D47: Urban Road | F47: Bobonaro | G47: -8.9711592 | H47: 125.21586 | I47: -8.970602 | J47: 125.21606 | K47: Gravel | L47: Poor | M47: 0.065419591 | N47: 4
B48: 43 | C48: A. Unnamed Road | D48: Urban Road | F48: Bobonaro | G48: -8.9721728 | H48: 125.21649 | I48: -8.9715203 | J48: 125.21669 | K48: Gravel | L48: Poor | M48: 0.075389182 | N48: 4
B49: 44 | C49: B. Unnamed Road | D49: Urban Road | F49: Bobonaro | G49: -8.9717541 | H49: 125.21559 | I49: -8.971167 | J49: 125.21586 | K49: Gravel | L49: Poor | M49: 0.071732847 | N49: 4
B50: 45 | C50: Travessa Same Klot | D50: Urban Road | F50: Bobonaro | G50: -8.9611351 | H50: 125.21412 | I50: -8.9609432 | J50: 125.21503 | K50: Gravel | L50: Poor | M50: 0.10243975 | N50: 5.2
B51: 46 | C51: Rua Ti Matan | D51: Urban Road | F51: Bobonaro | G51: -8.969938 | H51: 125.21823 | I51: -8.9568302 | J51: 125.2129 | K51: Gravel | L51: Poor | M51: 1.6140617 | N51: 4.2 | P51: Onggoing Construction (Bina Mitra IndoSejahtera BMIS)
B52: 47 | C52: C. Unnamed Road | D52: Urban Road | F52: Bobonaro | G52: -8.9784193 | H52: 125.22036 | I52: -8.9731663 | J52: 125.23164 | K52: Gravel | M52: 2.4928956 | N52: 6.8
B53: 48 | C53: Rua Bubu Leten | D53: Urban Road | F53: Bobonaro | G53: -8.9879999 | H53: 125.22147 | I53: -8.9894906 | J53: 125.21591 | K53: Penmac & Gravel | L53: Very Poor | M53: 0.65830839 | N53: 6.1 | P53: Onggoing Construction (PT. Hutama Karya)
B54: 49 | C54: 11. Unnamed Road | D54: Urban Road | F54: Bobonaro | G54: -8.9905501 | H54: 125.22048 | I54: -8.9877856 | J54: 125.22072 | K54: penmac & Gravel | L54: Very Poor | M54: 0.37754491 | N54: 5.3 | P54: Onggoing Construction (PT. Hutama Karya)
B55: 50 | C55: 12. Unnamed Road | D55: Urban Road | F55: Bobonaro | G55: -8.9882541 | H55: 125.22053 | I55: -8.9885419 | J55: 125.22131 | K55: Gravel | L55: Poor | M55: 0.091159444 | N55: 5.3 | P55: Onggoing Construction (Bina Mitra IndoSejahtera BMIS)
B56: 51 | C56: 13. Unnamed Road | D56: Urban Road | F56: Bobonaro | G56: -8.989565 | H56: 125.21997 | I56: -8.9898091 | J56: 125.22076 | K56: Gravel | L56: Poor | M56: 0.090754259 | N56: 5.3 | P56: Onggoing Construction (Bina Mitra IndoSejahtera BMIS)
B57: 52 | C57: Travessa Foin Sae | D57: Urban Road | F57: Bobonaro | G57: -8.9909279 | H57: 125.22178 | I57: -8.9908577 | J57: 125.22037 | K57: Gravel | L57: Poor | M57: 0.15563592 | N57: 3.5 | P57: Onggoing Construction (Bina Mitra IndoSejahtera BMIS)
B58: 53 | C58: 15. Unnamed Road | D58: Urban Road | F58: Bobonaro | G58: -8.9897773 | H58: 125.22081 | I58: -8.9898383 | J58: 125.22221 | K58: Gravel | L58: Poor | M58: 0.15439271 | N58: 4.5 | P58: Onggoing Construction (Bina Mitra IndoSejahtera BMIS)
B59: 54 | C59: Beco Lesu PU | D59: Urban Road | F59: Bobonaro | G59: -8.9892172 | H59: 125.22487 | I59: -8.9911639 | J59: 125.22792 | K59: Gravel | L59: Poor | M59: 0.53303175 | N59: 4.5 | P59: Onggoing Construction (Bina Mitra IndoSejahtera BMIS)
B60: 55 | C60: Rua Leosibe | D60: Urban Road | F60: Bobonaro | G60: -8.9919877 | H60: 125.22319 | I60: -8.9892557 | J60: 125.22483 | K60: Gravel | L60: Poor | M60: 0.35884059 | N60: 4.7 | P60: Onggoing Construction (Bina Mitra IndoSejahtera BMIS)
B61: 56 | C61: 14. Unnamed Road | D61: Urban Road | F61: Bobonaro | G61: -8.9919678 | H61: 125.22141 | I61: -8.9892235 | J61: 125.22485 | K61: Gravel | L61: Poor | M61: 0.63108543 | N61: 4.5 | P61: Onggoing Construction (Bina Mitra IndoSejahtera BMIS)
B62: 57 | C62: 16. Unnamed Road | D62: Urban Road | F62: Bobonaro | G62: -8.9937112 | H62: 125.22511 | I62: -8.9933197 | J62: 125.22625 | K62: Gravel | L62: Poor | M62: 0.13384378 | N62: 4.5
B63: 58 | C63: Rua Pe. Santana R. Pereira | D63: Urban Road | F63: Bobonaro | G63: -8.9924127 | H63: 125.2249 | I63: -8.9975628 | J63: 125.22345 | K63: Penmac & Gravel | L63: Very Poor | M63: 1.0592415 | N63: 6 | P63: Onggoing Construction (Bina Mitra IndoSejahtera BMIS)
B64: 59 | C64: Rua Hospital Tuan | D64: Urban Road | F64: Bobonaro | G64: -8.9952775 | H64: 125.22409 | I64: -8.9919774 | J64: 125.21985 | K64: penmac | L64: Poor | M64: 1.663536 | N64: 5.2 | P64: Onggoing Construction (Bina Mitra IndoSejahtera BMIS)
B65: 60 | C65: Beco Kale Aben | D65: Urban Road | F65: Bobonaro | G65: -8.9942084 | H65: 125.22444 | I65: -8.9948813 | J65: 125.22614 | K65: penmac | L65: Poor | M65: 0.21009203 | N65: 4.2
B66: 61 | C66: 17. Unnamed Road | D66: Urban Road | F66: Bobonaro | G66: -8.9940889 | H66: 125.22462 | I66: -8.9919915 | J66: 125.2214 | K66: Plum Concrete & Gravel | L66: Poor | M66: 0.46590459 | N66: 4
B67: 62 | C67: Beco Lolo Oa | D67: Urban Road | F67: Bobonaro | G67: -8.9948945 | H67: 125.21855 | I67: -8.9924074 | J67: 125.21973 | K67: Gravel | L67: Poor | M67: 0.54196971 | N67: 3.5 | P67: Onggoing Construction (Bina Mitra IndoSejahtera BMIS)
B68: 63 | C68: Rua Lakha Tiil | D68: Urban Road | F68: Bobonaro | G68: -8.9897642 | H68: 125.20648 | I68: -8.9886396 | J68: 125.19914 | K68: Gravel | L68: Poor | M68: 0.89269409 | N68: 3.8 | P68: Onggoing Construction (Bina Mitra IndoSejahtera BMIS)
B69: 64 | C69: Travessa Manu Hoo | D69: Urban Road | F69: Bobonaro | G69: -8.990134 | H69: 125.20419 | I69: -8.988831 | J69: 125.2042 | K69: Gravel | L69: Poor | M69: 0.14426116 | N69: 3.5
B70: 65 | C70: Rua Diruaben | D70: Urban Road | F70: Bobonaro | G70: -8.9659524 | H70: 125.21725 | I70: -8.9510148 | J70: 125.21543 | K70: Gravel | L70: Poor | M70: 1.7627934 | N70: 4.2 | P70: Onggoing Construction 0.81222 Km (Bina Mitra IndoSejahtera BMIS)
B71: 66 | C71: Travessa Nunu Heli | D71: Urban Road | F71: Bobonaro | G71: -8.9810596 | H71: 125.22087 | I71: -8.979912 | J71: 125.21841 | K71: Gravel | L71: Poor | M71: 0.29948655 | N71: 4 | P71: Onggoing Construction (Bina Mitra IndoSejahtera BMIS)
B72: 67 | C72: Travessa Diru Mdesan | D72: Urban Road | F72: Bobonaro | G72: -8.9822034 | H72: 125.22114 | I72: -8.9801493 | J72: 125.21812 | K72: Gravel | L72: Poor | M72: 0.43775111 | N72: 4 | P72: Onggoing Construction (Bina Mitra IndoSejahtera BMIS)
B73: 68 | C73: E. Unnamed Road | D73: Urban Road | F73: Bobonaro | G73: -8.9966464 | H73: 125.22486 | I73: -8.9996588 | J73: 125.22503 | K73: Gravel | L73: Poor | M73: 0.41246355 | N73: 4 | P73: Onggoing Construction (Bina Mitra IndoSejahtera BMIS)
B74: 69 | C74: F. Unnamed Road | D74: Urban Road | F74: Bobonaro | G74: -8.9937528 | H74: 125.21798 | I74: -8.9937494 | J74: 125.21708 | K74: Gravel | L74: Poor | M74: 0.09984143 | N74: 4 | P74: Onggoing Construction (Bina Mitra IndoSejahtera BMIS)
B75: 70 | C75: G. Unnamed Road | D75: Urban Road | F75: Bobonaro | G75: -8.9892852 | H75: 125.22339 | I75: -8.9847601 | J75: 125.22379 | K75: Gravel | L75: Poor | M75: 0.75971112 | N75: 4 | P75: Onggoing Construction (Bina Mitra IndoSejahtera BMIS)
B76: 71 | C76: H. Unnamed Road | D76: Urban Road | F76: Bobonaro | G76: -8.9875228 | H76: 125.2149 | I76: -8.9871026 | J76: 125.21522 | K76: Gravel | L76: Poor | M76: 0.058784376 | N76: 4 | P76: Onggoing Construction (Bina Mitra IndoSejahtera BMIS)
B77: 72 | C77: I. Unnamed Road | D77: Urban Road | F77: Bobonaro | G77: -8.986986 | H77: 125.21436 | I77: -8.9854068 | J77: 125.21031 | K77: Gravel | L77: Poor | M77: 0.55726368 | N77: 4 | P77: Onggoing Construction (Bina Mitra IndoSejahtera BMIS)
B78: 73 | C78: J. Unnamed Road | D78: Urban Road | F78: Bobonaro | G78: -8.9891474 | H78: 125.21518 | I78: -8.9932081 | J78: 125.20957 | K78: Gravel | L78: Poor | M78: 0.81230949 | N78: 4 | P78: Onggoing Construction (Bina Mitra IndoSejahtera BMIS)
B79: 74 | C79: K. Unnamed Road | D79: Urban Road | F79: Bobonaro | G79: -8.9918931 | H79: 125.19878 | I79: -8.9923256 | J79: 125.19634 | K79: Gravel | L79: Poor | M79: 0.27499912 | N79: 4 | P79: Onggoing Construction (Bina Mitra IndoSejahtera BMIS)
B80: 75 | C80: L. Unnamed Road | D80: Urban Road | F80: Bobonaro | G80: -8.9853902 | H80: 125.21032 | I80: -8.9878501 | J80: 125.20433 | K80: Gravel | L80: Poor | M80: 1.1361799 | N80: 4 | P80: Onggoing Construction (Bina Mitra IndoSejahtera BMIS)
B81: 76 | C81: M. Unnamed Road | D81: Urban Road | F81: Bobonaro | G81: -8.9757282 | H81: 125.14151 | I81: -8.9902732 | J81: 125.13959 | K81: Gravel | L81: Poor | M81: 1.8696371 | N81: 4.2 | P81: Onggoing Construction (Bina Mitra IndoSejahtera BMIS)
... B84: 79 | C84: P. Unnamed Road | D84: Urban Road | F84: Bobonaro | G84: -8.9916293 | H84: 125.21933 | I84: -8.9919955 | J84: 125.21849 | K84: Gravel | L84: Poor | M84: 0.10836231 | N84: 4 | P84: Onggoing Construction (Bina Mitra IndoSejahtera BMIS)
B85: 80 | C85: D. Unnamed Road | D85: Urban Road | F85: Bobonaro | G85: -8.9719156 | H85: 125.14529 | I85: -8.9710322 | J85: 125.14777 | K85: Gravel | L85: Poor | M85: 0.41577768 | N85: 4.5
E87: RASIO (%)
C88: TOTAL Link (km) | D88: =SUM(M6:M85) -> 47.082807 | E88: =SUM(E89:E91) -> 1
C89: Good Asphalt (km) | D89: =SUM(M17,M29) -> 1.8708079 | E89: =D89/D88 -> 0.039734417
C90: Poor Asphalt (Km) | D90: =SUM(M25,M39,M53,M54,M63,M66) -> 4.0614429 | E90: =D90/D88 -> 0.086261699
C91: Gravel (km) | D91: =D88-D89-D90 -> 41.150556 | E91: =D91/D88 -> 0.87400388

Sheet MANUFAHI
B2: GENERAL DESCRIPTION OF ROAD
B3: No. & Waypoint | C3: Link Name | D3: Link | E3: Post. Admin | F3: Municipality | G3: Coordinate Location (Decimal Degree) | K3: Existing Link | O3: Code Class | P3: Status | Q3: DESCRIPTION
G4: Start Point | I4: End Point | K4: Surface Type | L4: Condition | M4: Length (km) | N4: Width (m)
G5: Latitude | H5: Longitude | I5: Latitude | J5: Longitude
B6: 1 | C6: 01. Unnamed Road | D6: Urban Road | F6: Manufahi | G6: -9.0175287 | H6: 125.65934 | I6: -9.0250887 | J6: 125.66586 | K6: Gravel | L6: Poor | M6: 1.2139535 | N6: 3
B7: 2 | C7: 02. Rua Akadiru Fu A | D7: Urban Road | F7: Manufahi | G7: -9.0102171 | H7: 125.6518 | I7: -9.0186338 | J7: 125.66812 | K7: Hotmix & Gravel | L7: Good | M7: 2.2942853 | N7: 4.6
B8: 3 | C8: 02. EP Akadiru Fu B | D8: Urban Road | F8: Manufahi | G8: -8.9964004 | H8: 125.67518 | I8: -9.0066345 | J8: 125.67403 | K8: Hotmix & Gravel | L8: Good | M8: 1.2125679 | N8: 4.6
B9: 4 | C9: 03. Rua Leub Rema | D9: Urban Road | F9: Manufahi | G9: -9.0101844 | H9: 125.65181 | I9: -9.0026297 | J9: 125.65544 | K9: Gravel | L9: Poor | M9: 1.3013149 | N9: 4
B10: 5 | C10: 04. Rua Hat Dairam | D10: Urban Road | F10: Manufahi | G10: -9.0120208 | H10: 125.6482 | I10: -9.0102112 | J10: 125.65176 | K10: Hotmix | L10: Good | M10: 0.44002128 | N10: 5.5
B11: 6 | C11: 05. Unnamed Road | D11: Urban Road | F11: Manufahi | G11: -9.0066607 | H11: 125.64827 | I11: -9.0101798 | J11: 125.65176 | K11: Hotmix | L11: Good | M11: 0.54991438 | N11: 5.5
B12: 7 | C12: 06. Rua Sukaer Hun | D12: Urban Road | F12: Manufahi | G12: -9.0092697 | H12: 125.64838 | I12: -9.011296 | J12: 125.64958 | K12: Hotmix | L12: Good | M12: 0.2605617 | N12: 5.5
B13: 8 | C13: 07. Travessa Leo Laco | D13: Urban Road | F13: Manufahi | G13: -9.0096446 | H13: 125.64806 | I13: -9.0105498 | J13: 125.64863 | K13: Gravel | L13: Poor | M13: 0.11869198 | N13: 4
B14: 9 | C14: 08. Unnamed Road | D14: Urban Road | F14: Manufahi | G14: -9.0109474 | H14: 125.64767 | I14: -9.0095453 | J14: 125.6505 | K14: Gravel | L14: Poor | M14: 0.35242777 | N14: 5.5
B15: 10 | C15: 09. Rua Foho Riak | D15: Urban Road | F15: Manufahi | G15: -9.0103945 | H15: 125.64732 | I15: -9.0273558 | J15: 125.65752 | K15: Gravel | L15: Poor | M15: 3.403389 | N15: 5.5
B16: 11 | C16: 10. Travessa Leo Fosu | D16: Urban Road | F16: Manufahi | G16: -9.0129552 | H16: 125.6451 | I16: -9.0100706 | J16: 125.64369 | K16: Gravel | L16: Poor | M16: 0.42265134 | N16: 3.5
B17: 12 | C17: 11. Rua Hat Hahan | D17: Urban Road | F17: Manufahi | G17: -9.0108491 | H17: 125.64688 | I17: -9.0112079 | J17: 125.63829 | K17: Gravel | L17: Poor | M17: 1.0558586 | N17: 5.5 | Q17: Onggoing
B18: 13 | C18: 12. Rua Maitumer | D18: Urban Road | F18: Manufahi | G18: -9.0098721 | H18: 125.64499 | I18: -9.0070261 | J18: 125.64379 | K18: Gravel | L18: Poor | M18: 0.36598599 | N18: 5.5
B19: 14 | C19: 13. Rua Daimata | D19: Urban Road | F19: Manufahi | G19: -9.0162813 | H19: 125.64371 | I19: -9.0061587 | J19: 125.63445 | K19: Gravel | L19: Poor | M19: 1.6111227 | N19: 5.5
B20: 15 | C20: 14. Rua Daesama | D20: Urban Road | F20: Manufahi | G20: -9.0094361 | H20: 125.63695 | I20: -9.0078351 | J20: 125.64382 | K20: Gravel | L20: Poor | M20: 0.95635923 | N20: 4
B21: 16 | C21: 15. Travessa Tael Hua Lau | D21: Urban Road | F21: Manufahi | G21: -9.0045354 | H21: 125.64809 | I21: -9.0069615 | J21: 125.64385 | K21: Hotmix | L21: Good | M21: 0.5509954 | N21: 5
B22: 17 | C22: 16. Rua Aidahaleu | D22: Urban Road | F22: Manufahi | G22: -9.0011292 | H22: 125.64791 | I22: -9.0069406 | J22: 125.64375 | K22: Hotmix | L22: Good | M22: 0.96886936 | N22: 5.3
B23: 18 | C23: 17. Travessa Fo-Rae-Udu | D23: Urban Road | F23: Manufahi | G23: -8.9987217 | H23: 125.64964 | I23: -8.9964603 | J23: 125.65038 | K23: Gravel | L23: Poor | M23: 0.35339624 | N23: 4
B24: 19 | C24: 18. Rua Bolmeta | D24: Urban Road | F24: Manufahi | G24: -8.9996141 | H24: 125.64951 | I24: -9.004518 | J24: 125.64817 | K24: Hotmix | L24: Good | M24: 0.76450874 | N24: 5
B25: 20 | C25: 19. Rua Samelau | D25: Urban Road | F25: Manufahi | G25: -8.9997027 | H25: 125.64956 | I25: -8.9987913 | J25: 125.64967 | K25: Hotmix | L25: Good | M25: 1.8300772 | N25: 5
B26: 21 | C26: 20. Beco Moclau | D26: Urban Road | F26: Manufahi | G26: -9.0024576 | H26: 125.65567 | I26: -9.0017111 | J26: 125.65877 | K26: Hotmix & Gravel | L26: Good | M26: 0.53352448 | N26: 4
B27: 22 | C27: 21. Unnamed Road | D27: Urban Road | F27: Manufahi | G27: -9.0007509 | H27: 125.65231 | I27: -9.0012257 | J27: 125.65304 | K27: Hotmix | L27: Good | M27: 0.10175549 | N27: 5
B28: 23 | C28: 22. Unnamed Road | D28: Urban Road | F28: Manufahi | G28: -9.0000256 | H28: 125.65203 | I28: -8.999655 | J28: 125.65733 | K28: Gravel | L28: Poor | M28: 0.58932538 | N28: 5.3
B29: 24 | C29: 23. Rua Leus Fu | D29: Urban Road | F29: Manufahi | G29: -8.99869 | H29: 125.64915 | I29: -8.9995354 | J29: 125.64896 | K29: Hotmix | L29: Good | M29: 0.20255692 | N29: 5.5
... B62: 57 | C62: 56. Unnamed Road | D62: Urban Road | F62: Manufahi | G62: -8.9891856 | H62: 125.59576 | I62: -8.9900781 | J62: 125.59407 | K62: Gravel | L62: Poor | M62: 0.33949985 | N62: 4.3
E64: RASIO (%)
C65: TOTAL Link (km) | D65: =SUM(M6:M62) -> 59.78175 | E65: =SUM(E66:E68) -> 1
C66: Good Asphalt (km) | D66: =SUM(M7,M8,M10,M11,M12,M21,M22,M24,M25,M26,M27,M29,M30,M34,M35,M38,M39,M43) -> 29.639994 | E66: =D66/D65 -> 0.4958034
C67: Good Conrete (Km) | D67: =SUM(M51) -> 0.2709496 | E67: =D67/D65 -> 0.004532313
C68: Gravel (km) | D68: =D65-D66-D67 -> 29.870806 | E68: =D68/D65 -> 0.49966429
