Workbook

Sheet Sumariu
A1: SUMARIU GERAL PONTES ANIVEL MUNICIPIO LAUTEM
A2: Postu Administrativo | B2: Unit | C2: Condisaun
C4: Good | D4: Poor | E4: Very Poor
A5: Lautem | B5: ='Postu Lautem'!E34 -> 26 | C5: ='Postu Lautem'!E36 -> 25 | D5: ='Postu Lautem'!E37 -> 1 | E5: ='Postu Lautem'!E38 -> 0
A6: Lospalos | B6: ='Postu Lospalos'!E21 -> 13 | C6: ='Postu Lospalos'!E23 -> 2 | D6: ='Postu Lospalos'!E24 -> 9 | E6: ='Postu Lospalos'!E25 -> 2
A7: Iliomar | B7: ='Postu Iliomar'!E38 -> 30 | C7: ='Postu Iliomar'!E40 -> 22 | D7: ='Postu Iliomar'!E41 -> 7 | E7: ='Postu Iliomar'!E42 -> 1
A8: Lore | B8: ='Postu Lore'!E18 -> 10 | C8: ='Postu Lore'!E20 -> 9 | D8: ='Postu Lore'!E21 -> 1 | E8: ='Postu Lore'!E22 -> 0
A9: Luro | B9: ='Postu Luro'!E48 -> 40 | C9: ='Postu Luro'!E50 -> 36 | D9: ='Postu Luro'!E51 -> 4 | E9: ='Postu Luro'!E52 -> 0
A10: Tutuala | B10: ='Postu Tutuala'!E13 -> 5 | C10: ='Postu Tutuala'!E15 -> 4 | D10: ='Postu Tutuala'!E16 -> 1 | E10: ='Postu Tutuala'!E17 -> 0
A11: Grand total | B11: =SUM(B5:B10) -> 124 | C11: =SUM(C5:C10) -> 98 | D11: =SUM(D5:D10) -> 23 | E11: =SUM(E5:E10) -> 3
A14: Good | B14: =C11 -> 98
A15: Poor | B15: =D11 -> 23
A16: Very Poor | B16: =E11 -> 3

Sheet Postu Lautem
A1: DADUS PONTE POSTU ADMINISTRATIVO LAUTEM
A2: Nu. | B2: Brige name | C2: Bridge Type | D2: Status | E2: Unit | F2: Water level (m) | G2: Suco | H2: Postu | I2: Municipality | J2: Upstream Protection | K2: Downstream Protection | L2: Bridge | M2: Bridge | N2: Pedestrian | O2: Condition | P2: Cordinate | R2: Road Link | S2: Category | V2: Survey observation | W2: Recommendation
F3: Againts Bridge Deck | J3: (Max.500m) | L3: Length (m) | M3: Width (m) | N3: (m) | P3: Longtitude | Q3: Latitude | S3: A=normal | T3: B=Presiza tau atensaun (Warming) | U3: C=Emergensia atu halo normalizasaun
O4: Good
O6: Poor
O7: Verry Poor
A8: 1 | B8: Ililai | C8: Steel Truss | D8: Tuan | E8: 1 | F8: 3 | G8: Ililai | H8: Lautem | I8: Lautem | J8: Laiha | K8: RS 20 m (aat) | L8: 92.5 | M8: 6 | N8: 0.5 | O8: Good | P8: -8.408572° | Q8: 126.730220° | R8: National | S8: A
A9: 2 | B9: Raomoko | C9: Steel Truss | D9: Tuan | E9: 1 | F9: 2 | G9: Daudere | J9: Laiha | K9: Laiha | L9: 46 | M9: 6 | O9: Good | P9: -8.414323° | Q9: 126.808419° | R9: National | S9: A | W9: Hamoos sedimentu no ai-sanak sira
A10: 3 | B10: Serelau 1 | C10: Concrete Girder | D10: Tuan | E10: 1 | F10: 1 | G10: Serelau | J10: Laiha | K10: Laiha | L10: 26 | M10: 6 | N10: 0.5 | O10: Good | P10: -8.399439° | Q10: 126.832911° | R10: National | S10: A
A11: 4 | B11: Serelau 2 | C11: Concrete Girder | D11: Tuan | E11: 1 | F11: 1 | G11: Serelau | J11: Laiha | K11: Laiha | L11: 20 | M11: 6 | N11: 0.5 | O11: Good | P11: -8.396824° | Q11: 126.836055° | R11: National | S11: A
A12: 5 | B12: Apikuru | C12: Steel Truss | D12: Tuan | E12: 1 | F12: 3 | G12: Pairara | J12: Ongoing | K12: Ongoing | L12: 50 | O12: Poor | P12: -8.375505° | Q12: 126.890418° | R12: National | W12: Ongoing Neltifer Unip.Lda.
A13: 6 | B13: Buhiomau | C13: BC | D13: Tuan | E13: 1 | F13: 3 | G13: Serelau | J13: Laiha | K13: Laiha | L13: 2 | M13: 5 | O13: Good | P13: -0.840433 | Q13: 126.83013 | R13: Municipal | S13: A
A14: 7 | B14: Teinara | C14: BC | D14: Foun | E14: 1 | F14: 3 | G14: Serelau | J14: Gabion | K14: Gabion | L14: 4 | M14: 5 | O14: Good | P14: -8.4136 | Q14: 126.82653 | R14: Municipal | S14: A
A15: 8 | B15: Daudere 2 | C15: BC | D15: Tuan | E15: 1 | F15: 3 | G15: Daudere | J15: Laiha | K15: Laiha | L15: 3 | M15: 4 | O15: Good | P15: -8.43534 | Q15: 126.82997 | R15: Municipal | S15: A
A16: 9 | B16: Daudere 3 | C16: BC | D16: Tuan | E16: 1 | F16: 3 | G16: Daudere | J16: Laiha | K16: Laiha | L16: 3 | M16: 4 | O16: Good | P16: -8.43608 | Q16: 126.82947 | R16: Municipal | S16: A
A17: 10 | B17: Lorigua | C17: Concrete Girder | D17: Tuan | E17: 1 | F17: 3 | G17: Daudere | J17: Laiha | K17: Siklop | L17: 16 | M17: 5 | O17: Good | P17: -8.4546 | Q17: 126.82187 | R17: Municipal | T17: B= Presiza tau Atensaun (Warning) | V17: Handrail at hotu ona | W17: Persija Manutensaun
A18: 11 | B18: Ponte Daudere 1 | C18: Steel Truss | D18: Tuan | E18: 1 | F18: 10 | G18: Daudere | J18: Laiha | K18: Gabion | L18: 100 | M18: 5 | O18: Good | P18: -8.46742 | Q18: 126.82054 | R18: Municipal | S18: A
A19: 12 | B19: Asakau | C19: BC | D19: Tuan | E19: 1 | F19: 3 | G19: Daudere | J19: Laiha | K19: Laiha | L19: 4 | M19: 5 | O19: Good | P19: -8.48469 | Q19: 126.81866 | R19: Municipal | S19: A
A20: 13 | B20: Asakau | C20: T-Beam | D20: Tuan | E20: 1 | F20: 3 | G20: Daudere | J20: Laiha | K20: Laiha | L20: 10 | M20: 5 | O20: Good | P20: -8.48828 | Q20: 126.81953 | R20: Municipal | S20: A
A21: 14 | B21: Afabubo | C21: BC | D21: Tuan | E21: 1 | F21: 3 | G21: Afabubo | J21: Laiha | K21: Laiha | L21: 2 | M21: 6 | O21: Good | P21: -8.50291 | Q21: 126.83031 | R21: Municipal | S21: A
A22: 15 | B22: Afabubo | C22: T-Beam | D22: Tuan | E22: 1 | F22: 5 | G22: Afabubo | J22: Laiha | K22: Gabion | L22: 18 | M22: 6 | O22: Good | P22: -8.51122 | Q22: 126.83266 | R22: Municipal | S22: A
A23: 16 | B23: Odofuro | C23: BC | D23: Tuan | E23: 1 | F23: 3 | G23: Afabubo | J23: Laiha | K23: Laiha | L23: 2 | M23: 6 | O23: Good | P23: -8.51778 | Q23: 126.83266 | R23: Municipal | S23: A
A24: 17 | B24: Malailada | C24: Drift | D24: Tuan | E24: 1 | F24: 3 | G24: Baduro | J24: Laiha | K24: Laiha | L24: 50 | M24: 8 | O24: Good | P24: -8.371884° | Q24: 126.884309° | R24: Rural | S24: A
A25: 18 | B25: Lereado | C25: Drift | D25: Tuan | E25: 1 | F25: 3 | G25: Maina 2 | J25: Laiha | K25: Laiha | L25: 39 | M25: 6 | O25: Good | P25: -8.51705 | Q25: 126.84705 | R25: Rural | S25: A
A26: 19 | B26: Lereado | C26: BC | D26: Tuan | E26: 1 | F26: 3 | G26: Maina 2 | J26: Laiha | K26: Laiha | L26: 9 | M26: 3 | O26: Good | P26: -8.50992 | Q26: 126.84705 | R26: Rural | S26: A
A27: 20 | B27: Mawedara 1 | C27: PC | D27: Tuan | E27: 1 | F27: 2 | G27: Maina 2 | J27: Laiha | K27: Laiha | L27: 4 | M27: 5 | O27: Good | P27: -8.4811 | Q27: 126.88926 | R27: Rural | S27: A
A28: 21 | B28: Mawedara 2 | C28: PC | D28: Tuan | E28: 1 | F28: 2 | G28: Maina 2 | J28: Laiha | K28: Laiha | L28: 4 | M28: 5 | O28: Good | P28: -8.48595 | Q28: 126.8913 | R28: Rural | S28: A
A29: 22 | B29: Dasidara-Liquidiga | C29: Drift | D29: Tuan | E29: 1 | F29: 2 | G29: Ililai | J29: Laiha | K29: Laiha | L29: 12 | O29: Good | P29: -8.43536 | Q29: 126.73788 | R29: Rural | S29: A
A30: 23 | B30: Dasidara-Liquidiga | C30: Drift | D30: Tuan | E30: 1 | F30: 2 | G30: Ililai | J30: Laiha | K30: Laiha | L30: 12 | O30: Good | P30: -8.43684 | Q30: 126.73993 | R30: Rural | S30: A
A31: 24 | B31: Dasidara-Liquidiga | C31: BC | D31: Tuan | E31: 1 | F31: 2 | G31: Ililai | J31: Laiha | K31: Laiha | L31: 2 | M31: 5 | O31: Good | P31: -8.43933 | Q31: 126.74702 | R31: Rural | S31: A
A32: 25 | B32: Dasidara-Liquidiga | C32: BC | D32: Tuan | E32: 1 | F32: 2 | G32: Ililai | J32: Laiha | K32: Laiha | L32: 3 | M32: 5 | O32: Good | P32: -8.45678 | Q32: 126.75347 | R32: Rural | S32: A
A33: 26 | B33: Dasidara-Liquidiga | C33: BC | D33: Tuan | E33: 1 | F33: 2 | G33: Ililai | J33: Laiha | K33: Laiha | L33: 2 | M33: 5 | O33: Good | P33: -8.46167 | Q33: 126.75211 | R33: Rural | S33: A
A34: Total Ponte Postu Lautem | E34: =SUM(E8:E33) -> 26
D36: Good | E36: =COUNTA(O8:O11,O13:O33) -> 25
D37: Poor | E37: =COUNTA(O12) -> 1
D38: Very Poor | E38: 0

Sheet Postu Lospalos
A1: DADUS PONTE POSTU ADMINISTRATIVO LOSPALOS
A2: Nu. | B2: Brige name | C2: Bridge Type | D2: Status | E2: Unit | F2: Water level (m) | G2: Suco | H2: Postu | I2: Municipality | J2: Upstream Protection | K2: Downstream Protection | L2: Bridge | M2: Bridge | N2: Pedestrian | O2: Condition | P2: Cordinate | R2: Road Link | S2: Category | V2: Survey observation | W2: Recommendation
F3: Againts Bridge Deck | J3: (Max.500m) | L3: Length (m) | M3: Width (m) | N3: (m) | P3: Longtitude | Q3: Latitude | S3: A=normal | T3: B=Presiza tau atensaun (Warming) | U3: C=Emergensia atu halo normalizasaun
O4: Good
O6: Poor
O7: Verry Poor
A8: 1 | B8: Motolori | C8: Steel Truss | D8: Tuan | E8: 1 | F8: 2 | G8: Fuiloro | H8: Lospalos | I8: Lautem | J8: Laiha | K8: RS, LS, Stone Masonry (12 m) | L8: 38 | M8: 8 | O8: Verry Poor | P8: -8.521219° | Q8: 126.994846° | R8: National | U8: C | V8: Presiza hadia, plat aat (koak)
A9: 2 | B9: Nami moko ver | D9: Tuan | E9: 1 | G9: Fuiloro | J9: Laiha | L9: 6 | M9: 6 | O9: Good | P9: Seidauk foti | R9: Municipal | V9: Presiza hadia
A10: 3 | B10: Caulutur | D10: Tuan | E10: 1 | G10: Fuiloro | J10: Laiha | L10: 6 | M10: 6 | O10: Verry Poor | R10: Rural | U10: C
A11: 4 | B11: Trisula | D11: Tuan | E11: 1 | G11: Fuiloro | J11: Laiha | L11: 6 | M11: 6 | O11: Poor | R11: Nasional | W11: Ongoing
A12: 5 | B12: Titilari | D12: Tuan | E12: 1 | G12: Fuiloro | J12: Laiha | L12: 5 | M12: 5 | O12: Poor | R12: Nasional | W12: Ongoing
A13: 6 | B13: Misaun | D13: Tuan | E13: 1 | G13: Fuiloro | J13: Laiha | L13: 13 | M13: 6 | O13: Poor | R13: Municipal | W13: Tender
A14: 7 | B14: Query | D14: Tuan | E14: 1 | G14: Fuiloro | J14: Laiha | L14: 12 | M14: 6 | O14: Poor | R14: Nasional | W14: Ongoing
A15: 8 | B15: Laiku | D15: Tuan | E15: 1 | G15: Fuiloro | J15: Laiha | L15: 3 | M15: 3 | O15: Poor | R15: Rural | T15: B= Presiza tau Atensaun (Warning)
A16: 9 | B16: Mercado tuan | D16: Tuan | E16: 1 | G16: Fuiloro | J16: Laiha | L16: 3 | M16: 5 | O16: Poor | R16: Urbana | T16: B= Presiza tau Atensaun (Warning)
A17: 10 | B17: Bemoris | D17: Foun | E17: 1 | G17: Fuiloro | J17: Iha | L17: 4 | M17: 6 | O17: Good | R17: Urbana | S17: A
A18: 11 | B18: Bemoris | D18: Tuan | E18: 1 | G18: Fuiloro | J18: Laiha | L18: 2 | M18: 5 | O18: Poor | T18: B= Presiza tau Atensaun (Warning)
A19: 12 | B19: Savarica | D19: Tuan | E19: 1 | G19: Fuiloro | J19: Laiha | L19: 3 | M19: 5 | O19: Poor | R19: Nasional | W19: Tender
A20: 13 | B20: EBC Sentru | D20: Tuan | E20: 1 | G20: Fuiloro | J20: Laiha | L20: 2 | M20: 4 | O20: Poor | R20: Urbana | T20: B= Presiza tau Atensaun (Warning)
A21: Total Ponte Postu Lospalos | E21: =SUM(E8:E20) -> 13
D23: Good | E23: =COUNTA(O9,O17) -> 2
D24: Poor | E24: =COUNTA(O11:O16,O18:O20) -> 9
D25: Very Poor | E25: =COUNTA(O8,O10) -> 2

Sheet Postu Iliomar
A1: DADUS PONTE POSTU ADMINISTRATIVO ILIOMAR
A2: Nu. | B2: Brige name | C2: Bridge Type | D2: Status | E2: Unit | F2: Water level (m) | G2: Suco | H2: Postu | I2: Municipality | J2: Upstream Protection | K2: Downstream Protection | L2: Bridge | M2: Bridge | N2: Pedestrian | O2: Condition | P2: Cordinate | R2: Road Link | S2: Category | V2: Survey observation | W2: Recommendation
F3: Againts Bridge Deck | J3: (Max.500m) | L3: Length (m) | M3: Width (m) | N3: (m) | P3: Longtitude | Q3: Latitude | S3: A=normal | T3: B=Presiza tau atensaun (Warming) | U3: C=Emergensia atu halo normalizasaun
O4: Good
O6: Poor
O7: Verry Poor
A8: 1 | B8: Atemetan | C8: BC shell | D8: Foun | E8: 1 | F8: 3 | G8: Caenliu | H8: Iliomar | I8: Lautem | J8: Laiha | K8: Laiha | L8: 4 | M8: 5 | O8: Good | P8: -8.69937 | Q8: 126.82142 | R8: Rural | S8: A
A9: 2 | B9: Paifakavey | C9: Bridge Timber | D9: Tuan | E9: 1 | F9: 5 | G9: Tirilolo | J9: Laiha | K9: Laiha | L9: 25 | M9: 3.5 | O9: Poor | P9: -8.69848 | Q9: 126.82035 | R9: Rural | T9: B= Presiza tau Atensaun (Warning) | V9: Persija Halo Foun | W9: New Construction
A10: 3 | B10: Caidavalarin | C10: Bridge Timber | D10: Tuan | E10: 1 | F10: 2.5 | G10: Tirilolo | L10: 34 | O10: Very Poor | P10: -8.698408° | Q10: 126.820381° | U10: C | V10: Ponte aat
A11: 4 | B11: Ilari | C11: Pipe C | D11: Tuan | E11: 1 | F11: 2 | G11: Tirilolo | J11: Laiha | K11: Laiha | L11: 2 | M11: 5 | O11: Poor | P11: -8.69854 | Q11: 126.8163 | R11: Rural | T11: B= Presiza tau Atensaun (Warning) | V11: Persija Halo Foun | W11: New Construction
A12: 5 | B12: Nautetu-Asalikisae | C12: Drift | D12: Tuan | E12: 1 | G12: Trilolo | J12: Laiha | K12: Laiha | L12: 28.5 | M12: 5 | O12: Good | P12: -8.69259 | Q12: 126.79659 | R12: Rural | S12: A
A13: 6 | B13: Etevata | C13: Drift | D13: Tuan | E13: 1 | G13: Trilolo | J13: Laiha | K13: Laiha | L13: 12 | M13: 4 | O13: Good | P13: -8.68822 | Q13: 126.79086 | R13: Rural | S13: A
A14: 7 | B14: Apatmuto | C14: Drift | D14: Tuan | E14: 1 | G14: Trilolo | J14: Laiha | K14: Laiha | L14: 16 | M14: 4 | O14: Good | P14: -8.68795 | Q14: 126.79086 | R14: Rural | S14: A
A15: 8 | B15: Dirinu | C15: Drift | D15: Tuan | E15: 1 | G15: Caenliu | J15: Laiha | K15: Laiha | L15: 12 | M15: 4 | O15: Good | P15: -8.71256 | Q15: 126.88261 | R15: Rural | S15: A
A16: 9 | B16: Dirinu | C16: Drift | D16: Tuan | E16: 1 | G16: Caenliu | J16: Laiha | K16: Laiha | L16: 33.8 | M16: 4 | O16: Good | P16: -8.71581 | Q16: 126.82321 | R16: Rural | S16: A
A17: 10 | B17: Dirinu | C17: BC | D17: Tuan | E17: 1 | F17: 2 | G17: Caenliu | J17: Laiha | K17: Laiha | L17: 3.7 | M17: 5 | O17: Good | P17: -8.31242 | Q17: 126.8067 | R17: Rural | S17: A
A18: 11 | B18: Dirinu | C18: BC | D18: Tuan | E18: 1 | F18: 2 | G18: Caenliu | J18: Laiha | K18: Laiha | L18: 3 | M18: 5 | O18: Good | P18: -8.73203 | Q18: 126.80639 | R18: Rural | S18: A
A19: 12 | B19: Dirinu | C19: Drift | E19: 1 | G19: Caenliu | J19: Laiha | K19: Laiha | L19: 12 | M19: 4 | O19: Good | P19: -8.72968 | Q19: 126.80045 | R19: Rural | S19: A
A20: 13 | B20: Fanuasa | C20: Drift | D20: Tuan | E20: 1 | G20: Caenliu | J20: Laiha | K20: Laiha | L20: 27.5 | M20: 4 | O20: Good | P20: -8.73574 | Q20: 126.72888 | R20: Rural | S20: A
A21: 14 | B21: Kanfuru | C21: Drift | D21: Tuan | E21: 1 | G21: Caenliu | J21: Laiha | K21: Laiha | L21: 16 | M21: 4 | O21: Good | P21: -8.74132 | Q21: 126.78287 | R21: Rural | S21: A
A22: 15 | B22: Kanfuru | C22: Drift | D22: Tuan | E22: 1 | G22: Caenliu | J22: Laiha | K22: Laiha | L22: 12 | M22: 4 | O22: Good | P22: -8.7449 | Q22: 126.77706 | R22: Rural | S22: A
A23: 16 | B23: Kanfuru | C23: Drift | D23: Tuan | E23: 1 | G23: Caenliu | J23: Laiha | K23: Laiha | L23: 12 | M23: 4 | O23: Good | P23: -8.74259 | Q23: 126.76741 | R23: Rural | S23: A
A24: 17 | B24: Kanfuru | C24: Drift | D24: Tuan | E24: 1 | G24: Caenliu | J24: Laiha | K24: Laiha | L24: 12 | M24: 4 | O24: Good | P24: -8.742693 | Q24: 126.76174 | R24: Rural | S24: A
A25: 18 | B25: Kanfuru | C25: Drift | D25: Tuan | E25: 1 | G25: Caenliu | J25: Laiha | K25: Laiha | L25: 16 | M25: 4 | O25: Good | P25: -8.740665 | Q25: 126.74933 | R25: Rural | S25: A
A26: 19 | B26: Irabere | C26: Steel Truss | D26: Tuan | E26: 1 | F26: 15 | G26: Caenliu | J26: Laiha | K26: Laiha | L26: 200 | M26: 8 | O26: Good | P26: -8.739416 | Q26: 126.74614 | R26: National | S26: A | V26: Persija hadia Approach
A27: 20 | C27: BC | D27: Tuan | E27: 1 | F27: 3 | G27: Caenliu | J27: Laiha | K27: Laiha | L27: 3 | M27: 5 | O27: Good | P27: -8.737394 | Q27: 126.74495 | R27: Rural | S27: A
A28: 21 | B28: Mauma | C28: Steel Truss | D28: Tuan | E28: 1 | F28: 2 | G28: Tirilolo | J28: Laiha | K28: Laiha | L28: 39 | M28: 6 | O28: Good | P28: -8.742624° | Q28: 126.767583° | R28: National | S28: A
A29: 22 | B29: Namanei | C29: BC | D29: Tuan | E29: 1 | F29: 2 | G29: Trilolo | J29: Laiha | K29: Laiha | L29: 4 | M29: 5 | O29: Good | P29: -8.737977 | Q29: 126.86062 | R29: National | S29: A
A30: 23 | B30: Katapu | C30: BC | D30: Tuan | E30: 1 | F30: 3 | G30: Tirilolo | J30: Laiha | K30: Laiha | L30: 6 | M30: 5 | O30: Good | P30: -8.738715 | Q30: 126.84748 | R30: National | S30: A
A31: 24 | B31: Liluhu | C31: Steel Truss | D31: Tuan | E31: 1 | G31: Iliomar 1 | J31: Laiha | K31: Laiha | L31: 38 | M31: 8 | O31: Good | P31: -8.731948° | Q31: 126.806390° | R31: National | S31: A
A32: 25 | B32: Alava | C32: PC | D32: Tuan | E32: 1 | F32: 2 | G32: Iradarat | J32: Laiha | K32: Laiha | L32: 0.6 | M32: 4 | O32: Poor | P32: -8.738373 | Q32: 126.84188 | R32: National | S32: A | T32: B= Presiza tau Atensaun (Warning)
A33: 26 | B33: Marhopan | C33: BC | D33: Tuan | E33: 1 | F33: 2 | G33: Iradarat | J33: Laiha | K33: Laiha | L33: 3 | M33: 4 | O33: Poor | P33: -8.730959 | Q33: 126.83583 | R33: National | U33: C | V33: Existing Collapse | W33: New Construction
A34: 27 | B34: Iradarat | C34: Drift | D34: Tuan | E34: 1 | G34: Iradarat | J34: Laiha | K34: Laiha | L34: 20 | M34: 4 | O34: Poor | P34: -8.725276 | Q34: 126.83529 | R34: National | U34: C | V34: Existing Collapse | W34: New Construction
A35: 28 | B35: Iradarat | C35: Drift | D35: Tuan | E35: 1 | G35: Iradarat | J35: Laiha | K35: Laiha | L35: 16 | M35: 4 | O35: Good | P35: -8.725051 | Q35: 126.83525 | R35: National | S35: A
A36: 29 | B36: Kiaver | C36: Drift | D36: Tuan | E36: 1 | G36: Iradarat | J36: Laiha | K36: Laiha | L36: 100 | M36: 4 | O36: Poor | P36: -8.724442 | Q36: 126.83509 | R36: National | U36: C | V36: Existing Collapse | W36: New Construction
A37: 30 | B37: Aharipabat | C37: Small Bridge | D37: Tuan | E37: 1 | G37: Iradarat | J37: Laiha | K37: Laiha | L37: 10 | M37: 4 | O37: Poor | P37: -8.723649 | Q37: 126.83502 | R37: National | T37: B= Presiza tau Atensaun (Warning)
A38: Total Ponte Postu Iliomar | E38: =SUM(E8:E37) -> 30
D40: Good | E40: =COUNTA(O8,O12:O31,O35) -> 22
D41: Poor | E41: =COUNTA(O9,O11,O32:O34,O36:O37) -> 7
D42: Very Poor | E42: =COUNTA(O10) -> 1

Sheet Postu Lore
A1: DADUS PONTE POSTU ADMINISTRATIVO LORE
A2: Nu. | B2: Brige name | C2: Bridge Type | D2: Status | E2: Unit | F2: Water level (m) | G2: Suco | H2: Postu | I2: Municipality | J2: Upstream Protection | K2: Downstream Protection | L2: Bridge | M2: Bridge | N2: Pedestrian | O2: Condition | P2: Cordinate | R2: Road Link | S2: Category | V2: Survey observation | W2: Recommendation
F3: Againts Bridge Deck | J3: (Max.500m) | L3: Length (m) | M3: Width (m) | N3: (m) | P3: Longtitude | Q3: Latitude | S3: A=normal | T3: B=Presiza tau atensaun (Warming) | U3: C=Emergensia atu halo normalizasaun
O4: Good
O6: Poor
O7: Verry Poor
A8: 1 | B8: Lo-Ira | C8: BC | D8: Tuan | E8: 1 | F8: 2 | G8: Lore 2 | H8: Lore | I8: Lautem | J8: Laiha | K8: Laiha | L8: 3 | M8: 5 | O8: Good | P8: -8.5395 | Q8: 126.99515 | R8: Municipal | S8: A
A9: 2 | B9: Vazahara-Moco | C9: BC | D9: Tuan | E9: 1 | F9: 2 | G9: Lore 2 | J9: Laiha | K9: Laiha | L9: 3 | M9: 5 | O9: Good | P9: -8.5534 | Q9: 126.98761 | R9: Municipal | S9: A
A10: 3 | B10: Chin Ver | C10: T-Beam | D10: Tuan | E10: 1 | F10: 7 | G10: Lore 2 | J10: Laiha | K10: Laiha | L10: 25 | M10: 7 | O10: Good | P10: -8.59014 | Q10: 126.99879 | R10: Municipal | S10: A
A11: 4 | C11: BC | D11: Tuan | E11: 1 | F11: 2 | G11: Lore 2 | J11: Laiha | K11: Laiha | L11: 4 | M11: 5 | O11: Good | P11: -8.59647 | Q11: 127.00009 | R11: Municipal | S11: A
A12: 5 | C12: BC | D12: Tuan | E12: 1 | F12: 2 | G12: Lore 2 | J12: Laiha | K12: Laiha | L12: 4 | M12: 5 | O12: Good | P12: -8.60177 | Q12: 127.00294 | R12: Municipal | S12: A
A13: 6 | C13: BC | D13: Tuan | E13: 1 | F13: 2 | G13: Lore 2 | J13: Laiha | K13: Laiha | L13: 2 | M13: 5 | O13: Good | P13: -8.60555 | Q13: 127.0017 | R13: Municipal | S13: A
A14: 7 | B14: Ococau | C14: BC | D14: Tuan | E14: 1 | F14: 2 | G14: Lore 1 | J14: Laiha | K14: Laiha | L14: 2 | M14: 5 | O14: Good | P14: -8.63291 | Q14: 127.01271 | R14: Municipal | S14: A
A15: 8 | B15: Humina | C15: BC | D15: Tuan | E15: 1 | F15: 3 | G15: Lore 1 | J15: Laiha | K15: Laiha | L15: 8 | M15: 6 | O15: Poor | P15: -8.64372 | Q15: 127.01426 | R15: Municipal | U15: C | V15: Existing Broken | W15: New Construction
A16: 9 | B16: Chainama | C16: Drift | D16: Tuan | E16: 1 | G16: Lore 1 | J16: Laiha | K16: Laiha | L16: 20 | M16: 5 | O16: Good | P16: -8.6761 | Q16: 126.98832 | R16: Municipal | S16: A
A17: 10 | B17: Iralafai | C17: BC | D17: Tuan | E17: 1 | F17: 4 | G17: Lore 1 | J17: Laiha | K17: Laiha | L17: 10 | M17: 6 | O17: Good | P17: -8.66734 | Q17: 126.96862 | R17: Municipal | S17: A
A18: Total Ponte Postu Lore | E18: =SUM(E8:E17) -> 10
D20: Good | E20: =COUNTA(O8:O14,O16:O17) -> 9
D21: Poor | E21: =COUNTA(O15) -> 1
D22: Very Poor | E22: 0

Sheet Postu Luro
A1: DADUS PONTE POSTU ADMINISTRATIVO LURO
A2: Nu. | B2: Brige name | C2: Bridge Type | D2: Status | E2: Unit | F2: Water level (m) | G2: Suco | H2: Postu | I2: Municipality | J2: Upstream Protection | K2: Downstream Protection | L2: Bridge | M2: Bridge | N2: Pedestrian | O2: Condition | P2: Cordinate | R2: Road Link | S2: Category | V2: Survey observation | W2: Recommendation
F3: Againts Bridge Deck | J3: (Max.500m) | L3: Length (m) | M3: Width (m) | N3: (m) | P3: Longtitude | Q3: Latitude | S3: A=normal | T3: B=Presiza tau atensaun (Warming) | U3: C=Emergensia atu halo normalizasaun
O4: Good
O6: Poor
O7: Verry Poor
A8: 1 | B8: Odofuro Teka Laran | C8: PC | D8: Tuan | E8: 1 | F8: 2 | G8: Afabubo | H8: Luro | I8: Lautem | J8: Laiha | K8: Laiha | L8: 3 | M8: 6 | O8: Poor | P8: -8.52409 | Q8: 126.84157 | R8: Municipal | T8: B
A9: 2 | B9: Odofuro 2 | C9: BC | D9: Tuan | E9: 1 | F9: 2 | G9: Afabubo | J9: Laiha | K9: Laiha | L9: 5 | M9: 6 | O9: Good | P9: -8.52625 | Q9: 126.84106 | R9: Municipal | S9: A
A10: 3 | B10: Lortete | C10: Drift | D10: Tuan | E10: 1 | G10: Kotamuto | J10: Laiha | K10: Laiha | L10: 20 | M10: 6 | O10: Poor | P10: -8.52907 | Q10: 126.83998 | R10: Municipal | U10: C | V10: Existing Broken | W10: New Construction
A11: 4 | C11: PC | D11: Tuan | E11: 1 | F11: 2 | G11: Kotamuto | J11: Laiha | K11: Laiha | L11: 3 | M11: 5 | O11: Poor | P11: -8.53224 | Q11: 126.84233 | R11: Municipal | U11: C | V11: Collapse | W11: New Construction
A12: 5 | C12: BC | D12: Tuan | E12: 1 | F12: 2 | G12: Kotamuto | J12: Laiha | K12: Laiha | L12: 5 | M12: 6 | O12: Poor | P12: -8.53253 | Q12: 126.84264 | R12: Municipal | U12: C
A13: 6 | B13: Loikili | C13: BC | D13: Tuan | E13: 1 | F13: 2 | G13: Kotamuto | J13: Laiha | K13: Laiha | L13: 4 | M13: 6 | O13: Good | P13: -8.53519 | Q13: 126.84398 | R13: Municipal | S13: A
A14: 7 | C14: BC | D14: Tuan | E14: 1 | F14: 2 | G14: Kotamuto | J14: Laiha | K14: Laiha | L14: 8 | M14: 6 | O14: Good | P14: -8.53492 | Q14: 126.83975 | R14: Municipal | S14: A
A15: 8 | B15: Luro | C15: BC | D15: Tuan | E15: 1 | F15: 2 | G15: Kotamuto | J15: Laiha | K15: Laiha | L15: 4 | M15: 6 | O15: Good | P15: -8.5543 | Q15: 126.82875 | R15: Rural | S15: A
A16: 9 | B16: Barikafa | C16: BC | D16: Tuan | E16: 1 | F16: 2 | G16: Barikafa | J16: Laiha | K16: Laiha | L16: 6 | M16: 6 | O16: Good | R16: Rural | S16: A
A17: 10 | B17: Barikafa | C17: BC | D17: Tuan | E17: 1 | F17: 2 | G17: Barikafa | J17: Laiha | K17: Laiha | L17: 6 | M17: 6 | O17: Good | P17: -8.55981 | Q17: 126.8248 | R17: Rural | S17: A
A18: 11 | B18: Barikafa | C18: BC | D18: Tuan | E18: 1 | F18: 2 | G18: Barikafa | J18: Laiha | K18: Laiha | L18: 2 | M18: 4 | O18: Good | P18: -8.55992 | Q18: 126.82459 | R18: Rural | S18: A
A19: 12 | B19: Barikafa | C19: BC | D19: Tuan | E19: 1 | F19: 2 | G19: Barikafa | J19: Laiha | K19: Laiha | L19: 2 | M19: 4 | O19: Good | P19: -8.56221 | Q19: 126.82468 | R19: Rural | S19: A
A20: 13 | B20: Barikafa | C20: BC | D20: Tuan | E20: 1 | F20: 2 | G20: Barikafa | J20: Laiha | K20: Laiha | L20: 3 | M20: 4 | O20: Good | P20: -8.56817 | Q20: 126.81444 | R20: Rural | S20: A
A21: 14 | B21: Barikafa | C21: BC | D21: Tuan | E21: 1 | F21: 2 | G21: Barikafa | J21: Laiha | K21: Laiha | L21: 3 | M21: 4 | O21: Good | P21: -8.56817 | Q21: 126.81381 | R21: Rural | S21: A
A22: 15 | B22: Barikafa | C22: Drift | D22: Tuan | E22: 1 | G22: Barikafa | J22: Laiha | K22: Laiha | L22: 16 | M22: 4 | O22: Good | P22: -8.56898 | Q22: 126.812 | R22: Rural | S22: A
A23: 16 | B23: Barikafa | C23: Drift | D23: Tuan | E23: 1 | G23: Barikafa | J23: Laiha | K23: Laiha | L23: 16 | M23: 4 | O23: Good | P23: -8.856935 | Q23: 126.81056 | R23: Rural | S23: A
A24: 17 | B24: Barikafa | C24: Drift | D24: Tuan | E24: 1 | G24: Barikafa | J24: Laiha | K24: Laiha | L24: 16 | M24: 4 | O24: Good | P24: -8.56982 | Q24: 126.81013 | R24: Rural | S24: A
A25: 18 | B25: Barikafa | C25: Drift | D25: Tuan | E25: 1 | G25: Barikafa | J25: Laiha | K25: Laiha | L25: 16 | M25: 4 | O25: Good | P25: -8.57081 | Q25: 126.80283 | R25: Rural | S25: A
A26: 19 | B26: Barikafa | C26: Drift | D26: Tuan | E26: 1 | G26: Barikafa | J26: Laiha | K26: Laiha | L26: 12 | M26: 4 | O26: Good | P26: -8.57296 | Q26: 126.80225 | R26: Rural | S26: A
A27: 20 | B27: Osuwasu | C27: Drift | D27: Tuan | E27: 1 | G27: Barikafa | J27: Laiha | K27: Laiha | L27: 12 | M27: 4 | O27: Good | P27: -8.57376 | Q27: 126.80183 | R27: Rural | S27: A
A28: 21 | B28: Osuwasu | C28: Drift | D28: Tuan | E28: 1 | G28: Barikafa | J28: Laiha | K28: Laiha | L28: 12 | M28: 4 | O28: Good | P28: -8.57513 | Q28: 126.80214 | R28: Rural | S28: A
A29: 22 | B29: Osuwasu | C29: BC | D29: Tuan | E29: 1 | F29: 1 | G29: Barikafa | J29: Laiha | K29: Laiha | L29: 1.5 | M29: 4 | O29: Good | P29: -8.57718 | Q29: 126.80021 | R29: Rural | S29: A
A30: 23 | B30: Cotamutu, Jefaliu | C30: T - Beam | D30: Tuan | E30: 1 | F30: 1 | G30: Afabubo | J30: Laiha | K30: Laiha | L30: 27 | M30: 3.6 | O30: Good | P30: -8.511258° | Q30: 126.832659° | R30: Municipal | S30: A
A31: 24 | B31: Kotamuto | C31: BC | D31: Tuan | E31: 1 | F31: 2 | G31: Kotamuto | J31: Laiha | K31: Laiha | L31: 2 | M31: 5 | O31: Good | P31: -8.54375 | Q31: 126.83006 | R31: Rural | S31: A
A32: 25 | B32: Kotamuto | C32: BC | D32: Tuan | E32: 1 | F32: 2 | G32: Kotamuto | J32: Laiha | K32: Laiha | L32: 2 | M32: 5 | O32: Good | P32: -8.54006 | Q32: 126.82791 | R32: Rural | S32: A
A33: 26 | B33: Kotamuto | C33: BC | D33: Tuan | E33: 1 | F33: 2 | G33: Kotamuto | J33: Laiha | K33: Laiha | L33: 3 | M33: 5 | O33: Good | P33: -8.53871 | Q33: 126.82248 | R33: Rural | S33: A
A34: 27 | B34: Kotamuto | C34: BC | D34: Tuan | E34: 1 | F34: 2 | G34: Kotamuto | J34: Laiha | K34: Laiha | L34: 2 | M34: 5 | O34: Good | P34: -8.53847 | Q34: 126.82222 | R34: Rural | S34: A
A35: 28 | B35: Kotamuto | C35: BC | D35: Tuan | E35: 1 | F35: 2 | G35: Kotamuto | J35: Laiha | K35: Laiha | L35: 2 | M35: 5 | O35: Good | P35: -8.53725 | Q35: 126.81546 | R35: Rural | S35: A
A36: 29 | B36: Kotamuto | C36: BC | D36: Tuan | E36: 1 | F36: 2 | G36: Kotamuto | J36: Laiha | K36: Laiha | L36: 2 | M36: 5 | O36: Good | P36: -8.53786 | Q36: 126.81172 | R36: Rural | S36: A
A37: 30 | B37: Kotamuto | C37: Drift | D37: Tuan | E37: 1 | G37: Kotamuto | J37: Laiha | K37: Laiha | L37: 12 | M37: 5 | O37: Good | P37: -8.54049 | Q37: 126.80965 | R37: Rural | S37: A
A38: 31 | B38: Kotamuto | C38: Drift | D38: Tuan | E38: 1 | G38: Kotamuto | J38: Laiha | K38: Laiha | L38: 16 | M38: 5 | O38: Good | P38: -8.54045 | Q38: 126.80843 | R38: Rural | S38: A
A39: 32 | B39: Kotamuto | C39: Drift | D39: Tuan | E39: 1 | G39: Kotamuto | J39: Laiha | K39: Laiha | L39: 12 | M39: 5 | O39: Good | P39: -8.53872 | Q39: 126.80478 | R39: Rural | S39: A
A40: 33 | B40: Kotamuto | C40: Drift | D40: Tuan | E40: 1 | G40: Kotamuto | J40: Laiha | K40: Laiha | L40: 35 | M40: 5 | O40: Good | P40: -8.53901 | Q40: 126.80146 | R40: Rural | S40: A
A41: 34 | B41: Lakawa | C41: BC | D41: Tuan | E41: 1 | G41: Lakawa | J41: Laiha | K41: Laiha | L41: 2 | M41: 5 | O41: Good | P41: -8.53594 | Q41: 126.79791 | R41: Rural | S41: A
A42: 35 | B42: Lakawa | C42: Drift | D42: Tuan | E42: 1 | G42: Lakawa | J42: Laiha | K42: Laiha | L42: 10 | M42: 5 | O42: Good | P42: -8.5348 | Q42: 126.79434 | R42: Rural | S42: A
A43: 36 | B43: Lakawa | C43: Drift | D43: Tuan | E43: 1 | G43: Lakawa | J43: Laiha | K43: Laiha | L43: 16 | M43: 5 | O43: Good | P43: -8.533398 | Q43: 126.79373 | R43: Rural | S43: A
A44: 37 | B44: Lakawa | C44: Drift | D44: Tuan | E44: 1 | G44: Lakawa | J44: Laiha | K44: Laiha | L44: 20 | M44: 5 | O44: Good | P44: -8.53115 | Q44: 126.79221 | R44: Rural | S44: A
A45: 38 | B45: Lakawa | C45: Drift | D45: Tuan | E45: 1 | G45: Lakawa | J45: Laiha | K45: Laiha | L45: 12 | M45: 5 | O45: Good | P45: -8.53169 | Q45: 125.77942 | R45: Rural | S45: A
A46: 39 | B46: Lakawa | C46: Drift | D46: Tuan | E46: 1 | G46: Lakawa | J46: Laiha | K46: Laiha | L46: 16 | M46: 5 | O46: Good | P46: -8.53135 | Q46: 126.77772 | R46: Rural | S46: A
A47: 40 | B47: Lakawa | C47: BC | D47: Tuan | E47: 1 | G47: Lakawa | J47: Laiha | K47: Laiha | L47: 2 | M47: 5 | O47: Good | P47: -8.50917 | Q47: 126.78472 | R47: Rural | S47: A
A48: Total Ponte Postu Luro | E48: =SUM(E8:E47) -> 40
D50: Good | E50: =COUNTA(O9,O13:O47) -> 36
D51: Poor | E51: =COUNTA(O8,O10:O12) -> 4
D52: Very Poor | E52: 0

Sheet Postu Tutuala
A1: DADUS PONTE POSTU ADMINISTRATIVO TUTUALA
A2: Nu. | B2: Brige name | C2: Bridge Type | D2: Status | E2: Unit | F2: Water level (m) | G2: Suco | H2: Postu | I2: Municipality | J2: Upstream Protection | K2: Downstream Protection | L2: Bridge | M2: Bridge | N2: Pedestrian | O2: Condition | P2: Cordinate | R2: Road Link | S2: Category | V2: Survey observation | W2: Recommendation
F3: Againts Bridge Deck | J3: (Max.500m) | L3: Length (m) | M3: Width (m) | N3: (m) | P3: Longtitude | Q3: Latitude | S3: A=normal | T3: B=Presiza tau atensaun (Warming) | U3: C=Emergensia atu halo normalizasaun
O4: Good
O6: Poor
O7: Verry Poor
A8: 1 | B8: Serelau | D8: Tuan | E8: 1 | G8: Me'ehara | H8: Tutuala | I8: Lautem | O8: Good | P8: Seidauk foti | R8: Municipal | S8: A
A9: 2 | B9: Cara ver | D9: Tuan | E9: 1 | O9: Poor | R9: Municipal | V9: Abut men a'at
A10: =A9+1 -> 3 | B10: Sorucalu | D10: Tuan | E10: 1 | O10: Good | R10: Municipal | S10: A
A11: =A10+1 -> 4 | B11: Cailor ver | D11: Tuan | E11: 1 | G11: Tutuala | O11: Good | R11: Municipal | S11: A
A12: =A11+1 -> 5 | B12: Cene ver | D12: Tuan | E12: 1 | O12: Good | R12: Municipal | S12: A
A13: Total Ponte Postu Tutuala | E13: =SUM(E8:E12) -> 5
D15: Good | E15: =COUNTA(O8,O10:O12) -> 4
D16: Poor | E16: =COUNTA(O9) -> 1
D17: Very Poor | E17: 0
